Back to Multiple platform build/check report for BioC 3.12 |
|
This page was generated on 2021-05-06 12:26:44 -0400 (Thu, 06 May 2021).
To the developers/maintainers of the aCGH package: Please make sure to use the following settings in order to reproduce any error or warning you see on this page. |
Package 13/1974 | Hostname | OS / Arch | INSTALL | BUILD | CHECK | BUILD BIN | ||||||||
aCGH 1.68.0 (landing page) Peter Dimitrov
| malbec1 | Linux (Ubuntu 18.04.5 LTS) / x86_64 | OK | OK | OK | |||||||||
tokay1 | Windows Server 2012 R2 Standard / x64 | OK | OK | OK | OK | |||||||||
merida1 | macOS 10.14.6 Mojave / x86_64 | OK | OK | OK | OK | |||||||||
Package: aCGH |
Version: 1.68.0 |
Command: /home/biocbuild/bbs-3.12-bioc/R/bin/R CMD check --install=check:aCGH.install-out.txt --library=/home/biocbuild/bbs-3.12-bioc/R/library --no-vignettes --timings aCGH_1.68.0.tar.gz |
StartedAt: 2021-05-05 22:50:16 -0400 (Wed, 05 May 2021) |
EndedAt: 2021-05-05 22:51:45 -0400 (Wed, 05 May 2021) |
EllapsedTime: 89.0 seconds |
RetCode: 0 |
Status: OK |
CheckDir: aCGH.Rcheck |
Warnings: 0 |
############################################################################## ############################################################################## ### ### Running command: ### ### /home/biocbuild/bbs-3.12-bioc/R/bin/R CMD check --install=check:aCGH.install-out.txt --library=/home/biocbuild/bbs-3.12-bioc/R/library --no-vignettes --timings aCGH_1.68.0.tar.gz ### ############################################################################## ############################################################################## * using log directory ‘/home/biocbuild/bbs-3.12-bioc/meat/aCGH.Rcheck’ * using R version 4.0.5 (2021-03-31) * using platform: x86_64-pc-linux-gnu (64-bit) * using session charset: UTF-8 * using option ‘--no-vignettes’ * checking for file ‘aCGH/DESCRIPTION’ ... OK * this is package ‘aCGH’ version ‘1.68.0’ * checking package namespace information ... OK * checking package dependencies ... OK * checking if this is a source package ... OK * checking if there is a namespace ... OK * checking for hidden files and directories ... OK * checking for portable file names ... OK * checking for sufficient/correct file permissions ... OK * checking whether package ‘aCGH’ can be installed ... OK * checking installed package size ... OK * checking package directory ... OK * checking ‘build’ directory ... OK * checking DESCRIPTION meta-information ... OK * checking top-level files ... OK * checking for left-over files ... OK * checking index information ... OK * checking package subdirectories ... OK * checking R files for non-ASCII characters ... OK * checking R files for syntax errors ... OK * checking whether the package can be loaded ... OK * checking whether the package can be loaded with stated dependencies ... OK * checking whether the package can be unloaded cleanly ... OK * checking whether the namespace can be loaded with stated dependencies ... OK * checking whether the namespace can be unloaded cleanly ... OK * checking dependencies in R code ... OK * checking S3 generic/method consistency ... NOTE Found the following apparent S3 methods exported but not registered: row.names.aCGH row.names<-.aCGH subset.hmm subset.hmm.merged See section ‘Registering S3 methods’ in the ‘Writing R Extensions’ manual. * checking replacement functions ... OK * checking foreign function calls ... OK * checking R code for possible problems ... OK * checking Rd files ... OK * checking Rd metadata ... OK * checking Rd cross-references ... OK * checking for missing documentation entries ... OK * checking for code/documentation mismatches ... OK * checking Rd \usage sections ... OK * checking Rd contents ... OK * checking for unstated dependencies in examples ... OK * checking contents of ‘data’ directory ... OK * checking data for non-ASCII characters ... OK * checking data for ASCII and uncompressed saves ... OK * checking line endings in C/C++/Fortran sources/headers ... OK * checking line endings in Makefiles ... OK * checking compilation flags in Makevars ... OK * checking for GNU extensions in Makefiles ... OK * checking for portable use of $(BLAS_LIBS) and $(LAPACK_LIBS) ... OK * checking use of PKG_*FLAGS in Makefiles ... OK * checking compiled code ... NOTE Note: information on .o files is not available * checking files in ‘vignettes’ ... OK * checking examples ... OK * checking for unstated dependencies in vignettes ... OK * checking package vignettes in ‘inst/doc’ ... OK * checking running R code from vignettes ... SKIPPED * checking re-building of vignette outputs ... SKIPPED * checking PDF version of manual ... OK * DONE Status: 2 NOTEs See ‘/home/biocbuild/bbs-3.12-bioc/meat/aCGH.Rcheck/00check.log’ for details.
aCGH.Rcheck/00install.out
############################################################################## ############################################################################## ### ### Running command: ### ### /home/biocbuild/bbs-3.12-bioc/R/bin/R CMD INSTALL aCGH ### ############################################################################## ############################################################################## * installing to library ‘/home/biocbuild/bbs-3.12-bioc/R/library’ * installing *source* package ‘aCGH’ ... ** using staged installation ** libs g++ -std=gnu++11 -I"/home/biocbuild/bbs-3.12-bioc/R/include" -DNDEBUG -DUSEDOUBLE -g3 -I/usr/local/include -fpic -g -O2 -Wall -c hmm.cpp -o hmm.o g++ -std=gnu++11 -shared -L/home/biocbuild/bbs-3.12-bioc/R/lib -L/usr/local/lib -o aCGH.so hmm.o -lm -L/home/biocbuild/bbs-3.12-bioc/R/lib -lR installing to /home/biocbuild/bbs-3.12-bioc/R/library/00LOCK-aCGH/00new/aCGH/libs ** R ** data ** demo ** inst ** byte-compile and prepare package for lazy loading ** help *** installing help indices ** building package indices ** installing vignettes ** testing if installed package can be loaded from temporary location ** checking absolute paths in shared objects and dynamic libraries ** testing if installed package can be loaded from final location ** testing if installed package keeps a record of temporary installation path * DONE (aCGH)
aCGH.Rcheck/aCGH-Ex.timings
name | user | system | elapsed | |
aCGH | 1.960 | 0.036 | 2.057 | |
aCGH.process | 0.040 | 0.000 | 0.042 | |
aCGH.read.Sprocs | 0.264 | 0.000 | 0.301 | |
clusterGenome | 1.404 | 0.064 | 1.471 | |
colorectal | 0.512 | 0.012 | 0.526 | |
fga.func | 0.264 | 0.012 | 0.275 | |
find.hmm.states | 0.640 | 0.032 | 0.676 | |
gainLoss | 0.876 | 0.040 | 0.923 | |
heatmap | 0.488 | 0.012 | 0.502 | |
impute.HMM | 0.768 | 0.000 | 0.766 | |
impute.lowess | 0.088 | 0.016 | 0.105 | |
mergeLevels | 0.160 | 0.008 | 0.167 | |
plotFreqStat | 4.224 | 0.040 | 4.277 | |
plotGenome | 1.528 | 0.020 | 1.676 | |
plotHmmStates | 0.312 | 0.008 | 0.320 | |
plotSummaryProfile | 0.956 | 0.032 | 0.990 | |
summarize.clones | 0.324 | 0.000 | 0.325 | |
threshold.func | 0.216 | 0.008 | 0.227 | |