Back to Multiple platform build/check report for BioC 3.12 |
|
This page was generated on 2021-05-06 12:34:26 -0400 (Thu, 06 May 2021).
To the developers/maintainers of the biocthis package: Please make sure to use the following settings in order to reproduce any error or warning you see on this page. |
Package 172/1974 | Hostname | OS / Arch | INSTALL | BUILD | CHECK | BUILD BIN | ||||||||
biocthis 1.0.10 (landing page) Leonardo Collado-Torres
| malbec1 | Linux (Ubuntu 18.04.5 LTS) / x86_64 | OK | OK | OK | |||||||||
tokay1 | Windows Server 2012 R2 Standard / x64 | OK | OK | OK | OK | |||||||||
merida1 | macOS 10.14.6 Mojave / x86_64 | OK | OK | OK | OK | |||||||||
Package: biocthis |
Version: 1.0.10 |
Command: /Library/Frameworks/R.framework/Versions/Current/Resources/bin/R CMD check --install=check:biocthis.install-out.txt --library=/Library/Frameworks/R.framework/Versions/Current/Resources/library --no-vignettes --timings biocthis_1.0.10.tar.gz |
StartedAt: 2021-05-05 23:41:04 -0400 (Wed, 05 May 2021) |
EndedAt: 2021-05-05 23:41:49 -0400 (Wed, 05 May 2021) |
EllapsedTime: 44.4 seconds |
RetCode: 0 |
Status: OK |
CheckDir: biocthis.Rcheck |
Warnings: 0 |
############################################################################## ############################################################################## ### ### Running command: ### ### /Library/Frameworks/R.framework/Versions/Current/Resources/bin/R CMD check --install=check:biocthis.install-out.txt --library=/Library/Frameworks/R.framework/Versions/Current/Resources/library --no-vignettes --timings biocthis_1.0.10.tar.gz ### ############################################################################## ############################################################################## * using log directory ‘/Users/biocbuild/bbs-3.12-bioc/meat/biocthis.Rcheck’ * using R version 4.0.5 (2021-03-31) * using platform: x86_64-apple-darwin17.0 (64-bit) * using session charset: UTF-8 * using option ‘--no-vignettes’ * checking for file ‘biocthis/DESCRIPTION’ ... OK * this is package ‘biocthis’ version ‘1.0.10’ * package encoding: UTF-8 * checking package namespace information ... OK * checking package dependencies ... OK * checking if this is a source package ... OK * checking if there is a namespace ... OK * checking for hidden files and directories ... OK * checking for portable file names ... OK * checking for sufficient/correct file permissions ... OK * checking whether package ‘biocthis’ can be installed ... OK * checking installed package size ... OK * checking package directory ... OK * checking ‘build’ directory ... OK * checking DESCRIPTION meta-information ... OK * checking top-level files ... OK * checking for left-over files ... OK * checking index information ... OK * checking package subdirectories ... OK * checking R files for non-ASCII characters ... OK * checking R files for syntax errors ... OK * checking whether the package can be loaded ... OK * checking whether the package can be loaded with stated dependencies ... OK * checking whether the package can be unloaded cleanly ... OK * checking whether the namespace can be loaded with stated dependencies ... OK * checking whether the namespace can be unloaded cleanly ... OK * checking dependencies in R code ... NOTE Unexported objects imported by ':::' calls: ‘BiocManager:::.version_map_get_online’ ‘BiocManager:::isDevel’ ‘usethis:::asciify’ ‘usethis:::check_installed’ ‘usethis:::check_vignette_name’ ‘usethis:::create_directory’ ‘usethis:::is_package’ ‘usethis:::package_data’ ‘usethis:::project_name’ ‘usethis:::render_template’ ‘usethis:::target_repo_spec’ ‘usethis:::use_description_field’ ‘usethis:::use_dot_github’ ‘usethis:::uses_git’ See the note in ?`:::` about the use of this operator. * checking S3 generic/method consistency ... OK * checking replacement functions ... OK * checking foreign function calls ... OK * checking R code for possible problems ... OK * checking Rd files ... OK * checking Rd metadata ... OK * checking Rd cross-references ... OK * checking for missing documentation entries ... OK * checking for code/documentation mismatches ... OK * checking Rd \usage sections ... OK * checking Rd contents ... OK * checking for unstated dependencies in examples ... OK * checking files in ‘vignettes’ ... OK * checking examples ... OK * checking for unstated dependencies in ‘tests’ ... OK * checking tests ... Running ‘testthat.R’ OK * checking for unstated dependencies in vignettes ... OK * checking package vignettes in ‘inst/doc’ ... OK * checking running R code from vignettes ... SKIPPED * checking re-building of vignette outputs ... SKIPPED * checking PDF version of manual ... OK * DONE Status: 1 NOTE See ‘/Users/biocbuild/bbs-3.12-bioc/meat/biocthis.Rcheck/00check.log’ for details.
biocthis.Rcheck/00install.out
############################################################################## ############################################################################## ### ### Running command: ### ### /Library/Frameworks/R.framework/Versions/Current/Resources/bin/R CMD INSTALL biocthis ### ############################################################################## ############################################################################## * installing to library ‘/Library/Frameworks/R.framework/Versions/4.0/Resources/library’ * installing *source* package ‘biocthis’ ... ** using staged installation ** R ** inst ** byte-compile and prepare package for lazy loading ** help *** installing help indices ** building package indices ** installing vignettes ** testing if installed package can be loaded from temporary location ** testing if installed package can be loaded from final location ** testing if installed package keeps a record of temporary installation path * DONE (biocthis)
biocthis.Rcheck/tests/testthat.Rout
R version 4.0.5 (2021-03-31) -- "Shake and Throw" Copyright (C) 2021 The R Foundation for Statistical Computing Platform: x86_64-apple-darwin17.0 (64-bit) R is free software and comes with ABSOLUTELY NO WARRANTY. You are welcome to redistribute it under certain conditions. Type 'license()' or 'licence()' for distribution details. R is a collaborative project with many contributors. Type 'contributors()' for more information and 'citation()' on how to cite R or R packages in publications. Type 'demo()' for some demos, 'help()' for on-line help, or 'help.start()' for an HTML browser interface to help. Type 'q()' to quit R. > library(testthat) > library(biocthis) > > test_check("biocthis") [ FAIL 0 | WARN 0 | SKIP 0 | PASS 4 ] > > proc.time() user system elapsed 1.255 0.132 2.061
biocthis.Rcheck/biocthis-Ex.timings
name | user | system | elapsed | |
bioc_style | 0.667 | 0.050 | 0.720 | |
biocthis_example_pkg | 0.085 | 0.005 | 0.091 | |
use_bioc_citation | 0.225 | 0.055 | 0.301 | |
use_bioc_coc | 0.198 | 0.025 | 0.227 | |
use_bioc_description | 0.210 | 0.027 | 0.240 | |
use_bioc_github_action | 0.001 | 0.000 | 0.000 | |
use_bioc_issue_template | 0.143 | 0.009 | 0.153 | |
use_bioc_news_md | 0.123 | 0.007 | 0.130 | |
use_bioc_pkg_templates | 0.249 | 0.016 | 0.266 | |
use_bioc_readme_rmd | 0.263 | 0.018 | 0.283 | |
use_bioc_support | 0.151 | 0.009 | 0.160 | |
use_bioc_vignette | 0.753 | 0.043 | 0.912 | |