Back to Multiple platform build/check report for BioC 3.12 |
|
This page was generated on 2021-05-06 12:31:03 -0400 (Thu, 06 May 2021).
To the developers/maintainers of the ensembldb package: Please make sure to use the following settings in order to reproduce any error or warning you see on this page. |
Package 552/1974 | Hostname | OS / Arch | INSTALL | BUILD | CHECK | BUILD BIN | ||||||||
ensembldb 2.14.1 (landing page) Johannes Rainer
| malbec1 | Linux (Ubuntu 18.04.5 LTS) / x86_64 | OK | OK | OK | |||||||||
tokay1 | Windows Server 2012 R2 Standard / x64 | OK | OK | OK | OK | |||||||||
merida1 | macOS 10.14.6 Mojave / x86_64 | OK | OK | OK | OK | |||||||||
Package: ensembldb |
Version: 2.14.1 |
Command: C:\cygwin\bin\curl.exe -O http://172.29.0.3/BBS/3.12/bioc/src/contrib/ensembldb_2.14.1.tar.gz && rm -rf ensembldb.buildbin-libdir && mkdir ensembldb.buildbin-libdir && C:\Users\biocbuild\bbs-3.12-bioc\R\bin\R.exe CMD INSTALL --merge-multiarch --build --library=ensembldb.buildbin-libdir ensembldb_2.14.1.tar.gz && C:\Users\biocbuild\bbs-3.12-bioc\R\bin\R.exe CMD INSTALL ensembldb_2.14.1.zip && rm ensembldb_2.14.1.tar.gz ensembldb_2.14.1.zip |
StartedAt: 2021-05-05 18:13:09 -0400 (Wed, 05 May 2021) |
EndedAt: 2021-05-05 18:14:50 -0400 (Wed, 05 May 2021) |
EllapsedTime: 101.0 seconds |
RetCode: 0 |
Status: OK |
############################################################################## ############################################################################## ### ### Running command: ### ### C:\cygwin\bin\curl.exe -O http://172.29.0.3/BBS/3.12/bioc/src/contrib/ensembldb_2.14.1.tar.gz && rm -rf ensembldb.buildbin-libdir && mkdir ensembldb.buildbin-libdir && C:\Users\biocbuild\bbs-3.12-bioc\R\bin\R.exe CMD INSTALL --merge-multiarch --build --library=ensembldb.buildbin-libdir ensembldb_2.14.1.tar.gz && C:\Users\biocbuild\bbs-3.12-bioc\R\bin\R.exe CMD INSTALL ensembldb_2.14.1.zip && rm ensembldb_2.14.1.tar.gz ensembldb_2.14.1.zip ### ############################################################################## ############################################################################## % Total % Received % Xferd Average Speed Time Time Time Current Dload Upload Total Spent Left Speed 0 0 0 0 0 0 0 0 --:--:-- --:--:-- --:--:-- 0 100 1219k 100 1219k 0 0 34.2M 0 --:--:-- --:--:-- --:--:-- 35.0M install for i386 * installing *source* package 'ensembldb' ... ** using staged installation ** R ** inst ** byte-compile and prepare package for lazy loading ** help *** installing help indices converting help for package 'ensembldb' finding HTML links ... done Deprecated html EnsDb-AnnotationDbi html EnsDb-class html EnsDb-exonsBy html finding level-2 HTML links ... done EnsDb-lengths html EnsDb-seqlevels html EnsDb-sequences html EnsDb-utils html EnsDb html Filter-classes html ProteinFunctionality html cdsToTranscript html convertFilter html genomeToProtein html genomeToTranscript html global-filters html hasProteinData-EnsDb-method html listEnsDbs html makeEnsemblDbPackage html proteinToGenome html proteinToTranscript html runEnsDbApp html transcriptToCds html transcriptToGenome html transcriptToProtein html useMySQL-EnsDb-method html ** building package indices ** installing vignettes ** testing if installed package can be loaded from temporary location ** testing if installed package can be loaded from final location ** testing if installed package keeps a record of temporary installation path install for x64 * installing *source* package 'ensembldb' ... ** testing if installed package can be loaded * MD5 sums packaged installation of 'ensembldb' as ensembldb_2.14.1.zip * DONE (ensembldb) * installing to library 'C:/Users/biocbuild/bbs-3.12-bioc/R/library' package 'ensembldb' successfully unpacked and MD5 sums checked