Back to Multiple platform build/check report for BioC 3.12 |
|
This page was generated on 2021-05-06 12:31:04 -0400 (Thu, 06 May 2021).
To the developers/maintainers of the escape package: Please make sure to use the following settings in order to reproduce any error or warning you see on this page. |
Package 569/1974 | Hostname | OS / Arch | INSTALL | BUILD | CHECK | BUILD BIN | ||||||||
escape 1.0.1 (landing page) Nick Borcherding
| malbec1 | Linux (Ubuntu 18.04.5 LTS) / x86_64 | OK | ERROR | skipped | |||||||||
tokay1 | Windows Server 2012 R2 Standard / x64 | OK | ERROR | skipped | skipped | |||||||||
merida1 | macOS 10.14.6 Mojave / x86_64 | OK | ERROR | skipped | skipped | |||||||||
Package: escape |
Version: 1.0.1 |
Command: C:\cygwin\bin\curl.exe -O http://172.29.0.3/BBS/3.12/bioc/src/contrib/escape_1.0.1.tar.gz && rm -rf escape.buildbin-libdir && mkdir escape.buildbin-libdir && C:\Users\biocbuild\bbs-3.12-bioc\R\bin\R.exe CMD INSTALL --merge-multiarch --build --library=escape.buildbin-libdir escape_1.0.1.tar.gz && C:\Users\biocbuild\bbs-3.12-bioc\R\bin\R.exe CMD INSTALL escape_1.0.1.zip && rm escape_1.0.1.tar.gz escape_1.0.1.zip |
StartedAt: 2021-05-05 18:07:36 -0400 (Wed, 05 May 2021) |
EndedAt: 2021-05-05 18:09:03 -0400 (Wed, 05 May 2021) |
EllapsedTime: 87.5 seconds |
RetCode: 0 |
Status: OK |
############################################################################## ############################################################################## ### ### Running command: ### ### C:\cygwin\bin\curl.exe -O http://172.29.0.3/BBS/3.12/bioc/src/contrib/escape_1.0.1.tar.gz && rm -rf escape.buildbin-libdir && mkdir escape.buildbin-libdir && C:\Users\biocbuild\bbs-3.12-bioc\R\bin\R.exe CMD INSTALL --merge-multiarch --build --library=escape.buildbin-libdir escape_1.0.1.tar.gz && C:\Users\biocbuild\bbs-3.12-bioc\R\bin\R.exe CMD INSTALL escape_1.0.1.zip && rm escape_1.0.1.tar.gz escape_1.0.1.zip ### ############################################################################## ############################################################################## % Total % Received % Xferd Average Speed Time Time Time Current Dload Upload Total Spent Left Speed 0 0 0 0 0 0 0 0 --:--:-- --:--:-- --:--:-- 0 100 14255 100 14255 0 0 336k 0 --:--:-- --:--:-- --:--:-- 348k install for i386 * installing *source* package 'escape' ... ** using staged installation ** R ** byte-compile and prepare package for lazy loading ** help *** installing help indices converting help for package 'escape' finding HTML links ... done enrichIt html getGeneSets html getSignificance html masterPCAPlot html pcaEnrichment html performPCA html ridgeEnrichment html splitEnrichment html ** building package indices ** installing vignettes ** testing if installed package can be loaded from temporary location ** testing if installed package can be loaded from final location ** testing if installed package keeps a record of temporary installation path install for x64 * installing *source* package 'escape' ... ** testing if installed package can be loaded * MD5 sums packaged installation of 'escape' as escape_1.0.1.zip * DONE (escape) * installing to library 'C:/Users/biocbuild/bbs-3.12-bioc/R/library' package 'escape' successfully unpacked and MD5 sums checked