Back to Multiple platform build/check report for BioC 3.12 |
|
This page was generated on 2021-05-06 12:31:22 -0400 (Thu, 06 May 2021).
To the developers/maintainers of the frma package: Please make sure to use the following settings in order to reproduce any error or warning you see on this page. |
Package 650/1974 | Hostname | OS / Arch | INSTALL | BUILD | CHECK | BUILD BIN | ||||||||
frma 1.42.0 (landing page) Matthew N. McCall
| malbec1 | Linux (Ubuntu 18.04.5 LTS) / x86_64 | OK | OK | OK | |||||||||
tokay1 | Windows Server 2012 R2 Standard / x64 | OK | OK | OK | OK | |||||||||
merida1 | macOS 10.14.6 Mojave / x86_64 | OK | OK | OK | OK | |||||||||
Package: frma |
Version: 1.42.0 |
Command: C:\Users\biocbuild\bbs-3.12-bioc\R\bin\R.exe CMD check --force-multiarch --install=check:frma.install-out.txt --library=C:\Users\biocbuild\bbs-3.12-bioc\R\library --no-vignettes --timings frma_1.42.0.tar.gz |
StartedAt: 2021-05-06 02:55:26 -0400 (Thu, 06 May 2021) |
EndedAt: 2021-05-06 03:01:03 -0400 (Thu, 06 May 2021) |
EllapsedTime: 337.5 seconds |
RetCode: 0 |
Status: OK |
CheckDir: frma.Rcheck |
Warnings: 0 |
############################################################################## ############################################################################## ### ### Running command: ### ### C:\Users\biocbuild\bbs-3.12-bioc\R\bin\R.exe CMD check --force-multiarch --install=check:frma.install-out.txt --library=C:\Users\biocbuild\bbs-3.12-bioc\R\library --no-vignettes --timings frma_1.42.0.tar.gz ### ############################################################################## ############################################################################## * using log directory 'C:/Users/biocbuild/bbs-3.12-bioc/meat/frma.Rcheck' * using R version 4.0.5 (2021-03-31) * using platform: x86_64-w64-mingw32 (64-bit) * using session charset: ISO8859-1 * using option '--no-vignettes' * checking for file 'frma/DESCRIPTION' ... OK * this is package 'frma' version '1.42.0' * checking package namespace information ... OK * checking package dependencies ... OK * checking if this is a source package ... OK * checking if there is a namespace ... OK * checking for hidden files and directories ... OK * checking for portable file names ... OK * checking whether package 'frma' can be installed ... OK * checking installed package size ... OK * checking package directory ... OK * checking 'build' directory ... OK * checking DESCRIPTION meta-information ... NOTE Package listed in more than one of Depends, Imports, Suggests, Enhances: 'Biobase' A package should be listed in only one of these fields. * checking top-level files ... OK * checking for left-over files ... OK * checking index information ... OK * checking package subdirectories ... OK * checking R files for non-ASCII characters ... OK * checking R files for syntax errors ... OK * loading checks for arch 'i386' ** checking whether the package can be loaded ... OK ** checking whether the package can be loaded with stated dependencies ... OK ** checking whether the package can be unloaded cleanly ... OK ** checking whether the namespace can be loaded with stated dependencies ... OK ** checking whether the namespace can be unloaded cleanly ... OK * loading checks for arch 'x64' ** checking whether the package can be loaded ... OK ** checking whether the package can be loaded with stated dependencies ... OK ** checking whether the package can be unloaded cleanly ... OK ** checking whether the namespace can be loaded with stated dependencies ... OK ** checking whether the namespace can be unloaded cleanly ... OK * checking dependencies in R code ... OK * checking S3 generic/method consistency ... OK * checking replacement functions ... OK * checking foreign function calls ... OK * checking R code for possible problems ... NOTE GNUSE: no visible binding for global variable 'median' GNUSE: no visible binding for global variable 'quantile' GNUSE: no visible global function definition for 'boxplot' barcode: no visible global function definition for 'pnorm' batchFit: no visible global function definition for 'median' coerce<-,frmaExpressionSet-ExpressionSet: no visible global function definition for 'slot<-' coerce<-,frmaExpressionSet-ExpressionSet: no visible global function definition for 'slot' randomeffects<-,frmaExpressionSet: no visible global function definition for 'validObject' residuals<-,frmaExpressionSet: no visible global function definition for 'validObject' se.exprs<-,ExpressionSet: no visible global function definition for 'validObject' se.exprs<-,frmaExpressionSet: no visible global function definition for 'validObject' weights<-,frmaExpressionSet: no visible global function definition for 'validObject' Undefined global functions or variables: boxplot median pnorm quantile slot slot<- validObject Consider adding importFrom("graphics", "boxplot") importFrom("methods", "slot", "slot<-", "validObject") importFrom("stats", "median", "pnorm", "quantile") to your NAMESPACE file (and ensure that your DESCRIPTION Imports field contains 'methods'). * checking Rd files ... OK * checking Rd metadata ... OK * checking Rd cross-references ... OK * checking for missing documentation entries ... OK * checking for code/documentation mismatches ... OK * checking Rd \usage sections ... OK * checking Rd contents ... OK * checking for unstated dependencies in examples ... OK * checking files in 'vignettes' ... OK * checking examples ... ** running examples for arch 'i386' ... OK Examples with CPU (user + system) or elapsed time > 5s user system elapsed GNUSE 15.99 0.59 20.67 barcode 12.82 0.28 13.31 frma 10.21 2.03 12.24 ** running examples for arch 'x64' ... OK Examples with CPU (user + system) or elapsed time > 5s user system elapsed GNUSE 15.59 1.48 17.24 frma 12.80 0.11 12.91 barcode 11.11 0.17 11.28 * checking for unstated dependencies in vignettes ... OK * checking package vignettes in 'inst/doc' ... OK * checking running R code from vignettes ... SKIPPED * checking re-building of vignette outputs ... SKIPPED * checking PDF version of manual ... OK * DONE Status: 2 NOTEs See 'C:/Users/biocbuild/bbs-3.12-bioc/meat/frma.Rcheck/00check.log' for details.
frma.Rcheck/00install.out
############################################################################## ############################################################################## ### ### Running command: ### ### C:\cygwin\bin\curl.exe -O http://172.29.0.3/BBS/3.12/bioc/src/contrib/frma_1.42.0.tar.gz && rm -rf frma.buildbin-libdir && mkdir frma.buildbin-libdir && C:\Users\biocbuild\bbs-3.12-bioc\R\bin\R.exe CMD INSTALL --merge-multiarch --build --library=frma.buildbin-libdir frma_1.42.0.tar.gz && C:\Users\biocbuild\bbs-3.12-bioc\R\bin\R.exe CMD INSTALL frma_1.42.0.zip && rm frma_1.42.0.tar.gz frma_1.42.0.zip ### ############################################################################## ############################################################################## % Total % Received % Xferd Average Speed Time Time Time Current Dload Upload Total Spent Left Speed 0 0 0 0 0 0 0 0 --:--:-- --:--:-- --:--:-- 0 100 16107 100 16107 0 0 838k 0 --:--:-- --:--:-- --:--:-- 873k install for i386 * installing *source* package 'frma' ... ** using staged installation ** R ** inst ** byte-compile and prepare package for lazy loading ** help *** installing help indices converting help for package 'frma' finding HTML links ... done GNUSE html barcode html frma html frmaExpressionSet-class html ** building package indices ** installing vignettes ** testing if installed package can be loaded from temporary location ** testing if installed package can be loaded from final location ** testing if installed package keeps a record of temporary installation path install for x64 * installing *source* package 'frma' ... ** testing if installed package can be loaded * MD5 sums packaged installation of 'frma' as frma_1.42.0.zip * DONE (frma) * installing to library 'C:/Users/biocbuild/bbs-3.12-bioc/R/library' package 'frma' successfully unpacked and MD5 sums checked
frma.Rcheck/examples_i386/frma-Ex.timings
|
frma.Rcheck/examples_x64/frma-Ex.timings
|