Back to Multiple platform build/check report for BioC 3.12 |
|
This page was generated on 2021-05-06 12:27:40 -0400 (Thu, 06 May 2021).
To the developers/maintainers of the gCrisprTools package: Please make sure to use the following settings in order to reproduce any error or warning you see on this page. |
Package 669/1974 | Hostname | OS / Arch | INSTALL | BUILD | CHECK | BUILD BIN | ||||||||
gCrisprTools 1.18.0 (landing page) Russell Bainer
| malbec1 | Linux (Ubuntu 18.04.5 LTS) / x86_64 | OK | OK | WARNINGS | ![]() | ||||||||
tokay1 | Windows Server 2012 R2 Standard / x64 | OK | OK | WARNINGS | OK | ![]() | ||||||||
merida1 | macOS 10.14.6 Mojave / x86_64 | OK | OK | WARNINGS | OK | ![]() | ||||||||
Package: gCrisprTools |
Version: 1.18.0 |
Command: /home/biocbuild/bbs-3.12-bioc/R/bin/R CMD build --keep-empty-dirs --no-resave-data gCrisprTools |
StartedAt: 2021-05-05 19:09:33 -0400 (Wed, 05 May 2021) |
EndedAt: 2021-05-05 19:10:41 -0400 (Wed, 05 May 2021) |
EllapsedTime: 68.4 seconds |
RetCode: 0 |
Status: OK |
PackageFile: gCrisprTools_1.18.0.tar.gz |
PackageFileSize: 8.161 MiB |
############################################################################## ############################################################################## ### ### Running command: ### ### /home/biocbuild/bbs-3.12-bioc/R/bin/R CMD build --keep-empty-dirs --no-resave-data gCrisprTools ### ############################################################################## ############################################################################## * checking for file ‘gCrisprTools/DESCRIPTION’ ... OK * preparing ‘gCrisprTools’: * checking DESCRIPTION meta-information ... OK * installing the package to build vignettes * creating vignettes ... OK Warning: ‘inst/doc’ files ‘Crispr_example_workflow.html’, ‘gCrisprTools_Vignette.html’ ignored as vignettes have been rebuilt. Run R CMD build with --no-build-vignettes to prevent rebuilding. * checking for LF line-endings in source and make files and shell scripts * checking for empty or unneeded directories * looking to see if a ‘data/datalist’ file should be added * building ‘gCrisprTools_1.18.0.tar.gz’