Back to Multiple platform build/check report for BioC 3.12 |
|
This page was generated on 2021-05-06 12:31:25 -0400 (Thu, 06 May 2021).
To the developers/maintainers of the genefu package: Please make sure to use the following settings in order to reproduce any error or warning you see on this page. |
Package 688/1974 | Hostname | OS / Arch | INSTALL | BUILD | CHECK | BUILD BIN | ||||||||
genefu 2.22.1 (landing page) Benjamin Haibe-Kains
| malbec1 | Linux (Ubuntu 18.04.5 LTS) / x86_64 | OK | OK | OK | |||||||||
tokay1 | Windows Server 2012 R2 Standard / x64 | OK | OK | WARNINGS | OK | |||||||||
merida1 | macOS 10.14.6 Mojave / x86_64 | OK | OK | OK | OK | |||||||||
Package: genefu |
Version: 2.22.1 |
Command: chmod a+r genefu -R && C:\Users\biocbuild\bbs-3.12-bioc\R\bin\R.exe CMD build --keep-empty-dirs --no-resave-data genefu |
StartedAt: 2021-05-05 21:10:00 -0400 (Wed, 05 May 2021) |
EndedAt: 2021-05-05 21:11:59 -0400 (Wed, 05 May 2021) |
EllapsedTime: 119.1 seconds |
RetCode: 0 |
Status: OK |
PackageFile: genefu_2.22.1.tar.gz |
PackageFileSize: 4.891 MiB |
############################################################################## ############################################################################## ### ### Running command: ### ### chmod a+r genefu -R && C:\Users\biocbuild\bbs-3.12-bioc\R\bin\R.exe CMD build --keep-empty-dirs --no-resave-data genefu ### ############################################################################## ############################################################################## * checking for file 'genefu/DESCRIPTION' ... OK * preparing 'genefu': * checking DESCRIPTION meta-information ... OK * installing the package to process help pages * building the PDF package manual Hmm ... looks like a package Converting Rd files to LaTeX ....... Creating pdf output from LaTeX ... Saving output to 'C:/Users/biocbuild/bbs-3.12-bioc/tmpdir/RtmpwZQR5L/Rbuild23f04c74e94/genefu/build/genefu.pdf' ... Done * creating vignettes ... OK * checking for LF line-endings in source and make files and shell scripts * checking for empty or unneeded directories * building 'genefu_2.22.1.tar.gz'