Back to Multiple platform build/check report for BioC 3.12 |
|
This page was generated on 2021-05-06 12:35:35 -0400 (Thu, 06 May 2021).
To the developers/maintainers of the mAPKL package: Please make sure to use the following settings in order to reproduce any error or warning you see on this page. |
Package 997/1974 | Hostname | OS / Arch | INSTALL | BUILD | CHECK | BUILD BIN | ||||||||
mAPKL 1.20.0 (landing page) Argiris Sakellariou
| malbec1 | Linux (Ubuntu 18.04.5 LTS) / x86_64 | OK | OK | OK | |||||||||
tokay1 | Windows Server 2012 R2 Standard / x64 | OK | OK | OK | OK | |||||||||
merida1 | macOS 10.14.6 Mojave / x86_64 | ERROR | ERROR | skipped | skipped | |||||||||
Package: mAPKL |
Version: 1.20.0 |
Command: /Library/Frameworks/R.framework/Versions/Current/Resources/bin/R CMD build --keep-empty-dirs --no-resave-data mAPKL |
StartedAt: 2021-05-05 20:25:49 -0400 (Wed, 05 May 2021) |
EndedAt: 2021-05-05 20:26:01 -0400 (Wed, 05 May 2021) |
EllapsedTime: 11.7 seconds |
RetCode: 1 |
Status: ERROR |
PackageFile: None |
PackageFileSize: NA |
############################################################################## ############################################################################## ### ### Running command: ### ### /Library/Frameworks/R.framework/Versions/Current/Resources/bin/R CMD build --keep-empty-dirs --no-resave-data mAPKL ### ############################################################################## ############################################################################## * checking for file ‘mAPKL/DESCRIPTION’ ... OK * preparing ‘mAPKL’: * checking DESCRIPTION meta-information ... OK * installing the package to build vignettes ----------------------------------- * installing *source* package ‘mAPKL’ ... ** using staged installation ** R ** inst ** byte-compile and prepare package for lazy loading ERROR: lazy loading failed for package ‘mAPKL’ * removing ‘/private/tmp/RtmpRoitw7/Rinst59c912c3ab3a/mAPKL’ ----------------------------------- ERROR: package installation failed