Back to Multiple platform build/check report for BioC 3.12 |
|
This page was generated on 2021-05-06 12:28:42 -0400 (Thu, 06 May 2021).
To the developers/maintainers of the qsea package: Please make sure to use the following settings in order to reproduce any error or warning you see on this page. |
Package 1429/1974 | Hostname | OS / Arch | INSTALL | BUILD | CHECK | BUILD BIN | ||||||||
qsea 1.16.0 (landing page) Matthias Lienhard
| malbec1 | Linux (Ubuntu 18.04.5 LTS) / x86_64 | OK | OK | OK | |||||||||
tokay1 | Windows Server 2012 R2 Standard / x64 | OK | OK | OK | OK | |||||||||
merida1 | macOS 10.14.6 Mojave / x86_64 | OK | OK | OK | OK | |||||||||
Package: qsea |
Version: 1.16.0 |
Command: /home/biocbuild/bbs-3.12-bioc/R/bin/R CMD INSTALL qsea |
StartedAt: 2021-05-05 16:37:41 -0400 (Wed, 05 May 2021) |
EndedAt: 2021-05-05 16:38:13 -0400 (Wed, 05 May 2021) |
EllapsedTime: 32.2 seconds |
RetCode: 0 |
Status: OK |
############################################################################## ############################################################################## ### ### Running command: ### ### /home/biocbuild/bbs-3.12-bioc/R/bin/R CMD INSTALL qsea ### ############################################################################## ############################################################################## * installing to library ‘/home/biocbuild/bbs-3.12-bioc/R/library’ * installing *source* package ‘qsea’ ... ** using staged installation ** libs gcc -I"/home/biocbuild/bbs-3.12-bioc/R/include" -DNDEBUG -I/usr/local/include -fpic -g -O2 -Wall -c lm.c -o lm.o gcc -shared -L/home/biocbuild/bbs-3.12-bioc/R/lib -L/usr/local/lib -o qsea.so lm.o -L/home/biocbuild/bbs-3.12-bioc/R/lib -lR installing to /home/biocbuild/bbs-3.12-bioc/R/library/00LOCK-qsea/00new/qsea/libs ** R ** inst ** preparing package for lazy loading No methods found in package ‘IRanges’ for request: ‘values’ when loading ‘qsea’ ** help *** installing help indices ** building package indices ** installing vignettes ** testing if installed package can be loaded from temporary location No methods found in package ‘IRanges’ for request: ‘values’ when loading ‘qsea’ ** checking absolute paths in shared objects and dynamic libraries ** testing if installed package can be loaded from final location No methods found in package ‘IRanges’ for request: ‘values’ when loading ‘qsea’ ** testing if installed package keeps a record of temporary installation path * DONE (qsea)