Back to Multiple platform build/check report for BioC 3.12 |
|
This page was generated on 2021-05-06 12:33:20 -0400 (Thu, 06 May 2021).
To the developers/maintainers of the roar package: Please make sure to use the following settings in order to reproduce any error or warning you see on this page. |
Package 1562/1974 | Hostname | OS / Arch | INSTALL | BUILD | CHECK | BUILD BIN | ||||||||
roar 1.26.0 (landing page) Elena Grassi
| malbec1 | Linux (Ubuntu 18.04.5 LTS) / x86_64 | OK | OK | OK | |||||||||
tokay1 | Windows Server 2012 R2 Standard / x64 | OK | OK | OK | OK | |||||||||
merida1 | macOS 10.14.6 Mojave / x86_64 | OK | OK | OK | OK | |||||||||
Package: roar |
Version: 1.26.0 |
Command: C:\cygwin\bin\curl.exe -O http://172.29.0.3/BBS/3.12/bioc/src/contrib/roar_1.26.0.tar.gz && rm -rf roar.buildbin-libdir && mkdir roar.buildbin-libdir && C:\Users\biocbuild\bbs-3.12-bioc\R\bin\R.exe CMD INSTALL --merge-multiarch --build --library=roar.buildbin-libdir roar_1.26.0.tar.gz && C:\Users\biocbuild\bbs-3.12-bioc\R\bin\R.exe CMD INSTALL roar_1.26.0.zip && rm roar_1.26.0.tar.gz roar_1.26.0.zip |
StartedAt: 2021-05-05 17:57:07 -0400 (Wed, 05 May 2021) |
EndedAt: 2021-05-05 17:58:30 -0400 (Wed, 05 May 2021) |
EllapsedTime: 82.9 seconds |
RetCode: 0 |
Status: OK |
############################################################################## ############################################################################## ### ### Running command: ### ### C:\cygwin\bin\curl.exe -O http://172.29.0.3/BBS/3.12/bioc/src/contrib/roar_1.26.0.tar.gz && rm -rf roar.buildbin-libdir && mkdir roar.buildbin-libdir && C:\Users\biocbuild\bbs-3.12-bioc\R\bin\R.exe CMD INSTALL --merge-multiarch --build --library=roar.buildbin-libdir roar_1.26.0.tar.gz && C:\Users\biocbuild\bbs-3.12-bioc\R\bin\R.exe CMD INSTALL roar_1.26.0.zip && rm roar_1.26.0.tar.gz roar_1.26.0.zip ### ############################################################################## ############################################################################## % Total % Received % Xferd Average Speed Time Time Time Current Dload Upload Total Spent Left Speed 0 0 0 0 0 0 0 0 --:--:-- --:--:-- --:--:-- 0 100 529k 100 529k 0 0 2850k 0 --:--:-- --:--:-- --:--:-- 2875k install for i386 * installing *source* package 'roar' ... ** using staged installation ** R ** inst ** byte-compile and prepare package for lazy loading ** help *** installing help indices converting help for package 'roar' finding HTML links ... done RoarDataset-class html finding level-2 HTML links ... done RoarDataset-constructor html RoarDatasetFromFiles-constructor html RoarDatasetMultipleAPA-class html RoarDatasetMultipleAPA-constructor html RoarDatasetMultipleAPAFromFiles-constructor html checkStep-method html combineFisherMethod-method html computePairedPvals-method html computePvals-method html computeRoars-method html cores-method html countPrePost-method html countResults-method html fpkmResults-method html getFisher-method html meanAcrossAssays-method html pvalueCorrectFilter-method html pvalueFilter-method html roar-package html standardFilter-method html totalResults-method html ** building package indices ** installing vignettes ** testing if installed package can be loaded from temporary location ** testing if installed package can be loaded from final location ** testing if installed package keeps a record of temporary installation path install for x64 * installing *source* package 'roar' ... ** testing if installed package can be loaded * MD5 sums packaged installation of 'roar' as roar_1.26.0.zip * DONE (roar) * installing to library 'C:/Users/biocbuild/bbs-3.12-bioc/R/library' package 'roar' successfully unpacked and MD5 sums checked