Back to Multiple platform build/check report for BioC 3.12 |
|
This page was generated on 2021-05-06 12:26:59 -0400 (Thu, 06 May 2021).
To the developers/maintainers of the BiocParallel package: Please make sure to use the following settings in order to reproduce any error or warning you see on this page. |
Package 166/1974 | Hostname | OS / Arch | INSTALL | BUILD | CHECK | BUILD BIN | ||||||||
BiocParallel 1.24.1 (landing page) Bioconductor Package Maintainer
| malbec1 | Linux (Ubuntu 18.04.5 LTS) / x86_64 | OK | OK | OK | ![]() | ||||||||
tokay1 | Windows Server 2012 R2 Standard / x64 | OK | OK | OK | OK | ![]() | ||||||||
merida1 | macOS 10.14.6 Mojave / x86_64 | OK | OK | OK | OK | ![]() | ||||||||
Package: BiocParallel |
Version: 1.24.1 |
Command: /home/biocbuild/bbs-3.12-bioc/R/bin/R CMD check --install=check:BiocParallel.install-out.txt --library=/home/biocbuild/bbs-3.12-bioc/R/library --no-vignettes --timings BiocParallel_1.24.1.tar.gz |
StartedAt: 2021-05-05 23:27:20 -0400 (Wed, 05 May 2021) |
EndedAt: 2021-05-05 23:33:23 -0400 (Wed, 05 May 2021) |
EllapsedTime: 362.9 seconds |
RetCode: 0 |
Status: OK |
CheckDir: BiocParallel.Rcheck |
Warnings: 0 |
############################################################################## ############################################################################## ### ### Running command: ### ### /home/biocbuild/bbs-3.12-bioc/R/bin/R CMD check --install=check:BiocParallel.install-out.txt --library=/home/biocbuild/bbs-3.12-bioc/R/library --no-vignettes --timings BiocParallel_1.24.1.tar.gz ### ############################################################################## ############################################################################## * using log directory ‘/home/biocbuild/bbs-3.12-bioc/meat/BiocParallel.Rcheck’ * using R version 4.0.5 (2021-03-31) * using platform: x86_64-pc-linux-gnu (64-bit) * using session charset: UTF-8 * using option ‘--no-vignettes’ * checking for file ‘BiocParallel/DESCRIPTION’ ... OK * checking extension type ... Package * this is package ‘BiocParallel’ version ‘1.24.1’ * checking package namespace information ... OK * checking package dependencies ... OK * checking if this is a source package ... OK * checking if there is a namespace ... OK * checking for hidden files and directories ... OK * checking for portable file names ... OK * checking for sufficient/correct file permissions ... OK * checking whether package ‘BiocParallel’ can be installed ... OK * checking installed package size ... OK * checking package directory ... OK * checking ‘build’ directory ... OK * checking DESCRIPTION meta-information ... OK * checking top-level files ... OK * checking for left-over files ... OK * checking index information ... OK * checking package subdirectories ... OK * checking R files for non-ASCII characters ... OK * checking R files for syntax errors ... OK * checking whether the package can be loaded ... OK * checking whether the package can be loaded with stated dependencies ... OK * checking whether the package can be unloaded cleanly ... OK * checking whether the namespace can be loaded with stated dependencies ... OK * checking whether the namespace can be unloaded cleanly ... OK * checking dependencies in R code ... NOTE -------------------------------------------------------------------------- [[196,1],0]: A high-performance Open MPI point-to-point messaging module was unable to find any relevant network interfaces: Module: OpenFabrics (openib) Host: malbec1 Another transport will be used instead, although this may result in lower performance. NOTE: You can disable this warning by setting the MCA parameter btl_base_warn_component_unused to 0. -------------------------------------------------------------------------- Unexported objects imported by ':::' calls: ‘parallel:::closeNode’ ‘parallel:::recvData’ ‘parallel:::recvOneData’ ‘parallel:::sendData’ See the note in ?`:::` about the use of this operator. * checking S3 generic/method consistency ... OK * checking replacement functions ... OK * checking foreign function calls ... OK * checking R code for possible problems ... OK * checking Rd files ... OK * checking Rd metadata ... OK * checking Rd cross-references ... OK * checking for missing documentation entries ... OK * checking for code/documentation mismatches ... OK * checking Rd \usage sections ... OK * checking Rd contents ... OK * checking for unstated dependencies in examples ... OK * checking line endings in shell scripts ... OK * checking line endings in C/C++/Fortran sources/headers ... OK * checking line endings in Makefiles ... OK * checking compilation flags in Makevars ... OK * checking for GNU extensions in Makefiles ... OK * checking for portable use of $(BLAS_LIBS) and $(LAPACK_LIBS) ... OK * checking use of PKG_*FLAGS in Makefiles ... OK * checking compiled code ... NOTE Note: information on .o files is not available * checking files in ‘vignettes’ ... OK * checking examples ... OK Examples with CPU (user + system) or elapsed time > 5s user system elapsed bpvalidate 5.220 0.140 5.371 BatchtoolsParam-class 2.972 0.608 10.976 SnowParam-class 0.956 0.144 6.708 * checking for unstated dependencies in ‘tests’ ... OK * checking tests ... Running ‘test.R’ OK * checking for unstated dependencies in vignettes ... OK * checking package vignettes in ‘inst/doc’ ... OK * checking running R code from vignettes ... SKIPPED * checking re-building of vignette outputs ... SKIPPED * checking PDF version of manual ... OK * DONE Status: 2 NOTEs See ‘/home/biocbuild/bbs-3.12-bioc/meat/BiocParallel.Rcheck/00check.log’ for details.
BiocParallel.Rcheck/00install.out
############################################################################## ############################################################################## ### ### Running command: ### ### /home/biocbuild/bbs-3.12-bioc/R/bin/R CMD INSTALL BiocParallel ### ############################################################################## ############################################################################## * installing to library ‘/home/biocbuild/bbs-3.12-bioc/R/library’ * installing *source* package ‘BiocParallel’ ... ** using staged installation checking for gcc... gcc checking whether the C compiler works... yes checking for C compiler default output file name... a.out checking for suffix of executables... checking whether we are cross compiling... no checking for suffix of object files... o checking whether we are using the GNU C compiler... yes checking whether gcc accepts -g... yes checking for gcc option to accept ISO C89... none needed checking for shm_open in -lrt... yes configure: creating ./config.status config.status: creating src/Makevars ** libs g++ -std=gnu++11 -I"/home/biocbuild/bbs-3.12-bioc/R/include" -DNDEBUG -I'/home/biocbuild/bbs-3.12-bioc/R/library/BH/include' -I/usr/local/include -fpic -g -O2 -Wall -c ipcmutex.cpp -o ipcmutex.o g++ -std=gnu++11 -shared -L/home/biocbuild/bbs-3.12-bioc/R/lib -L/usr/local/lib -o BiocParallel.so ipcmutex.o -lrt -L/home/biocbuild/bbs-3.12-bioc/R/lib -lR installing to /home/biocbuild/bbs-3.12-bioc/R/library/00LOCK-BiocParallel/00new/BiocParallel/libs ** R ** inst ** byte-compile and prepare package for lazy loading ** help *** installing help indices ** building package indices ** installing vignettes ** testing if installed package can be loaded from temporary location ** checking absolute paths in shared objects and dynamic libraries ** testing if installed package can be loaded from final location ** testing if installed package keeps a record of temporary installation path * DONE (BiocParallel)
BiocParallel.Rcheck/tests/test.Rout
R version 4.0.5 (2021-03-31) -- "Shake and Throw" Copyright (C) 2021 The R Foundation for Statistical Computing Platform: x86_64-pc-linux-gnu (64-bit) R is free software and comes with ABSOLUTELY NO WARRANTY. You are welcome to redistribute it under certain conditions. Type 'license()' or 'licence()' for distribution details. R is a collaborative project with many contributors. Type 'contributors()' for more information and 'citation()' on how to cite R or R packages in publications. Type 'demo()' for some demos, 'help()' for on-line help, or 'help.start()' for an HTML browser interface to help. Type 'q()' to quit R. > BiocGenerics:::testPackage("BiocParallel") Submitting 5 jobs in 4 chunks using cluster functions 'Multicore' ... Submitting 5 jobs in 4 chunks using cluster functions 'Socket' ... Submitting 5 jobs in 4 chunks using cluster functions 'Socket' ... > > > > > > > > Submitting 5 jobs in 4 chunks using cluster functions 'Multicore' ... > > > > > > > > Timing stopped at: 0 0 0 Error in DEACTIVATED("MPI tests not run") : MPI tests not run -------------------------------------------------------------------------- [[30865,1],0]: A high-performance Open MPI point-to-point messaging module was unable to find any relevant network interfaces: Module: OpenFabrics (openib) Host: malbec1 Another transport will be used instead, although this may result in lower performance. NOTE: You can disable this warning by setting the MCA parameter btl_base_warn_component_unused to 0. -------------------------------------------------------------------------- Timing stopped at: 0.028 0.02 0.507 Error in DEACTIVATED("MPI tests not run") : MPI tests not run > > RUNIT TEST PROTOCOL -- Wed May 5 23:33:18 2021 *********************************************** Number of test functions: 75 Number of deactivated test functions: 2 Number of errors: 0 Number of failures: 0 1 Test Suite : BiocParallel RUnit Tests - 75 test functions, 0 errors, 0 failures Number of test functions: 75 Number of deactivated test functions: 2 Number of errors: 0 Number of failures: 0 > > proc.time() user system elapsed 85.848 8.568 292.928
BiocParallel.Rcheck/BiocParallel-Ex.timings
name | user | system | elapsed | |
BatchJobsParam-class | 4.664 | 0.056 | 4.733 | |
BatchtoolsParam-class | 2.972 | 0.608 | 10.976 | |
BiocParallelParam-class | 0.000 | 0.000 | 0.002 | |
DeveloperInterface | 0 | 0 | 0 | |
DoparParam-class | 0 | 0 | 0 | |
MulticoreParam-class | 1.024 | 0.420 | 2.829 | |
SerialParam-class | 0.096 | 0.008 | 0.083 | |
SnowParam-class | 0.956 | 0.144 | 6.708 | |
bpaggregate | 0.004 | 0.000 | 0.003 | |
bpiterate | 0 | 0 | 0 | |
bplapply | 0.392 | 0.072 | 0.701 | |
bploop | 0 | 0 | 0 | |
bpmapply | 0.292 | 0.060 | 0.340 | |
bpok | 0.416 | 0.080 | 2.925 | |
bpschedule | 0.296 | 0.068 | 0.381 | |
bptry | 0.076 | 0.076 | 0.095 | |
bpvalidate | 5.220 | 0.140 | 5.371 | |
bpvec | 0.420 | 0.112 | 0.424 | |
bpvectorize | 0.036 | 0.072 | 0.069 | |
ipcmutex | 0.528 | 0.160 | 0.988 | |
register | 0.172 | 0.188 | 0.194 | |