Back to Multiple platform build/check report for BioC 3.12 |
|
This page was generated on 2021-05-06 12:34:29 -0400 (Thu, 06 May 2021).
To the developers/maintainers of the CCPROMISE package: Please make sure to use the following settings in order to reproduce any error or warning you see on this page. |
Package 245/1974 | Hostname | OS / Arch | INSTALL | BUILD | CHECK | BUILD BIN | ||||||||
CCPROMISE 1.16.0 (landing page) Xueyuan Cao
| malbec1 | Linux (Ubuntu 18.04.5 LTS) / x86_64 | OK | OK | WARNINGS | ![]() | ||||||||
tokay1 | Windows Server 2012 R2 Standard / x64 | OK | OK | WARNINGS | OK | ![]() | ||||||||
merida1 | macOS 10.14.6 Mojave / x86_64 | OK | OK | WARNINGS | OK | ![]() | ||||||||
Package: CCPROMISE |
Version: 1.16.0 |
Command: rm -rf CCPROMISE.buildbin-libdir && mkdir CCPROMISE.buildbin-libdir && /Users/biocbuild/BBS/utils/build-universal.sh CCPROMISE_1.16.0.tar.gz /Library/Frameworks/R.framework/Versions/Current/Resources/bin/R CCPROMISE.buildbin-libdir |
StartedAt: 2021-05-06 08:07:49 -0400 (Thu, 06 May 2021) |
EndedAt: 2021-05-06 08:08:52 -0400 (Thu, 06 May 2021) |
EllapsedTime: 63.5 seconds |
RetCode: 0 |
Status: OK |
PackageFile: CCPROMISE_1.16.0.tgz |
PackageFileSize: 1.118 MiB |
############################################################################## ############################################################################## ### ### Running command: ### ### rm -rf CCPROMISE.buildbin-libdir && mkdir CCPROMISE.buildbin-libdir && /Users/biocbuild/BBS/utils/build-universal.sh CCPROMISE_1.16.0.tar.gz /Library/Frameworks/R.framework/Versions/Current/Resources/bin/R CCPROMISE.buildbin-libdir ### ############################################################################## ############################################################################## >>>>>>> >>>>>>> INSTALLATION WITH 'R CMD INSTALL --preclean --no-multiarch --library=CCPROMISE.buildbin-libdir CCPROMISE_1.16.0.tar.gz' >>>>>>> * installing *source* package ‘CCPROMISE’ ... ** using staged installation ** R ** data ** inst ** byte-compile and prepare package for lazy loading Note: break used in wrong context: no loop is visible Note: break used in wrong context: no loop is visible Note: break used in wrong context: no loop is visible Note: break used in wrong context: no loop is visible ** help *** installing help indices ** building package indices ** installing vignettes ** testing if installed package can be loaded from temporary location ** testing if installed package can be loaded from final location ** testing if installed package keeps a record of temporary installation path * DONE (CCPROMISE)