Back to Multiple platform build/check report for BioC 3.12 |
|
This page was generated on 2021-05-06 12:35:12 -0400 (Thu, 06 May 2021).
To the developers/maintainers of the Gviz package: Please make sure to use the following settings in order to reproduce any error or warning you see on this page. |
Package 806/1974 | Hostname | OS / Arch | INSTALL | BUILD | CHECK | BUILD BIN | ||||||||
Gviz 1.34.1 (landing page) Robert Ivanek
| malbec1 | Linux (Ubuntu 18.04.5 LTS) / x86_64 | OK | OK | OK | ![]() | ||||||||
tokay1 | Windows Server 2012 R2 Standard / x64 | OK | OK | OK | OK | ![]() | ||||||||
merida1 | macOS 10.14.6 Mojave / x86_64 | OK | OK | OK | OK | ![]() | ||||||||
Package: Gviz |
Version: 1.34.1 |
Command: /Library/Frameworks/R.framework/Versions/Current/Resources/bin/R CMD check --install=check:Gviz.install-out.txt --library=/Library/Frameworks/R.framework/Versions/Current/Resources/library --no-vignettes --timings Gviz_1.34.1.tar.gz |
StartedAt: 2021-05-06 02:31:01 -0400 (Thu, 06 May 2021) |
EndedAt: 2021-05-06 02:43:22 -0400 (Thu, 06 May 2021) |
EllapsedTime: 741.0 seconds |
RetCode: 0 |
Status: OK |
CheckDir: Gviz.Rcheck |
Warnings: 0 |
############################################################################## ############################################################################## ### ### Running command: ### ### /Library/Frameworks/R.framework/Versions/Current/Resources/bin/R CMD check --install=check:Gviz.install-out.txt --library=/Library/Frameworks/R.framework/Versions/Current/Resources/library --no-vignettes --timings Gviz_1.34.1.tar.gz ### ############################################################################## ############################################################################## * using log directory ‘/Users/biocbuild/bbs-3.12-bioc/meat/Gviz.Rcheck’ * using R version 4.0.5 (2021-03-31) * using platform: x86_64-apple-darwin17.0 (64-bit) * using session charset: UTF-8 * using option ‘--no-vignettes’ * checking for file ‘Gviz/DESCRIPTION’ ... OK * this is package ‘Gviz’ version ‘1.34.1’ * package encoding: UTF-8 * checking package namespace information ... OK * checking package dependencies ... OK * checking if this is a source package ... OK * checking if there is a namespace ... OK * checking for hidden files and directories ... OK * checking for portable file names ... OK * checking for sufficient/correct file permissions ... OK * checking whether package ‘Gviz’ can be installed ... OK * checking installed package size ... NOTE installed size is 6.2Mb sub-directories of 1Mb or more: R 2.0Mb extdata 2.5Mb * checking package directory ... OK * checking ‘build’ directory ... OK * checking DESCRIPTION meta-information ... OK * checking top-level files ... OK * checking for left-over files ... OK * checking index information ... OK * checking package subdirectories ... OK * checking R files for non-ASCII characters ... OK * checking R files for syntax errors ... OK * checking whether the package can be loaded ... OK * checking whether the package can be loaded with stated dependencies ... OK * checking whether the package can be unloaded cleanly ... OK * checking whether the namespace can be loaded with stated dependencies ... OK * checking whether the namespace can be unloaded cleanly ... OK * checking dependencies in R code ... OK * checking S3 generic/method consistency ... OK * checking replacement functions ... OK * checking foreign function calls ... OK * checking R code for possible problems ... OK * checking Rd files ... OK * checking Rd metadata ... OK * checking Rd cross-references ... OK * checking for missing documentation entries ... OK * checking for code/documentation mismatches ... OK * checking Rd \usage sections ... OK * checking Rd contents ... OK * checking for unstated dependencies in examples ... OK * checking contents of ‘data’ directory ... OK * checking data for non-ASCII characters ... OK * checking data for ASCII and uncompressed saves ... OK * checking files in ‘vignettes’ ... OK * checking examples ... OK Examples with CPU (user + system) or elapsed time > 5s user system elapsed AlignmentsTrack-class 16.559 0.901 19.449 GeneRegionTrack-class 10.600 0.100 11.918 AnnotationTrack-class 9.303 0.149 10.787 plotTracks 7.813 0.034 7.858 SequenceTrack-class 6.592 0.324 6.925 BiomartGeneRegionTrack-class 6.032 0.080 6.794 GenomeAxisTrack-class 5.846 0.040 5.910 * checking for unstated dependencies in ‘tests’ ... OK * checking tests ... Running ‘testthat.R’ OK * checking for unstated dependencies in vignettes ... OK * checking package vignettes in ‘inst/doc’ ... OK * checking running R code from vignettes ... SKIPPED * checking re-building of vignette outputs ... SKIPPED * checking PDF version of manual ... OK * DONE Status: 1 NOTE See ‘/Users/biocbuild/bbs-3.12-bioc/meat/Gviz.Rcheck/00check.log’ for details.
Gviz.Rcheck/00install.out
############################################################################## ############################################################################## ### ### Running command: ### ### /Library/Frameworks/R.framework/Versions/Current/Resources/bin/R CMD INSTALL Gviz ### ############################################################################## ############################################################################## * installing to library ‘/Library/Frameworks/R.framework/Versions/4.0/Resources/library’ * installing *source* package ‘Gviz’ ... ** using staged installation ** R ** data ** inst ** byte-compile and prepare package for lazy loading ** help *** installing help indices ** building package indices ** installing vignettes ** testing if installed package can be loaded from temporary location ** testing if installed package can be loaded from final location ** testing if installed package keeps a record of temporary installation path * DONE (Gviz)
Gviz.Rcheck/tests/testthat.Rout
R version 4.0.5 (2021-03-31) -- "Shake and Throw" Copyright (C) 2021 The R Foundation for Statistical Computing Platform: x86_64-apple-darwin17.0 (64-bit) R is free software and comes with ABSOLUTELY NO WARRANTY. You are welcome to redistribute it under certain conditions. Type 'license()' or 'licence()' for distribution details. R is a collaborative project with many contributors. Type 'contributors()' for more information and 'citation()' on how to cite R or R packages in publications. Type 'demo()' for some demos, 'help()' for on-line help, or 'help.start()' for an HTML browser interface to help. Type 'q()' to quit R. > library(testthat) > library(Gviz) Loading required package: S4Vectors Loading required package: stats4 Loading required package: BiocGenerics Loading required package: parallel Attaching package: 'BiocGenerics' The following objects are masked from 'package:parallel': clusterApply, clusterApplyLB, clusterCall, clusterEvalQ, clusterExport, clusterMap, parApply, parCapply, parLapply, parLapplyLB, parRapply, parSapply, parSapplyLB The following objects are masked from 'package:stats': IQR, mad, sd, var, xtabs The following objects are masked from 'package:base': Filter, Find, Map, Position, Reduce, anyDuplicated, append, as.data.frame, basename, cbind, colnames, dirname, do.call, duplicated, eval, evalq, get, grep, grepl, intersect, is.unsorted, lapply, mapply, match, mget, order, paste, pmax, pmax.int, pmin, pmin.int, rank, rbind, rownames, sapply, setdiff, sort, table, tapply, union, unique, unsplit, which.max, which.min Attaching package: 'S4Vectors' The following object is masked from 'package:base': expand.grid Loading required package: IRanges Loading required package: GenomicRanges Loading required package: GenomeInfoDb Loading required package: grid > > test_check("Gviz") Loading required package: BSgenome Loading required package: Biostrings Loading required package: XVector Attaching package: 'Biostrings' The following object is masked from 'package:base': strsplit Loading required package: rtracklayer Error in download.file("http://www.biomart.org", tempfile(), quiet = TRUE) : cannot open URL 'http://www.biomart.org' In addition: Warning message: In download.file("http://www.biomart.org", tempfile(), quiet = TRUE) : URL 'http://www.biomart.org/': Timeout of 5 seconds was reached ══ Skipped tests ═══════════════════════════════════════════════════════════════ • Biomart not available (1) [ FAIL 0 | WARN 0 | SKIP 1 | PASS 293 ] Warning message: Using providerVersion() on a BSgenome object is deprecated. Please use 'metadata(x)$genome' instead. > > proc.time() user system elapsed 81.114 4.331 93.891
Gviz.Rcheck/Gviz-Ex.timings
name | user | system | elapsed | |
AlignedReadTrack-class | 4.235 | 0.046 | 4.957 | |
AlignmentsTrack-class | 16.559 | 0.901 | 19.449 | |
AnnotationTrack-class | 9.303 | 0.149 | 10.787 | |
BiomartGeneRegionTrack-class | 6.032 | 0.080 | 6.794 | |
CustomTrack-class | 0.014 | 0.000 | 0.015 | |
DataTrack-class | 2.931 | 0.057 | 3.203 | |
DisplayPars-class | 0.040 | 0.005 | 0.085 | |
GdObject-class | 0.869 | 0.007 | 1.283 | |
GeneRegionTrack-class | 10.600 | 0.100 | 11.918 | |
GenomeAxisTrack-class | 5.846 | 0.040 | 5.910 | |
HighlightTrack-class | 0.228 | 0.001 | 0.229 | |
IdeogramTrack-class | 1.606 | 0.014 | 1.664 | |
OverlayTrack-class | 0.085 | 0.001 | 0.086 | |
RangeTrack-class | 0.813 | 0.003 | 0.817 | |
ReferenceTrack-class | 2.652 | 0.028 | 2.683 | |
SequenceTrack-class | 6.592 | 0.324 | 6.925 | |
StackedTrack-class | 1.412 | 0.005 | 1.420 | |
UcscTrack | 1.481 | 0.007 | 1.492 | |
exportTracks | 0.151 | 0.001 | 0.153 | |
plotTracks | 7.813 | 0.034 | 7.858 | |
settings | 1.296 | 0.006 | 1.303 | |