Back to Multiple platform build/check report for BioC 3.12 |
|
This page was generated on 2021-05-06 12:28:20 -0400 (Thu, 06 May 2021).
To the developers/maintainers of the MSstatsTMTPTM package: Please make sure to use the following settings in order to reproduce any error or warning you see on this page. |
Package 1172/1974 | Hostname | OS / Arch | INSTALL | BUILD | CHECK | BUILD BIN | ||||||||
MSstatsTMTPTM 1.0.2 (landing page) Devon Kohler
| malbec1 | Linux (Ubuntu 18.04.5 LTS) / x86_64 | OK | OK | OK | ![]() | ||||||||
tokay1 | Windows Server 2012 R2 Standard / x64 | OK | OK | OK | OK | ![]() | ||||||||
merida1 | macOS 10.14.6 Mojave / x86_64 | OK | OK | OK | OK | ![]() | ||||||||
Package: MSstatsTMTPTM |
Version: 1.0.2 |
Command: /home/biocbuild/bbs-3.12-bioc/R/bin/R CMD check --install=check:MSstatsTMTPTM.install-out.txt --library=/home/biocbuild/bbs-3.12-bioc/R/library --no-vignettes --timings MSstatsTMTPTM_1.0.2.tar.gz |
StartedAt: 2021-05-06 03:48:55 -0400 (Thu, 06 May 2021) |
EndedAt: 2021-05-06 03:50:57 -0400 (Thu, 06 May 2021) |
EllapsedTime: 122.6 seconds |
RetCode: 0 |
Status: OK |
CheckDir: MSstatsTMTPTM.Rcheck |
Warnings: 0 |
############################################################################## ############################################################################## ### ### Running command: ### ### /home/biocbuild/bbs-3.12-bioc/R/bin/R CMD check --install=check:MSstatsTMTPTM.install-out.txt --library=/home/biocbuild/bbs-3.12-bioc/R/library --no-vignettes --timings MSstatsTMTPTM_1.0.2.tar.gz ### ############################################################################## ############################################################################## * using log directory ‘/home/biocbuild/bbs-3.12-bioc/meat/MSstatsTMTPTM.Rcheck’ * using R version 4.0.5 (2021-03-31) * using platform: x86_64-pc-linux-gnu (64-bit) * using session charset: UTF-8 * using option ‘--no-vignettes’ * checking for file ‘MSstatsTMTPTM/DESCRIPTION’ ... OK * checking extension type ... Package * this is package ‘MSstatsTMTPTM’ version ‘1.0.2’ * package encoding: UTF-8 * checking package namespace information ... OK * checking package dependencies ... OK * checking if this is a source package ... OK * checking if there is a namespace ... OK * checking for hidden files and directories ... OK * checking for portable file names ... OK * checking for sufficient/correct file permissions ... OK * checking whether package ‘MSstatsTMTPTM’ can be installed ... OK * checking installed package size ... OK * checking package directory ... OK * checking ‘build’ directory ... OK * checking DESCRIPTION meta-information ... OK * checking top-level files ... OK * checking for left-over files ... OK * checking index information ... OK * checking package subdirectories ... OK * checking R files for non-ASCII characters ... OK * checking R files for syntax errors ... OK * checking whether the package can be loaded ... OK * checking whether the package can be loaded with stated dependencies ... OK * checking whether the package can be unloaded cleanly ... OK * checking whether the namespace can be loaded with stated dependencies ... OK * checking whether the namespace can be unloaded cleanly ... OK * checking dependencies in R code ... OK * checking S3 generic/method consistency ... OK * checking replacement functions ... OK * checking foreign function calls ... OK * checking R code for possible problems ... OK * checking Rd files ... OK * checking Rd metadata ... OK * checking Rd cross-references ... OK * checking for missing documentation entries ... OK * checking for code/documentation mismatches ... OK * checking Rd \usage sections ... OK * checking Rd contents ... OK * checking for unstated dependencies in examples ... OK * checking contents of ‘data’ directory ... OK * checking data for non-ASCII characters ... OK * checking data for ASCII and uncompressed saves ... OK * checking line endings in C/C++/Fortran sources/headers ... OK * checking compiled code ... NOTE Note: information on .o files is not available * checking files in ‘vignettes’ ... OK * checking examples ... OK Examples with CPU (user + system) or elapsed time > 5s user system elapsed groupComparisonTMTPTM 26.232 0.008 26.28 * checking for unstated dependencies in ‘tests’ ... OK * checking tests ... Running ‘testthat.R’ OK * checking for unstated dependencies in vignettes ... OK * checking package vignettes in ‘inst/doc’ ... OK * checking running R code from vignettes ... SKIPPED * checking re-building of vignette outputs ... SKIPPED * checking PDF version of manual ... OK * DONE Status: 1 NOTE See ‘/home/biocbuild/bbs-3.12-bioc/meat/MSstatsTMTPTM.Rcheck/00check.log’ for details.
MSstatsTMTPTM.Rcheck/00install.out
############################################################################## ############################################################################## ### ### Running command: ### ### /home/biocbuild/bbs-3.12-bioc/R/bin/R CMD INSTALL MSstatsTMTPTM ### ############################################################################## ############################################################################## * installing to library ‘/home/biocbuild/bbs-3.12-bioc/R/library’ * installing *source* package ‘MSstatsTMTPTM’ ... ** using staged installation ** libs g++ -std=gnu++11 -I"/home/biocbuild/bbs-3.12-bioc/R/include" -DNDEBUG -I'/home/biocbuild/bbs-3.12-bioc/R/library/Rcpp/include' -I/usr/local/include -fpic -g -O2 -Wall -c RcppExports.cpp -o RcppExports.o g++ -std=gnu++11 -I"/home/biocbuild/bbs-3.12-bioc/R/include" -DNDEBUG -I'/home/biocbuild/bbs-3.12-bioc/R/library/Rcpp/include' -I/usr/local/include -fpic -g -O2 -Wall -c model_adjust.cpp -o model_adjust.o g++ -std=gnu++11 -shared -L/home/biocbuild/bbs-3.12-bioc/R/lib -L/usr/local/lib -o MSstatsTMTPTM.so RcppExports.o model_adjust.o -L/home/biocbuild/bbs-3.12-bioc/R/lib -lR installing to /home/biocbuild/bbs-3.12-bioc/R/library/00LOCK-MSstatsTMTPTM/00new/MSstatsTMTPTM/libs ** R ** data *** moving datasets to lazyload DB ** inst ** byte-compile and prepare package for lazy loading ** help *** installing help indices ** building package indices ** installing vignettes ** testing if installed package can be loaded from temporary location ** checking absolute paths in shared objects and dynamic libraries ** testing if installed package can be loaded from final location ** testing if installed package keeps a record of temporary installation path * DONE (MSstatsTMTPTM)
MSstatsTMTPTM.Rcheck/tests/testthat.Rout
R version 4.0.5 (2021-03-31) -- "Shake and Throw" Copyright (C) 2021 The R Foundation for Statistical Computing Platform: x86_64-pc-linux-gnu (64-bit) R is free software and comes with ABSOLUTELY NO WARRANTY. You are welcome to redistribute it under certain conditions. Type 'license()' or 'licence()' for distribution details. R is a collaborative project with many contributors. Type 'contributors()' for more information and 'citation()' on how to cite R or R packages in publications. Type 'demo()' for some demos, 'help()' for on-line help, or 'help.start()' for an HTML browser interface to help. Type 'q()' to quit R. > library(testthat) > library(MSstatsTMTPTM) > > test_check("MSstatsTMTPTM") | | | 0% | |= | 1% | |== | 2% | |== | 3% | |=== | 4% | |==== | 6% | |===== | 7% | |===== | 8% | |====== | 9% | |======= | 10% | |======== | 11% | |========= | 12% | |========= | 13% | |========== | 14% | |=========== | 16% | |============ | 17% | |============ | 18% | |============= | 19% | |============== | 20% | |=============== | 21% | |================ | 22% | |================ | 23% | |================= | 24% | |================== | 26% | |=================== | 27% | |=================== | 28% | |==================== | 29% | |===================== | 30% | |====================== | 31% | |======================= | 32% | |======================= | 33% | |======================== | 34% | |========================= | 36% | |========================== | 37% | |========================== | 38% | |=========================== | 39% | |============================ | 40% | |============================= | 41% | |============================== | 42% | |============================== | 43% | |=============================== | 44% | |================================ | 46% | |================================= | 47% | |================================= | 48% | |================================== | 49% | |=================================== | 50% | |==================================== | 51% | |===================================== | 52% | |===================================== | 53% | |====================================== | 54% | |======================================= | 56% | |======================================== | 57% | |======================================== | 58% | |========================================= | 59% | |========================================== | 60% | |=========================================== | 61% | |============================================ | 62% | |============================================ | 63% | |============================================= | 64% | |============================================== | 66% | |=============================================== | 67% | |=============================================== | 68% | |================================================ | 69% | |================================================= | 70% | |================================================== | 71% | |=================================================== | 72% | |=================================================== | 73% | |==================================================== | 74% | |===================================================== | 76% | |====================================================== | 77% | |====================================================== | 78% | |======================================================= | 79% | |======================================================== | 80% | |========================================================= | 81% | |========================================================== | 82% | |========================================================== | 83% | |=========================================================== | 84% | |============================================================ | 86% | |============================================================= | 87% | |============================================================= | 88% | |============================================================== | 89% | |=============================================================== | 90% | |================================================================ | 91% | |================================================================= | 92% | |================================================================= | 93% | |================================================================== | 94% | |=================================================================== | 96% | |==================================================================== | 97% | |==================================================================== | 98% | |===================================================================== | 99% | |======================================================================| 100% | | | 0% | | | 0% | |= | 1% | |== | 2% | |== | 3% | |=== | 4% | |==== | 6% | |===== | 7% | |===== | 8% | |====== | 9% | |======= | 10% | |======== | 11% | |========= | 12% | |========= | 13% | |========== | 14% | |=========== | 16% | |============ | 17% | |============ | 18% | |============= | 19% | |============== | 20% | |=============== | 21% | |================ | 22% | |================ | 23% | |================= | 24% | |================== | 26% | |=================== | 27% | |=================== | 28% | |==================== | 29% | |===================== | 30% | |====================== | 31% | |======================= | 32% | |======================= | 33% | |======================== | 34% | |========================= | 36% | |========================== | 37% | |========================== | 38% | |=========================== | 39% | |============================ | 40% | |============================= | 41% | |============================== | 42% | |============================== | 43% | |=============================== | 44% | |================================ | 46% | |================================= | 47% | |================================= | 48% | |================================== | 49% | |=================================== | 50% | |==================================== | 51% | |===================================== | 52% | |===================================== | 53% | |====================================== | 54% | |======================================= | 56% | |======================================== | 57% | |======================================== | 58% | |========================================= | 59% | |========================================== | 60% | |=========================================== | 61% | |============================================ | 62% | |============================================ | 63% | |============================================= | 64% | |============================================== | 66% | |=============================================== | 67% | |=============================================== | 68% | |================================================ | 69% | |================================================= | 70% | |================================================== | 71% | |=================================================== | 72% | |=================================================== | 73% | |==================================================== | 74% | |===================================================== | 76% | |====================================================== | 77% | |====================================================== | 78% | |======================================================= | 79% | |======================================================== | 80% | |========================================================= | 81% | |========================================================== | 82% | |========================================================== | 83% | |=========================================================== | 84% | |============================================================ | 86% | |============================================================= | 87% | |============================================================= | 88% | |============================================================== | 89% | |=============================================================== | 90% | |================================================================ | 91% | |================================================================= | 92% | |================================================================= | 93% | |================================================================== | 94% | |=================================================================== | 96% | |==================================================================== | 97% | |==================================================================== | 98% | |===================================================================== | 99% | |======================================================================| 100% [ FAIL 0 | WARN 4 | SKIP 0 | PASS 30 ] > > proc.time() user system elapsed 10.784 0.184 10.984
MSstatsTMTPTM.Rcheck/MSstatsTMTPTM-Ex.timings
name | user | system | elapsed | |
dataProcessPlotsTMTPTM | 2.092 | 0.012 | 2.106 | |
example.contrast.matrix | 0.004 | 0.000 | 0.001 | |
groupComparisonTMTPTM | 26.232 | 0.008 | 26.280 | |
model.results.contrast | 0.008 | 0.000 | 0.007 | |
model.results.pairwise | 0.008 | 0.000 | 0.008 | |
quant.msstats.protein | 0.004 | 0.000 | 0.004 | |
quant.msstats.ptm | 0.004 | 0.000 | 0.005 | |
raw.protein | 0.052 | 0.004 | 0.057 | |
raw.ptm | 0.004 | 0.000 | 0.007 | |