Back to Multiple platform build/check report for BioC 3.12 |
|
This page was generated on 2021-05-06 12:36:19 -0400 (Thu, 06 May 2021).
To the developers/maintainers of the RCM package: Please make sure to use the following settings in order to reproduce any error or warning you see on this page. |
Package 1471/1974 | Hostname | OS / Arch | INSTALL | BUILD | CHECK | BUILD BIN | ||||||||
RCM 1.6.0 (landing page) Joris Meys
| malbec1 | Linux (Ubuntu 18.04.5 LTS) / x86_64 | OK | OK | OK | ![]() | ||||||||
tokay1 | Windows Server 2012 R2 Standard / x64 | OK | OK | OK | OK | ![]() | ||||||||
merida1 | macOS 10.14.6 Mojave / x86_64 | OK | OK | OK | OK | ![]() | ||||||||
Package: RCM |
Version: 1.6.0 |
Command: /Library/Frameworks/R.framework/Versions/Current/Resources/bin/R CMD check --install=check:RCM.install-out.txt --library=/Library/Frameworks/R.framework/Versions/Current/Resources/library --no-vignettes --timings RCM_1.6.0.tar.gz |
StartedAt: 2021-05-06 05:12:53 -0400 (Thu, 06 May 2021) |
EndedAt: 2021-05-06 05:18:07 -0400 (Thu, 06 May 2021) |
EllapsedTime: 313.3 seconds |
RetCode: 0 |
Status: OK |
CheckDir: RCM.Rcheck |
Warnings: 0 |
############################################################################## ############################################################################## ### ### Running command: ### ### /Library/Frameworks/R.framework/Versions/Current/Resources/bin/R CMD check --install=check:RCM.install-out.txt --library=/Library/Frameworks/R.framework/Versions/Current/Resources/library --no-vignettes --timings RCM_1.6.0.tar.gz ### ############################################################################## ############################################################################## * using log directory ‘/Users/biocbuild/bbs-3.12-bioc/meat/RCM.Rcheck’ * using R version 4.0.5 (2021-03-31) * using platform: x86_64-apple-darwin17.0 (64-bit) * using session charset: UTF-8 * using option ‘--no-vignettes’ * checking for file ‘RCM/DESCRIPTION’ ... OK * checking extension type ... Package * this is package ‘RCM’ version ‘1.6.0’ * package encoding: UTF-8 * checking package namespace information ... OK * checking package dependencies ... OK * checking if this is a source package ... OK * checking if there is a namespace ... OK * checking for hidden files and directories ... OK * checking for portable file names ... OK * checking for sufficient/correct file permissions ... OK * checking whether package ‘RCM’ can be installed ... OK * checking installed package size ... OK * checking package directory ... OK * checking ‘build’ directory ... OK * checking DESCRIPTION meta-information ... OK * checking top-level files ... OK * checking for left-over files ... OK * checking index information ... OK * checking package subdirectories ... OK * checking R files for non-ASCII characters ... OK * checking R files for syntax errors ... OK * checking whether the package can be loaded ... OK * checking whether the package can be loaded with stated dependencies ... OK * checking whether the package can be unloaded cleanly ... OK * checking whether the namespace can be loaded with stated dependencies ... OK * checking whether the namespace can be unloaded cleanly ... OK * checking dependencies in R code ... OK * checking S3 generic/method consistency ... OK * checking replacement functions ... OK * checking foreign function calls ... OK * checking R code for possible problems ... OK * checking Rd files ... OK * checking Rd metadata ... OK * checking Rd cross-references ... OK * checking for missing documentation entries ... OK * checking for code/documentation mismatches ... OK * checking Rd \usage sections ... OK * checking Rd contents ... OK * checking for unstated dependencies in examples ... OK * checking contents of ‘data’ directory ... OK * checking data for non-ASCII characters ... OK * checking data for ASCII and uncompressed saves ... OK * checking files in ‘vignettes’ ... OK * checking examples ... OK Examples with CPU (user + system) or elapsed time > 5s user system elapsed plotRespFun 11.221 0.099 11.336 getDevianceRes 6.938 0.459 7.404 RCM 6.344 0.192 6.543 plot.RCM 6.274 0.102 6.429 addOrthProjection 5.420 0.125 5.554 liks 5.409 0.075 5.490 inertia 5.194 0.113 5.314 extractCoord 5.125 0.114 5.245 * checking for unstated dependencies in ‘tests’ ... OK * checking tests ... Running ‘testthat.R’ OK * checking for unstated dependencies in vignettes ... OK * checking package vignettes in ‘inst/doc’ ... OK * checking running R code from vignettes ... SKIPPED * checking re-building of vignette outputs ... SKIPPED * checking PDF version of manual ... OK * DONE Status: OK
RCM.Rcheck/00install.out
############################################################################## ############################################################################## ### ### Running command: ### ### /Library/Frameworks/R.framework/Versions/Current/Resources/bin/R CMD INSTALL RCM ### ############################################################################## ############################################################################## * installing to library ‘/Library/Frameworks/R.framework/Versions/4.0/Resources/library’ * installing *source* package ‘RCM’ ... ** using staged installation ** R ** data *** moving datasets to lazyload DB ** inst ** byte-compile and prepare package for lazy loading ** help *** installing help indices ** building package indices ** installing vignettes ** testing if installed package can be loaded from temporary location ** testing if installed package can be loaded from final location ** testing if installed package keeps a record of temporary installation path * DONE (RCM)
RCM.Rcheck/tests/testthat.Rout
R version 4.0.5 (2021-03-31) -- "Shake and Throw" Copyright (C) 2021 The R Foundation for Statistical Computing Platform: x86_64-apple-darwin17.0 (64-bit) R is free software and comes with ABSOLUTELY NO WARRANTY. You are welcome to redistribute it under certain conditions. Type 'license()' or 'licence()' for distribution details. R is a collaborative project with many contributors. Type 'contributors()' for more information and 'citation()' on how to cite R or R packages in publications. Type 'demo()' for some demos, 'help()' for on-line help, or 'help.start()' for an HTML browser interface to help. Type 'q()' to quit R. > library(testthat) > library(RCM) > > test_check("RCM") [ FAIL 0 | WARN 11 | SKIP 0 | PASS 25 ] > > proc.time() user system elapsed 54.946 2.348 57.362
RCM.Rcheck/RCM-Ex.timings
name | user | system | elapsed | |
RCM | 6.344 | 0.192 | 6.543 | |
RCM_NB | 3.251 | 0.346 | 3.607 | |
addOrthProjection | 5.420 | 0.125 | 5.554 | |
checkAlias | 0.009 | 0.000 | 0.009 | |
extractCoord | 5.125 | 0.114 | 5.245 | |
getDevianceRes | 6.938 | 0.459 | 7.404 | |
inertia | 5.194 | 0.113 | 5.314 | |
liks | 5.409 | 0.075 | 5.490 | |
plot.RCM | 6.274 | 0.102 | 6.429 | |
plotRespFun | 11.221 | 0.099 | 11.336 | |
residualPlot | 3.255 | 0.113 | 3.371 | |