Back to Multiple platform build/check report for BioC 3.12 |
|
This page was generated on 2021-05-06 12:29:21 -0400 (Thu, 06 May 2021).
To the developers/maintainers of the SubCellBarCode package: Please make sure to use the following settings in order to reproduce any error or warning you see on this page. |
Package 1811/1974 | Hostname | OS / Arch | INSTALL | BUILD | CHECK | BUILD BIN | ||||||||
SubCellBarCode 1.6.0 (landing page) Taner Arslan
| malbec1 | Linux (Ubuntu 18.04.5 LTS) / x86_64 | OK | OK | OK | |||||||||
tokay1 | Windows Server 2012 R2 Standard / x64 | OK | OK | OK | OK | |||||||||
merida1 | macOS 10.14.6 Mojave / x86_64 | OK | OK | OK | OK | |||||||||
Package: SubCellBarCode |
Version: 1.6.0 |
Command: /home/biocbuild/bbs-3.12-bioc/R/bin/R CMD check --install=check:SubCellBarCode.install-out.txt --library=/home/biocbuild/bbs-3.12-bioc/R/library --no-vignettes --timings SubCellBarCode_1.6.0.tar.gz |
StartedAt: 2021-05-06 06:28:02 -0400 (Thu, 06 May 2021) |
EndedAt: 2021-05-06 06:32:13 -0400 (Thu, 06 May 2021) |
EllapsedTime: 251.3 seconds |
RetCode: 0 |
Status: OK |
CheckDir: SubCellBarCode.Rcheck |
Warnings: 0 |
############################################################################## ############################################################################## ### ### Running command: ### ### /home/biocbuild/bbs-3.12-bioc/R/bin/R CMD check --install=check:SubCellBarCode.install-out.txt --library=/home/biocbuild/bbs-3.12-bioc/R/library --no-vignettes --timings SubCellBarCode_1.6.0.tar.gz ### ############################################################################## ############################################################################## * using log directory ‘/home/biocbuild/bbs-3.12-bioc/meat/SubCellBarCode.Rcheck’ * using R version 4.0.5 (2021-03-31) * using platform: x86_64-pc-linux-gnu (64-bit) * using session charset: UTF-8 * using option ‘--no-vignettes’ * checking for file ‘SubCellBarCode/DESCRIPTION’ ... OK * checking extension type ... Package * this is package ‘SubCellBarCode’ version ‘1.6.0’ * package encoding: UTF-8 * checking package namespace information ... OK * checking package dependencies ... OK * checking if this is a source package ... OK * checking if there is a namespace ... OK * checking for hidden files and directories ... OK * checking for portable file names ... OK * checking for sufficient/correct file permissions ... OK * checking whether package ‘SubCellBarCode’ can be installed ... OK * checking installed package size ... OK * checking package directory ... OK * checking ‘build’ directory ... OK * checking DESCRIPTION meta-information ... OK * checking top-level files ... OK * checking for left-over files ... OK * checking index information ... OK * checking package subdirectories ... OK * checking R files for non-ASCII characters ... OK * checking R files for syntax errors ... OK * checking whether the package can be loaded ... OK * checking whether the package can be loaded with stated dependencies ... OK * checking whether the package can be unloaded cleanly ... OK * checking whether the namespace can be loaded with stated dependencies ... OK * checking whether the namespace can be unloaded cleanly ... OK * checking dependencies in R code ... OK * checking S3 generic/method consistency ... OK * checking replacement functions ... OK * checking foreign function calls ... OK * checking R code for possible problems ... OK * checking Rd files ... OK * checking Rd metadata ... OK * checking Rd cross-references ... OK * checking for missing documentation entries ... OK * checking for code/documentation mismatches ... OK * checking Rd \usage sections ... OK * checking Rd contents ... OK * checking for unstated dependencies in examples ... OK * checking contents of ‘data’ directory ... OK * checking data for non-ASCII characters ... OK * checking data for ASCII and uncompressed saves ... OK * checking files in ‘vignettes’ ... OK * checking examples ... OK Examples with CPU (user + system) or elapsed time > 5s user system elapsed applyThresholdCompartment 22.204 0.172 22.427 applyThresholdNeighborhood 18.180 0.036 18.256 computeThresholdCompartment 16.848 0.028 16.894 computeThresholdNeighborhood 16.684 0.048 16.782 svmExternalData 14.764 0.012 14.800 svmClassification 11.872 0.028 11.920 candidateRelocatedProteins 8.192 0.024 8.228 * checking for unstated dependencies in vignettes ... OK * checking package vignettes in ‘inst/doc’ ... OK * checking running R code from vignettes ... SKIPPED * checking re-building of vignette outputs ... SKIPPED * checking PDF version of manual ... OK * DONE Status: OK
SubCellBarCode.Rcheck/00install.out
############################################################################## ############################################################################## ### ### Running command: ### ### /home/biocbuild/bbs-3.12-bioc/R/bin/R CMD INSTALL SubCellBarCode ### ############################################################################## ############################################################################## * installing to library ‘/home/biocbuild/bbs-3.12-bioc/R/library’ * installing *source* package ‘SubCellBarCode’ ... ** using staged installation ** R ** data *** moving datasets to lazyload DB ** byte-compile and prepare package for lazy loading ** help *** installing help indices ** building package indices ** installing vignettes ** testing if installed package can be loaded from temporary location ** testing if installed package can be loaded from final location ** testing if installed package keeps a record of temporary installation path * DONE (SubCellBarCode)
SubCellBarCode.Rcheck/SubCellBarCode-Ex.timings
name | user | system | elapsed | |
applyThresholdCompartment | 22.204 | 0.172 | 22.427 | |
applyThresholdNeighborhood | 18.180 | 0.036 | 18.256 | |
calRowMean | 0.008 | 0.000 | 0.007 | |
calculateCoveredProtein | 0.18 | 0.00 | 0.18 | |
candidateRelocatedProteins | 8.192 | 0.024 | 8.228 | |
compareCls | 0.016 | 0.000 | 0.017 | |
computeThresholdCompartment | 16.848 | 0.028 | 16.894 | |
computeThresholdNeighborhood | 16.684 | 0.048 | 16.782 | |
convert2symbol | 0.004 | 0.000 | 0.001 | |
hcc827Ctrl | 0.000 | 0.004 | 0.005 | |
hcc827CtrlPSMCount | 0.012 | 0.000 | 0.013 | |
hcc827GEF | 0.004 | 0.000 | 0.004 | |
hcc827GEFClass | 0.000 | 0.000 | 0.002 | |
hcc827GefPSMCount | 0.000 | 0.000 | 0.001 | |
hcc827exon | 0.004 | 0.000 | 0.005 | |
loadData | 0.000 | 0.000 | 0.002 | |
markerQualityControl | 0.66 | 0.00 | 0.66 | |
mergeCls | 0.012 | 0.000 | 0.010 | |
mergeProbability | 0.008 | 0.000 | 0.007 | |
plotBarcode | 0.776 | 0.000 | 0.778 | |
plotMultipleProtein | 0.448 | 0.000 | 0.448 | |
replacePrediction | 0.004 | 0.000 | 0.007 | |
sankeyPlot | 0.044 | 0.000 | 0.047 | |
sumProbability | 0.008 | 0.000 | 0.007 | |
svmClassification | 11.872 | 0.028 | 11.920 | |
svmExternalData | 14.764 | 0.012 | 14.800 | |
tsneVisualization | 0.248 | 0.000 | 0.245 | |