Back to Multiple platform build/check report for BioC 3.12 |
|
This page was generated on 2021-05-06 12:37:17 -0400 (Thu, 06 May 2021).
To the developers/maintainers of the TTMap package: Please make sure to use the following settings in order to reproduce any error or warning you see on this page. |
Package 1909/1974 | Hostname | OS / Arch | INSTALL | BUILD | CHECK | BUILD BIN | ||||||||
TTMap 1.12.0 (landing page) Rachel Jeitziner
| malbec1 | Linux (Ubuntu 18.04.5 LTS) / x86_64 | OK | OK | OK | ![]() | ||||||||
tokay1 | Windows Server 2012 R2 Standard / x64 | OK | OK | OK | OK | ![]() | ||||||||
merida1 | macOS 10.14.6 Mojave / x86_64 | ERROR | ERROR | skipped | skipped | |||||||||
Package: TTMap |
Version: 1.12.0 |
Command: /Library/Frameworks/R.framework/Versions/Current/Resources/bin/R CMD INSTALL TTMap |
StartedAt: 2021-05-05 16:57:11 -0400 (Wed, 05 May 2021) |
EndedAt: 2021-05-05 16:57:28 -0400 (Wed, 05 May 2021) |
EllapsedTime: 16.7 seconds |
RetCode: 1 |
Status: ERROR |
############################################################################## ############################################################################## ### ### Running command: ### ### /Library/Frameworks/R.framework/Versions/Current/Resources/bin/R CMD INSTALL TTMap ### ############################################################################## ############################################################################## * installing to library ‘/Library/Frameworks/R.framework/Versions/4.0/Resources/library’ * installing *source* package ‘TTMap’ ... ** using staged installation ** R ** byte-compile and prepare package for lazy loading ERROR: lazy loading failed for package ‘TTMap’ * removing ‘/Library/Frameworks/R.framework/Versions/4.0/Resources/library/TTMap’ * restoring previous ‘/Library/Frameworks/R.framework/Versions/4.0/Resources/library/TTMap’