Back to Multiple platform build/check report for BioC 3.12 |
|
This page was generated on 2021-05-06 12:37:18 -0400 (Thu, 06 May 2021).
To the developers/maintainers of the TxRegInfra package: Please make sure to use the following settings in order to reproduce any error or warning you see on this page. |
Package 1917/1974 | Hostname | OS / Arch | INSTALL | BUILD | CHECK | BUILD BIN | ||||||||
VJ Carey
| malbec1 | Linux (Ubuntu 18.04.5 LTS) / x86_64 | OK | ERROR | skipped | |||||||||
tokay1 | Windows Server 2012 R2 Standard / x64 | OK | ERROR | skipped | skipped | |||||||||
merida1 | macOS 10.14.6 Mojave / x86_64 | OK | ERROR | skipped | skipped | |||||||||
Package: TxRegInfra |
Version: 1.10.0 |
Command: /Library/Frameworks/R.framework/Versions/Current/Resources/bin/R CMD INSTALL TxRegInfra |
StartedAt: 2021-05-05 16:58:02 -0400 (Wed, 05 May 2021) |
EndedAt: 2021-05-05 16:58:37 -0400 (Wed, 05 May 2021) |
EllapsedTime: 34.8 seconds |
RetCode: 0 |
Status: OK |
############################################################################## ############################################################################## ### ### Running command: ### ### /Library/Frameworks/R.framework/Versions/Current/Resources/bin/R CMD INSTALL TxRegInfra ### ############################################################################## ############################################################################## * installing to library ‘/Library/Frameworks/R.framework/Versions/4.0/Resources/library’ * installing *source* package ‘TxRegInfra’ ... ** using staged installation ** R ** data *** moving datasets to lazyload DB ** inst ** byte-compile and prepare package for lazy loading ** help *** installing help indices ** building package indices ** installing vignettes ** testing if installed package can be loaded from temporary location Warning: Package 'TxRegInfra' is deprecated and will be removed from Bioconductor version 3.13 ** testing if installed package can be loaded from final location Warning: Package 'TxRegInfra' is deprecated and will be removed from Bioconductor version 3.13 ** testing if installed package keeps a record of temporary installation path * DONE (TxRegInfra)