Back to Multiple platform build/check report for BioC 3.12 |
|
This page was generated on 2021-05-06 12:37:18 -0400 (Thu, 06 May 2021).
To the developers/maintainers of the UMI4Cats package: Please make sure to use the following settings in order to reproduce any error or warning you see on this page. |
Package 1920/1974 | Hostname | OS / Arch | INSTALL | BUILD | CHECK | BUILD BIN | ||||||||
UMI4Cats 1.0.1 (landing page) Mireia Ramos-Rodriguez
| malbec1 | Linux (Ubuntu 18.04.5 LTS) / x86_64 | OK | OK | OK | |||||||||
tokay1 | Windows Server 2012 R2 Standard / x64 | OK | OK | OK | OK | |||||||||
merida1 | macOS 10.14.6 Mojave / x86_64 | OK | OK | OK | OK | |||||||||
Package: UMI4Cats |
Version: 1.0.1 |
Command: /Library/Frameworks/R.framework/Versions/Current/Resources/bin/R CMD build --keep-empty-dirs --no-resave-data UMI4Cats |
StartedAt: 2021-05-05 22:43:17 -0400 (Wed, 05 May 2021) |
EndedAt: 2021-05-05 22:45:54 -0400 (Wed, 05 May 2021) |
EllapsedTime: 156.3 seconds |
RetCode: 0 |
Status: OK |
PackageFile: UMI4Cats_1.0.1.tar.gz |
PackageFileSize: 3.152 MiB |
############################################################################## ############################################################################## ### ### Running command: ### ### /Library/Frameworks/R.framework/Versions/Current/Resources/bin/R CMD build --keep-empty-dirs --no-resave-data UMI4Cats ### ############################################################################## ############################################################################## * checking for file ‘UMI4Cats/DESCRIPTION’ ... OK * preparing ‘UMI4Cats’: * checking DESCRIPTION meta-information ... OK * installing the package to build vignettes * creating vignettes ... OK * checking for LF line-endings in source and make files and shell scripts * checking for empty or unneeded directories * looking to see if a ‘data/datalist’ file should be added * building ‘UMI4Cats_1.0.1.tar.gz’