Back to Multiple platform build/check report for BioC 3.12 |
|
This page was generated on 2021-05-06 12:34:16 -0400 (Thu, 06 May 2021).
To the developers/maintainers of the affyContam package: Please make sure to use the following settings in order to reproduce any error or warning you see on this page. |
Package 27/1974 | Hostname | OS / Arch | INSTALL | BUILD | CHECK | BUILD BIN | ||||||||
affyContam 1.48.0 (landing page) V. Carey
| malbec1 | Linux (Ubuntu 18.04.5 LTS) / x86_64 | OK | OK | OK | |||||||||
tokay1 | Windows Server 2012 R2 Standard / x64 | OK | OK | OK | OK | |||||||||
merida1 | macOS 10.14.6 Mojave / x86_64 | OK | OK | OK | OK | |||||||||
Package: affyContam |
Version: 1.48.0 |
Command: /Library/Frameworks/R.framework/Versions/Current/Resources/bin/R CMD INSTALL affyContam |
StartedAt: 2021-05-05 16:29:19 -0400 (Wed, 05 May 2021) |
EndedAt: 2021-05-05 16:30:09 -0400 (Wed, 05 May 2021) |
EllapsedTime: 50.1 seconds |
RetCode: 0 |
Status: OK |
############################################################################## ############################################################################## ### ### Running command: ### ### /Library/Frameworks/R.framework/Versions/Current/Resources/bin/R CMD INSTALL affyContam ### ############################################################################## ############################################################################## * installing to library ‘/Library/Frameworks/R.framework/Versions/4.0/Resources/library’ * installing *source* package ‘affyContam’ ... ** using staged installation ** R ** byte-compile and prepare package for lazy loading Package [1,] "affydata" LibPath [1,] "/Library/Frameworks/R.framework/Versions/4.0/Resources/library" Item Title [1,] "Dilution" "AffyBatch instance Dilution" ** help *** installing help indices ** building package indices ** installing vignettes ** testing if installed package can be loaded from temporary location Package [1,] "affydata" LibPath [1,] "/Library/Frameworks/R.framework/Versions/4.0/Resources/library" Item Title [1,] "Dilution" "AffyBatch instance Dilution" ** testing if installed package can be loaded from final location Package [1,] "affydata" LibPath [1,] "/Library/Frameworks/R.framework/Versions/4.0/Resources/library" Item Title [1,] "Dilution" "AffyBatch instance Dilution" ** testing if installed package keeps a record of temporary installation path * DONE (affyContam)