Back to Multiple platform build/check report for BioC 3.12 |
|
This page was generated on 2021-05-06 12:34:35 -0400 (Thu, 06 May 2021).
To the developers/maintainers of the coMET package: Please make sure to use the following settings in order to reproduce any error or warning you see on this page. |
Package 356/1974 | Hostname | OS / Arch | INSTALL | BUILD | CHECK | BUILD BIN | ||||||||
coMET 1.22.0 (landing page) Tiphaine Martin
| malbec1 | Linux (Ubuntu 18.04.5 LTS) / x86_64 | OK | OK | OK | |||||||||
tokay1 | Windows Server 2012 R2 Standard / x64 | OK | OK | OK | OK | |||||||||
merida1 | macOS 10.14.6 Mojave / x86_64 | OK | OK | OK | OK | |||||||||
Package: coMET |
Version: 1.22.0 |
Command: /Library/Frameworks/R.framework/Versions/Current/Resources/bin/R CMD check --install=check:coMET.install-out.txt --library=/Library/Frameworks/R.framework/Versions/Current/Resources/library --no-vignettes --timings coMET_1.22.0.tar.gz |
StartedAt: 2021-05-06 00:32:04 -0400 (Thu, 06 May 2021) |
EndedAt: 2021-05-06 00:42:26 -0400 (Thu, 06 May 2021) |
EllapsedTime: 622.5 seconds |
RetCode: 0 |
Status: OK |
CheckDir: coMET.Rcheck |
Warnings: 0 |
############################################################################## ############################################################################## ### ### Running command: ### ### /Library/Frameworks/R.framework/Versions/Current/Resources/bin/R CMD check --install=check:coMET.install-out.txt --library=/Library/Frameworks/R.framework/Versions/Current/Resources/library --no-vignettes --timings coMET_1.22.0.tar.gz ### ############################################################################## ############################################################################## * using log directory ‘/Users/biocbuild/bbs-3.12-bioc/meat/coMET.Rcheck’ * using R version 4.0.5 (2021-03-31) * using platform: x86_64-apple-darwin17.0 (64-bit) * using session charset: UTF-8 * using option ‘--no-vignettes’ * checking for file ‘coMET/DESCRIPTION’ ... OK * checking extension type ... Package * this is package ‘coMET’ version ‘1.22.0’ * checking package namespace information ... OK * checking package dependencies ... OK * checking if this is a source package ... OK * checking if there is a namespace ... OK * checking for hidden files and directories ... OK * checking for portable file names ... OK * checking for sufficient/correct file permissions ... OK * checking whether package ‘coMET’ can be installed ... OK * checking installed package size ... NOTE installed size is 18.8Mb sub-directories of 1Mb or more: data 7.5Mb extdata 10.7Mb * checking package directory ... OK * checking ‘build’ directory ... OK * checking DESCRIPTION meta-information ... OK * checking top-level files ... NOTE File LICENSE is not mentioned in the DESCRIPTION file. * checking for left-over files ... OK * checking index information ... OK * checking package subdirectories ... OK * checking R files for non-ASCII characters ... OK * checking R files for syntax errors ... OK * checking whether the package can be loaded ... OK * checking whether the package can be loaded with stated dependencies ... OK * checking whether the package can be unloaded cleanly ... OK * checking whether the namespace can be loaded with stated dependencies ... OK * checking whether the namespace can be unloaded cleanly ... OK * checking dependencies in R code ... OK * checking S3 generic/method consistency ... OK * checking replacement functions ... OK * checking foreign function calls ... OK * checking R code for possible problems ... NOTE draw.plot.annotation : <anonymous>: no visible global function definition for 'ggplotGrob' draw.plot.annotation: no visible global function definition for 'viewTracks' draw.plot.annotation: no visible global function definition for 'trackList' eQTL: no visible binding for global variable 'chromosome_stop' eQTL: no visible binding for global variable 'chromosome_start' eQTL: no visible binding for global variable 'chromosome_name' eQTL_GTEx: no visible binding for global variable 'snp_pos' eQTL_GTEx: no visible binding for global variable 'snp_chrom' eQTL_GTEx: no visible binding for global variable 'gene_start' eQTL_GTEx: no visible binding for global variable 'gene_stop' eQTL_GTEx: no visible binding for global variable 'gene_chr' geneExpression_GTEx: no visible global function definition for 'as' metQTL: no visible binding for global variable 'chromosome_stop' metQTL: no visible binding for global variable 'chromosome_start' metQTL: no visible binding for global variable 'chromosome_name' psiQTL_GTEx: no visible binding for global variable 'pos_snp' psiQTL_GTEx: no visible binding for global variable 'chr_snp' psiQTL_GTEx: no visible binding for global variable 'pos_middle_exon' psiQTL_GTEx: no visible binding for global variable 'chr_exon' Undefined global functions or variables: as chr_exon chr_snp chromosome_name chromosome_start chromosome_stop gene_chr gene_start gene_stop ggplotGrob pos_middle_exon pos_snp snp_chrom snp_pos trackList viewTracks Consider adding importFrom("methods", "as") to your NAMESPACE file (and ensure that your DESCRIPTION Imports field contains 'methods'). * checking Rd files ... OK * checking Rd metadata ... OK * checking Rd cross-references ... OK * checking for missing documentation entries ... OK * checking for code/documentation mismatches ... OK * checking Rd \usage sections ... OK * checking Rd contents ... OK * checking for unstated dependencies in examples ... OK * checking contents of ‘data’ directory ... OK * checking data for non-ASCII characters ... OK * checking data for ASCII and uncompressed saves ... OK * checking sizes of PDF files under ‘inst/doc’ ... OK * checking files in ‘vignettes’ ... OK * checking examples ... OK Examples with CPU (user + system) or elapsed time > 5s user system elapsed comet.web 11.496 0.137 50.725 chromatinHMMAll_UCSC 6.069 0.018 6.095 imprintedGenes_GTEx 5.730 0.033 5.772 coMET-package 5.494 0.119 15.983 HistoneAll_UCSC 5.508 0.017 5.530 * checking for unstated dependencies in ‘tests’ ... OK * checking tests ... Running ‘runTests.R’ OK * checking for unstated dependencies in vignettes ... OK * checking package vignettes in ‘inst/doc’ ... OK * checking running R code from vignettes ... SKIPPED * checking re-building of vignette outputs ... SKIPPED * checking PDF version of manual ... OK * DONE Status: 3 NOTEs See ‘/Users/biocbuild/bbs-3.12-bioc/meat/coMET.Rcheck/00check.log’ for details.
coMET.Rcheck/00install.out
############################################################################## ############################################################################## ### ### Running command: ### ### /Library/Frameworks/R.framework/Versions/Current/Resources/bin/R CMD INSTALL coMET ### ############################################################################## ############################################################################## * installing to library ‘/Library/Frameworks/R.framework/Versions/4.0/Resources/library’ * installing *source* package ‘coMET’ ... ** using staged installation ** R ** data ** inst ** byte-compile and prepare package for lazy loading ** help *** installing help indices ** building package indices ** installing vignettes ** testing if installed package can be loaded from temporary location ** testing if installed package can be loaded from final location ** testing if installed package keeps a record of temporary installation path * DONE (coMET)
coMET.Rcheck/tests/runTests.Rout
R version 4.0.5 (2021-03-31) -- "Shake and Throw" Copyright (C) 2021 The R Foundation for Statistical Computing Platform: x86_64-apple-darwin17.0 (64-bit) R is free software and comes with ABSOLUTELY NO WARRANTY. You are welcome to redistribute it under certain conditions. Type 'license()' or 'licence()' for distribution details. R is a collaborative project with many contributors. Type 'contributors()' for more information and 'citation()' on how to cite R or R packages in publications. Type 'demo()' for some demos, 'help()' for on-line help, or 'help.start()' for an HTML browser interface to help. Type 'q()' to quit R. > require("coMET") || stop("unable to load Package:coMET") Loading required package: coMET Loading required package: grid Loading required package: biomaRt Loading required package: Gviz Loading required package: S4Vectors Loading required package: stats4 Loading required package: BiocGenerics Loading required package: parallel Attaching package: 'BiocGenerics' The following objects are masked from 'package:parallel': clusterApply, clusterApplyLB, clusterCall, clusterEvalQ, clusterExport, clusterMap, parApply, parCapply, parLapply, parLapplyLB, parRapply, parSapply, parSapplyLB The following objects are masked from 'package:stats': IQR, mad, sd, var, xtabs The following objects are masked from 'package:base': Filter, Find, Map, Position, Reduce, anyDuplicated, append, as.data.frame, basename, cbind, colnames, dirname, do.call, duplicated, eval, evalq, get, grep, grepl, intersect, is.unsorted, lapply, mapply, match, mget, order, paste, pmax, pmax.int, pmin, pmin.int, rank, rbind, rownames, sapply, setdiff, sort, table, tapply, union, unique, unsplit, which.max, which.min Attaching package: 'S4Vectors' The following object is masked from 'package:base': expand.grid Loading required package: IRanges Loading required package: GenomicRanges Loading required package: GenomeInfoDb Loading required package: psych Attaching package: 'psych' The following object is masked from 'package:IRanges': reflect [1] TRUE > BiocGenerics:::testPackage("coMET") RUNIT TEST PROTOCOL -- Thu May 6 00:42:16 2021 *********************************************** Number of test functions: 1 Number of errors: 0 Number of failures: 0 1 Test Suite : coMET RUnit Tests - 1 test function, 0 errors, 0 failures Number of test functions: 1 Number of errors: 0 Number of failures: 0 > > proc.time() user system elapsed 18.044 0.731 20.151
coMET.Rcheck/coMET-Ex.timings
name | user | system | elapsed | |
COSMIC_UCSC | 1.982 | 0.074 | 2.058 | |
ChIPTF_ENCODE | 1.008 | 0.028 | 1.037 | |
ClinVarCnv_UCSC | 0.642 | 0.068 | 0.710 | |
ClinVarMain_UCSC | 0.687 | 0.034 | 0.722 | |
CoreillCNV_UCSC | 0.556 | 0.003 | 0.560 | |
DNAse_UCSC | 0.617 | 0.004 | 0.621 | |
DNaseI_FANTOM | 0.744 | 0.008 | 0.753 | |
DNaseI_RoadMap | 0.222 | 0.004 | 0.225 | |
GAD_UCSC | 0.481 | 0.004 | 0.484 | |
GWAScatalog_UCSC | 0.422 | 0.006 | 0.428 | |
GeneReviews_UCSC | 0.805 | 0.008 | 0.813 | |
HiCdata2matrix | 0.035 | 0.006 | 0.041 | |
HistoneAll_UCSC | 5.508 | 0.017 | 5.530 | |
HistoneOne_UCSC | 0.558 | 0.006 | 0.564 | |
ISCA_UCSC | 0.643 | 0.006 | 0.650 | |
TFBS_FANTOM | 0.525 | 0.004 | 0.531 | |
bindingMotifsBiomart_ENSEMBL | 0.220 | 0.007 | 0.230 | |
chrUCSC2ENSEMBL | 0.001 | 0.000 | 0.001 | |
chromHMM_RoadMap | 0.827 | 0.010 | 0.840 | |
chromatinHMMAll_UCSC | 6.069 | 0.018 | 6.095 | |
chromatinHMMOne_UCSC | 0.780 | 0.005 | 0.786 | |
coMET-package | 5.494 | 0.119 | 15.983 | |
comet | 3.877 | 0.052 | 3.937 | |
comet.list | 1.427 | 0.015 | 1.447 | |
comet.web | 11.496 | 0.137 | 50.725 | |
cpgIslands_UCSC | 0.169 | 0.003 | 0.173 | |
dgfootprints_RoadMap | 0.942 | 0.015 | 0.958 | |
eQTL | 1.576 | 0.014 | 1.593 | |
eQTL_GTEx | 1.550 | 0.010 | 1.563 | |
gcContent_UCSC | 1.271 | 0.008 | 1.280 | |
genesName_ENSEMBL | 0.005 | 0.003 | 0.008 | |
genes_ENSEMBL | 1.019 | 0.007 | 1.028 | |
imprintedGenes_GTEx | 5.730 | 0.033 | 5.772 | |
interestGenes_ENSEMBL | 0.967 | 0.005 | 0.973 | |
interestTranscript_ENSEMBL | 1.069 | 0.005 | 1.076 | |
knownGenes_UCSC | 1.353 | 0.009 | 1.366 | |
metQTL | 1.534 | 0.013 | 1.550 | |
miRNATargetRegionsBiomart_ENSEMBL | 0.070 | 0.003 | 0.073 | |
otherRegulatoryRegionsBiomart_ENSEMBL | 0.149 | 0.008 | 0.158 | |
psiQTL_GTEx | 1.244 | 0.006 | 1.252 | |
refGenes_UCSC | 1.179 | 0.005 | 1.184 | |
regulationBiomart_ENSEMBL | 0.392 | 0.003 | 0.396 | |
regulatoryEvidenceBiomart_ENSEMBL | 0.190 | 0.007 | 0.199 | |
regulatoryFeaturesBiomart_ENSEMBL | 0.188 | 0.007 | 0.197 | |
regulatorySegmentsBiomart_ENSEMBL | 0.214 | 0.010 | 0.225 | |
repeatMasker_UCSC | 0.790 | 0.004 | 0.796 | |
segmentalDups_UCSC | 0.566 | 0.005 | 0.572 | |
snpBiomart_ENSEMBL | 0.623 | 0.005 | 0.629 | |
snpLocations_UCSC | 1.811 | 0.007 | 1.820 | |
structureBiomart_ENSEMBL | 0.656 | 0.024 | 0.683 | |
transcript_ENSEMBL | 2.141 | 0.024 | 2.167 | |
xenorefGenes_UCSC | 0.692 | 0.004 | 0.697 | |