Back to Multiple platform build/check report for BioC 3.12 |
|
This page was generated on 2021-05-06 12:34:54 -0400 (Thu, 06 May 2021).
To the developers/maintainers of the ensembldb package: Please make sure to use the following settings in order to reproduce any error or warning you see on this page. |
Package 552/1974 | Hostname | OS / Arch | INSTALL | BUILD | CHECK | BUILD BIN | ||||||||
ensembldb 2.14.1 (landing page) Johannes Rainer
| malbec1 | Linux (Ubuntu 18.04.5 LTS) / x86_64 | OK | OK | OK | ![]() | ||||||||
tokay1 | Windows Server 2012 R2 Standard / x64 | OK | OK | OK | OK | ![]() | ||||||||
merida1 | macOS 10.14.6 Mojave / x86_64 | OK | OK | OK | OK | ![]() | ||||||||
Package: ensembldb |
Version: 2.14.1 |
Command: rm -rf ensembldb.buildbin-libdir && mkdir ensembldb.buildbin-libdir && /Users/biocbuild/BBS/utils/build-universal.sh ensembldb_2.14.1.tar.gz /Library/Frameworks/R.framework/Versions/Current/Resources/bin/R ensembldb.buildbin-libdir |
StartedAt: 2021-05-06 08:31:53 -0400 (Thu, 06 May 2021) |
EndedAt: 2021-05-06 08:32:55 -0400 (Thu, 06 May 2021) |
EllapsedTime: 62.5 seconds |
RetCode: 0 |
Status: OK |
PackageFile: ensembldb_2.14.1.tgz |
PackageFileSize: 3.432 MiB |
############################################################################## ############################################################################## ### ### Running command: ### ### rm -rf ensembldb.buildbin-libdir && mkdir ensembldb.buildbin-libdir && /Users/biocbuild/BBS/utils/build-universal.sh ensembldb_2.14.1.tar.gz /Library/Frameworks/R.framework/Versions/Current/Resources/bin/R ensembldb.buildbin-libdir ### ############################################################################## ############################################################################## >>>>>>> >>>>>>> INSTALLATION WITH 'R CMD INSTALL --preclean --no-multiarch --library=ensembldb.buildbin-libdir ensembldb_2.14.1.tar.gz' >>>>>>> * installing *source* package ‘ensembldb’ ... ** using staged installation ** R ** inst ** byte-compile and prepare package for lazy loading ** help *** installing help indices ** building package indices ** installing vignettes ** testing if installed package can be loaded from temporary location ** testing if installed package can be loaded from final location ** testing if installed package keeps a record of temporary installation path * DONE (ensembldb)