Back to Multiple platform build/check report for BioC 3.12 |
|
This page was generated on 2021-05-06 12:35:00 -0400 (Thu, 06 May 2021).
To the developers/maintainers of the flowMatch package: Please make sure to use the following settings in order to reproduce any error or warning you see on this page. |
Package 624/1974 | Hostname | OS / Arch | INSTALL | BUILD | CHECK | BUILD BIN | ||||||||
flowMatch 1.26.0 (landing page) Ariful Azad
| malbec1 | Linux (Ubuntu 18.04.5 LTS) / x86_64 | OK | OK | OK | ![]() | ||||||||
tokay1 | Windows Server 2012 R2 Standard / x64 | OK | OK | OK | OK | ![]() | ||||||||
merida1 | macOS 10.14.6 Mojave / x86_64 | OK | OK | OK | OK | ![]() | ||||||||
Package: flowMatch |
Version: 1.26.0 |
Command: rm -rf flowMatch.buildbin-libdir && mkdir flowMatch.buildbin-libdir && /Users/biocbuild/BBS/utils/build-universal.sh flowMatch_1.26.0.tar.gz /Library/Frameworks/R.framework/Versions/Current/Resources/bin/R flowMatch.buildbin-libdir |
StartedAt: 2021-05-06 08:37:41 -0400 (Thu, 06 May 2021) |
EndedAt: 2021-05-06 08:38:35 -0400 (Thu, 06 May 2021) |
EllapsedTime: 54.5 seconds |
RetCode: 0 |
Status: OK |
PackageFile: flowMatch_1.26.0.tgz |
PackageFileSize: 3.872 MiB |
############################################################################## ############################################################################## ### ### Running command: ### ### rm -rf flowMatch.buildbin-libdir && mkdir flowMatch.buildbin-libdir && /Users/biocbuild/BBS/utils/build-universal.sh flowMatch_1.26.0.tar.gz /Library/Frameworks/R.framework/Versions/Current/Resources/bin/R flowMatch.buildbin-libdir ### ############################################################################## ############################################################################## >>>>>>> >>>>>>> INSTALLATION WITH 'R CMD INSTALL --preclean --no-multiarch --library=flowMatch.buildbin-libdir flowMatch_1.26.0.tar.gz' >>>>>>> * installing *source* package ‘flowMatch’ ... ** using staged installation ** libs clang++ -mmacosx-version-min=10.13 -std=gnu++11 -I"/Library/Frameworks/R.framework/Resources/include" -DNDEBUG -I'/Library/Frameworks/R.framework/Versions/4.0/Resources/library/Rcpp/include' -I/usr/local/include -fPIC -Wall -g -O2 -c BipartiteGraph.cpp -o BipartiteGraph.o In file included from BipartiteGraph.cpp:2: In file included from /Library/Frameworks/R.framework/Versions/4.0/Resources/library/Rcpp/include/Rcpp.h:57: /Library/Frameworks/R.framework/Versions/4.0/Resources/library/Rcpp/include/Rcpp/DataFrame.h:136:18: warning: unused variable 'data' [-Wunused-variable] SEXP data = Parent::get__(); ^ 1 warning generated. clang++ -mmacosx-version-min=10.13 -std=gnu++11 -I"/Library/Frameworks/R.framework/Resources/include" -DNDEBUG -I'/Library/Frameworks/R.framework/Versions/4.0/Resources/library/Rcpp/include' -I/usr/local/include -fPIC -Wall -g -O2 -c MinWghtEdgCoverBipartite.cpp -o MinWghtEdgCoverBipartite.o In file included from MinWghtEdgCoverBipartite.cpp:6: In file included from /Library/Frameworks/R.framework/Versions/4.0/Resources/library/Rcpp/include/Rcpp.h:57: /Library/Frameworks/R.framework/Versions/4.0/Resources/library/Rcpp/include/Rcpp/DataFrame.h:136:18: warning: unused variable 'data' [-Wunused-variable] SEXP data = Parent::get__(); ^ 1 warning generated. clang++ -mmacosx-version-min=10.13 -std=gnu++11 -I"/Library/Frameworks/R.framework/Resources/include" -DNDEBUG -I'/Library/Frameworks/R.framework/Versions/4.0/Resources/library/Rcpp/include' -I/usr/local/include -fPIC -Wall -g -O2 -c flowMatch.cpp -o flowMatch.o In file included from flowMatch.cpp:1: In file included from /Library/Frameworks/R.framework/Versions/4.0/Resources/library/Rcpp/include/Rcpp.h:57: /Library/Frameworks/R.framework/Versions/4.0/Resources/library/Rcpp/include/Rcpp/DataFrame.h:136:18: warning: unused variable 'data' [-Wunused-variable] SEXP data = Parent::get__(); ^ 1 warning generated. clang++ -mmacosx-version-min=10.13 -std=gnu++11 -dynamiclib -Wl,-headerpad_max_install_names -undefined dynamic_lookup -single_module -multiply_defined suppress -L/Library/Frameworks/R.framework/Resources/lib -L/usr/local/lib -o flowMatch.so BipartiteGraph.o MinWghtEdgCoverBipartite.o flowMatch.o -F/Library/Frameworks/R.framework/.. -framework R -Wl,-framework -Wl,CoreFoundation installing to /Users/biocbuild/bbs-3.12-bioc/meat/flowMatch.buildbin-libdir/00LOCK-flowMatch/00new/flowMatch/libs ** R ** inst ** byte-compile and prepare package for lazy loading ** help *** installing help indices ** building package indices ** installing vignettes ** testing if installed package can be loaded from temporary location ** checking absolute paths in shared objects and dynamic libraries ** testing if installed package can be loaded from final location ** testing if installed package keeps a record of temporary installation path * DONE (flowMatch) >>>>>>> >>>>>>> FIXING LINKS FOR flowMatch.buildbin-libdir/flowMatch/libs/flowMatch.so >>>>>>> install_name_tool -change "/usr/local/lib/libgcc_s.1.dylib" "/Library/Frameworks/R.framework/Versions/4.0/Resources/lib/libgcc_s.1.dylib" "flowMatch.buildbin-libdir/flowMatch/libs/flowMatch.so" install_name_tool -change "/usr/local/lib/libgfortran.5.dylib" "/Library/Frameworks/R.framework/Versions/4.0/Resources/lib/libgfortran.5.dylib" "flowMatch.buildbin-libdir/flowMatch/libs/flowMatch.so" install_name_tool -change "/usr/local/lib/libquadmath.0.dylib" "/Library/Frameworks/R.framework/Versions/4.0/Resources/lib/libquadmath.0.dylib" "flowMatch.buildbin-libdir/flowMatch/libs/flowMatch.so"