Back to Multiple platform build/check report for BioC 3.12 |
|
This page was generated on 2021-05-06 12:35:02 -0400 (Thu, 06 May 2021).
To the developers/maintainers of the gcrma package: Please make sure to use the following settings in order to reproduce any error or warning you see on this page. |
Package 670/1974 | Hostname | OS / Arch | INSTALL | BUILD | CHECK | BUILD BIN | ||||||||
gcrma 2.62.0 (landing page) Z. Wu
| malbec1 | Linux (Ubuntu 18.04.5 LTS) / x86_64 | OK | OK | OK | |||||||||
tokay1 | Windows Server 2012 R2 Standard / x64 | OK | OK | OK | OK | |||||||||
merida1 | macOS 10.14.6 Mojave / x86_64 | OK | OK | OK | OK | |||||||||
Package: gcrma |
Version: 2.62.0 |
Command: rm -rf gcrma.buildbin-libdir && mkdir gcrma.buildbin-libdir && /Users/biocbuild/BBS/utils/build-universal.sh gcrma_2.62.0.tar.gz /Library/Frameworks/R.framework/Versions/Current/Resources/bin/R gcrma.buildbin-libdir |
StartedAt: 2021-05-06 08:41:24 -0400 (Thu, 06 May 2021) |
EndedAt: 2021-05-06 08:42:27 -0400 (Thu, 06 May 2021) |
EllapsedTime: 62.6 seconds |
RetCode: 0 |
Status: OK |
PackageFile: gcrma_2.62.0.tgz |
PackageFileSize: 284.8 KiB |
############################################################################## ############################################################################## ### ### Running command: ### ### rm -rf gcrma.buildbin-libdir && mkdir gcrma.buildbin-libdir && /Users/biocbuild/BBS/utils/build-universal.sh gcrma_2.62.0.tar.gz /Library/Frameworks/R.framework/Versions/Current/Resources/bin/R gcrma.buildbin-libdir ### ############################################################################## ############################################################################## >>>>>>> >>>>>>> INSTALLATION WITH 'R CMD INSTALL --preclean --no-multiarch --library=gcrma.buildbin-libdir gcrma_2.62.0.tar.gz' >>>>>>> * installing *source* package ‘gcrma’ ... ** using staged installation ** libs clang -mmacosx-version-min=10.13 -I"/Library/Frameworks/R.framework/Resources/include" -DNDEBUG -I/usr/local/include -fPIC -Wall -g -O2 -c baseProfile.c -o baseProfile.o clang -mmacosx-version-min=10.13 -I"/Library/Frameworks/R.framework/Resources/include" -DNDEBUG -I/usr/local/include -fPIC -Wall -g -O2 -c computeAffinities.c -o computeAffinities.o clang -mmacosx-version-min=10.13 -I"/Library/Frameworks/R.framework/Resources/include" -DNDEBUG -I/usr/local/include -fPIC -Wall -g -O2 -c postmean.c -o postmean.o clang -mmacosx-version-min=10.13 -dynamiclib -Wl,-headerpad_max_install_names -undefined dynamic_lookup -single_module -multiply_defined suppress -L/Library/Frameworks/R.framework/Resources/lib -L/usr/local/lib -o gcrma.so baseProfile.o computeAffinities.o postmean.o -F/Library/Frameworks/R.framework/.. -framework R -Wl,-framework -Wl,CoreFoundation installing to /Users/biocbuild/bbs-3.12-bioc/meat/gcrma.buildbin-libdir/00LOCK-gcrma/00new/gcrma/libs ** R ** data ** inst ** byte-compile and prepare package for lazy loading ** help *** installing help indices ** building package indices ** installing vignettes ** testing if installed package can be loaded from temporary location ** checking absolute paths in shared objects and dynamic libraries ** testing if installed package can be loaded from final location ** testing if installed package keeps a record of temporary installation path * DONE (gcrma) >>>>>>> >>>>>>> FIXING LINKS FOR gcrma.buildbin-libdir/gcrma/libs/gcrma.so >>>>>>> install_name_tool -change "/usr/local/lib/libgcc_s.1.dylib" "/Library/Frameworks/R.framework/Versions/4.0/Resources/lib/libgcc_s.1.dylib" "gcrma.buildbin-libdir/gcrma/libs/gcrma.so" install_name_tool -change "/usr/local/lib/libgfortran.5.dylib" "/Library/Frameworks/R.framework/Versions/4.0/Resources/lib/libgfortran.5.dylib" "gcrma.buildbin-libdir/gcrma/libs/gcrma.so" install_name_tool -change "/usr/local/lib/libquadmath.0.dylib" "/Library/Frameworks/R.framework/Versions/4.0/Resources/lib/libquadmath.0.dylib" "gcrma.buildbin-libdir/gcrma/libs/gcrma.so"