Back to Multiple platform build/check report for BioC 3.12 |
|
This page was generated on 2021-05-06 12:35:10 -0400 (Thu, 06 May 2021).
To the developers/maintainers of the graper package: Please make sure to use the following settings in order to reproduce any error or warning you see on this page. |
Package 779/1974 | Hostname | OS / Arch | INSTALL | BUILD | CHECK | BUILD BIN | ||||||||
graper 1.6.0 (landing page) Britta Velten
| malbec1 | Linux (Ubuntu 18.04.5 LTS) / x86_64 | OK | OK | OK | |||||||||
tokay1 | Windows Server 2012 R2 Standard / x64 | OK | OK | OK | OK | |||||||||
merida1 | macOS 10.14.6 Mojave / x86_64 | OK | OK | OK | OK | |||||||||
Package: graper |
Version: 1.6.0 |
Command: /Library/Frameworks/R.framework/Versions/Current/Resources/bin/R CMD check --install=check:graper.install-out.txt --library=/Library/Frameworks/R.framework/Versions/Current/Resources/library --no-vignettes --timings graper_1.6.0.tar.gz |
StartedAt: 2021-05-06 02:24:52 -0400 (Thu, 06 May 2021) |
EndedAt: 2021-05-06 02:26:12 -0400 (Thu, 06 May 2021) |
EllapsedTime: 79.9 seconds |
RetCode: 0 |
Status: OK |
CheckDir: graper.Rcheck |
Warnings: 0 |
############################################################################## ############################################################################## ### ### Running command: ### ### /Library/Frameworks/R.framework/Versions/Current/Resources/bin/R CMD check --install=check:graper.install-out.txt --library=/Library/Frameworks/R.framework/Versions/Current/Resources/library --no-vignettes --timings graper_1.6.0.tar.gz ### ############################################################################## ############################################################################## * using log directory ‘/Users/biocbuild/bbs-3.12-bioc/meat/graper.Rcheck’ * using R version 4.0.5 (2021-03-31) * using platform: x86_64-apple-darwin17.0 (64-bit) * using session charset: UTF-8 * using option ‘--no-vignettes’ * checking for file ‘graper/DESCRIPTION’ ... OK * checking extension type ... Package * this is package ‘graper’ version ‘1.6.0’ * package encoding: UTF-8 * checking package namespace information ... OK * checking package dependencies ... OK * checking if this is a source package ... OK * checking if there is a namespace ... OK * checking for hidden files and directories ... OK * checking for portable file names ... OK * checking for sufficient/correct file permissions ... OK * checking whether package ‘graper’ can be installed ... OK * checking installed package size ... OK * checking package directory ... OK * checking ‘build’ directory ... OK * checking DESCRIPTION meta-information ... OK * checking top-level files ... OK * checking for left-over files ... OK * checking index information ... OK * checking package subdirectories ... OK * checking R files for non-ASCII characters ... OK * checking R files for syntax errors ... OK * checking whether the package can be loaded ... OK * checking whether the package can be loaded with stated dependencies ... OK * checking whether the package can be unloaded cleanly ... OK * checking whether the namespace can be loaded with stated dependencies ... OK * checking whether the namespace can be unloaded cleanly ... OK * checking dependencies in R code ... OK * checking S3 generic/method consistency ... OK * checking replacement functions ... OK * checking foreign function calls ... OK * checking R code for possible problems ... OK * checking Rd files ... OK * checking Rd metadata ... OK * checking Rd cross-references ... OK * checking for missing documentation entries ... OK * checking for code/documentation mismatches ... OK * checking Rd \usage sections ... OK * checking Rd contents ... OK * checking for unstated dependencies in examples ... OK * checking line endings in C/C++/Fortran sources/headers ... OK * checking line endings in Makefiles ... OK * checking compilation flags in Makevars ... OK * checking for GNU extensions in Makefiles ... OK * checking for portable use of $(BLAS_LIBS) and $(LAPACK_LIBS) ... OK * checking use of PKG_*FLAGS in Makefiles ... OK * checking compiled code ... NOTE Note: information on .o files is not available * checking files in ‘vignettes’ ... OK * checking examples ... OK * checking for unstated dependencies in ‘tests’ ... OK * checking tests ... Running ‘testthat.R’ OK * checking for unstated dependencies in vignettes ... OK * checking package vignettes in ‘inst/doc’ ... OK * checking running R code from vignettes ... SKIPPED * checking re-building of vignette outputs ... SKIPPED * checking PDF version of manual ... OK * DONE Status: 1 NOTE See ‘/Users/biocbuild/bbs-3.12-bioc/meat/graper.Rcheck/00check.log’ for details.
graper.Rcheck/00install.out
############################################################################## ############################################################################## ### ### Running command: ### ### /Library/Frameworks/R.framework/Versions/Current/Resources/bin/R CMD INSTALL graper ### ############################################################################## ############################################################################## * installing to library ‘/Library/Frameworks/R.framework/Versions/4.0/Resources/library’ * installing *source* package ‘graper’ ... ** using staged installation ** libs clang++ -mmacosx-version-min=10.13 -std=gnu++11 -I"/Library/Frameworks/R.framework/Resources/include" -DNDEBUG -I'/Library/Frameworks/R.framework/Versions/4.0/Resources/library/Rcpp/include' -I'/Library/Frameworks/R.framework/Versions/4.0/Resources/library/RcppArmadillo/include' -I'/Library/Frameworks/R.framework/Versions/4.0/Resources/library/BH/include' -I/usr/local/include -fPIC -Wall -g -O2 -c RcppExports.cpp -o RcppExports.o In file included from RcppExports.cpp:4: In file included from /Library/Frameworks/R.framework/Versions/4.0/Resources/library/RcppArmadillo/include/RcppArmadillo.h:34: In file included from /Library/Frameworks/R.framework/Versions/4.0/Resources/library/Rcpp/include/Rcpp.h:57: /Library/Frameworks/R.framework/Versions/4.0/Resources/library/Rcpp/include/Rcpp/DataFrame.h:136:18: warning: unused variable 'data' [-Wunused-variable] SEXP data = Parent::get__(); ^ 1 warning generated. clang++ -mmacosx-version-min=10.13 -std=gnu++11 -I"/Library/Frameworks/R.framework/Resources/include" -DNDEBUG -I'/Library/Frameworks/R.framework/Versions/4.0/Resources/library/Rcpp/include' -I'/Library/Frameworks/R.framework/Versions/4.0/Resources/library/RcppArmadillo/include' -I'/Library/Frameworks/R.framework/Versions/4.0/Resources/library/BH/include' -I/usr/local/include -fPIC -Wall -g -O2 -c fit_graper.cpp -o fit_graper.o In file included from fit_graper.cpp:3: In file included from /Library/Frameworks/R.framework/Versions/4.0/Resources/library/RcppArmadillo/include/RcppArmadillo.h:34: In file included from /Library/Frameworks/R.framework/Versions/4.0/Resources/library/Rcpp/include/Rcpp.h:57: /Library/Frameworks/R.framework/Versions/4.0/Resources/library/Rcpp/include/Rcpp/DataFrame.h:136:18: warning: unused variable 'data' [-Wunused-variable] SEXP data = Parent::get__(); ^ 1 warning generated. clang++ -mmacosx-version-min=10.13 -std=gnu++11 -dynamiclib -Wl,-headerpad_max_install_names -undefined dynamic_lookup -single_module -multiply_defined suppress -L/Library/Frameworks/R.framework/Resources/lib -L/usr/local/lib -o graper.so RcppExports.o fit_graper.o -L/Library/Frameworks/R.framework/Resources/lib -lRlapack -L/Library/Frameworks/R.framework/Resources/lib -lRblas -L/usr/local/gfortran/lib/gcc/x86_64-apple-darwin18/8.2.0 -L/usr/local/gfortran/lib -lgfortran -lquadmath -lm -F/Library/Frameworks/R.framework/.. -framework R -Wl,-framework -Wl,CoreFoundation installing to /Library/Frameworks/R.framework/Versions/4.0/Resources/library/00LOCK-graper/00new/graper/libs ** R ** byte-compile and prepare package for lazy loading ** help *** installing help indices ** building package indices ** installing vignettes ** testing if installed package can be loaded from temporary location ** checking absolute paths in shared objects and dynamic libraries ** testing if installed package can be loaded from final location ** testing if installed package keeps a record of temporary installation path * DONE (graper)
graper.Rcheck/tests/testthat.Rout
R version 4.0.5 (2021-03-31) -- "Shake and Throw" Copyright (C) 2021 The R Foundation for Statistical Computing Platform: x86_64-apple-darwin17.0 (64-bit) R is free software and comes with ABSOLUTELY NO WARRANTY. You are welcome to redistribute it under certain conditions. Type 'license()' or 'licence()' for distribution details. R is a collaborative project with many contributors. Type 'contributors()' for more information and 'citation()' on how to cite R or R packages in publications. Type 'demo()' for some demos, 'help()' for on-line help, or 'help.start()' for an HTML browser interface to help. Type 'q()' to quit R. > library(testthat) > library(graper) > > test_check("graper") iteration 1 Updating parameters of variational distributions... Calculating ELB.. ELB=-873.756 ELB improved by inf iteration 2 Updating parameters of variational distributions... Calculating ELB.. ELB=-544.115 ELB improved by 329.642 iteration 3 Updating parameters of variational distributions... Calculating ELB.. ELB=-486.847 ELB improved by 57.2679 iteration 4 Updating parameters of variational distributions... Calculating ELB.. ELB=-455.825 ELB improved by 31.0213 iteration 5 Updating parameters of variational distributions... Calculating ELB.. ELB=-442.793 ELB improved by 13.032 iteration 6 Updating parameters of variational distributions... Calculating ELB.. ELB=-435.689 ELB improved by 7.10457 iteration 7 Updating parameters of variational distributions... Calculating ELB.. ELB=-429.765 ELB improved by 5.9241 iteration 8 Updating parameters of variational distributions... Calculating ELB.. ELB=-423.747 ELB improved by 6.01767 iteration 9 Updating parameters of variational distributions... Calculating ELB.. ELB=-417.043 ELB improved by 6.70369 iteration 10 Updating parameters of variational distributions... Calculating ELB.. ELB=-409.62 ELB improved by 7.4238 iteration 11 Updating parameters of variational distributions... Calculating ELB.. ELB=-402.284 ELB improved by 7.33555 iteration 12 Updating parameters of variational distributions... Calculating ELB.. ELB=-396.346 ELB improved by 5.93844 iteration 13 Updating parameters of variational distributions... Calculating ELB.. ELB=-392.422 ELB improved by 3.92343 iteration 14 Updating parameters of variational distributions... Calculating ELB.. ELB=-390.095 ELB improved by 2.32735 iteration 15 Updating parameters of variational distributions... Calculating ELB.. ELB=-388.718 ELB improved by 1.37726 iteration 16 Updating parameters of variational distributions... Calculating ELB.. ELB=-387.871 ELB improved by 0.846042 iteration 17 Updating parameters of variational distributions... Calculating ELB.. ELB=-387.316 ELB improved by 0.555375 iteration 18 Updating parameters of variational distributions... Calculating ELB.. ELB=-386.92 ELB improved by 0.396267 iteration 19 Updating parameters of variational distributions... Calculating ELB.. ELB=-386.616 ELB improved by 0.304101 iteration 20 Updating parameters of variational distributions... Calculating ELB.. ELB=-386.369 ELB improved by 0.246661 iteration 21 Updating parameters of variational distributions... Calculating ELB.. ELB=-386.16 ELB improved by 0.208731 iteration 22 Updating parameters of variational distributions... Calculating ELB.. ELB=-385.978 ELB improved by 0.182704 iteration 23 Updating parameters of variational distributions... Calculating ELB.. ELB=-385.813 ELB improved by 0.164429 iteration 24 Updating parameters of variational distributions... Calculating ELB.. ELB=-385.662 ELB improved by 0.151453 iteration 25 Updating parameters of variational distributions... Calculating ELB.. ELB=-385.52 ELB improved by 0.14225 iteration 26 Updating parameters of variational distributions... Calculating ELB.. ELB=-385.384 ELB improved by 0.135826 iteration 27 Updating parameters of variational distributions... Calculating ELB.. ELB=-385.252 ELB improved by 0.131517 iteration 28 Updating parameters of variational distributions... Calculating ELB.. ELB=-385.123 ELB improved by 0.12887 iteration 29 Updating parameters of variational distributions... Calculating ELB.. ELB=-384.996 ELB improved by 0.127569 iteration 30 Updating parameters of variational distributions... Calculating ELB.. ELB=-384.868 ELB improved by 0.127396 iteration 31 Updating parameters of variational distributions... Calculating ELB.. ELB=-384.74 ELB improved by 0.128202 iteration 32 Updating parameters of variational distributions... Calculating ELB.. ELB=-384.61 ELB improved by 0.129888 iteration 33 Updating parameters of variational distributions... Calculating ELB.. ELB=-384.478 ELB improved by 0.132394 iteration 34 Updating parameters of variational distributions... Calculating ELB.. ELB=-384.342 ELB improved by 0.135696 iteration 35 Updating parameters of variational distributions... Calculating ELB.. ELB=-384.202 ELB improved by 0.139791 iteration 36 Updating parameters of variational distributions... Calculating ELB.. ELB=-384.058 ELB improved by 0.144698 iteration 37 Updating parameters of variational distributions... Calculating ELB.. ELB=-383.907 ELB improved by 0.150448 iteration 38 Updating parameters of variational distributions... Calculating ELB.. ELB=-383.75 ELB improved by 0.157079 iteration 39 Updating parameters of variational distributions... Calculating ELB.. ELB=-383.586 ELB improved by 0.164627 iteration 40 Updating parameters of variational distributions... Calculating ELB.. ELB=-383.412 ELB improved by 0.173118 iteration 41 Updating parameters of variational distributions... Calculating ELB.. ELB=-383.23 ELB improved by 0.182559 iteration 42 Updating parameters of variational distributions... Calculating ELB.. ELB=-383.037 ELB improved by 0.192937 iteration 43 Updating parameters of variational distributions... Calculating ELB.. ELB=-382.833 ELB improved by 0.20422 iteration 44 Updating parameters of variational distributions... Calculating ELB.. ELB=-382.616 ELB improved by 0.216387 iteration 45 Updating parameters of variational distributions... Calculating ELB.. ELB=-382.387 ELB improved by 0.229474 iteration 46 Updating parameters of variational distributions... Calculating ELB.. ELB=-382.143 ELB improved by 0.243683 iteration 47 Updating parameters of variational distributions... Calculating ELB.. ELB=-381.884 ELB improved by 0.25958 iteration 48 Updating parameters of variational distributions... Calculating ELB.. ELB=-381.605 ELB improved by 0.278461 iteration 49 Updating parameters of variational distributions... Calculating ELB.. ELB=-381.302 ELB improved by 0.30304 iteration 50 Updating parameters of variational distributions... Calculating ELB.. ELB=-380.963 ELB improved by 0.338801 iteration 51 Updating parameters of variational distributions... Calculating ELB.. ELB=-380.567 ELB improved by 0.396556 iteration 52 Updating parameters of variational distributions... Calculating ELB.. ELB=-380.07 ELB improved by 0.496191 iteration 53 Updating parameters of variational distributions... Calculating ELB.. ELB=-379.409 ELB improved by 0.661442 iteration 54 Updating parameters of variational distributions... Calculating ELB.. ELB=-378.538 ELB improved by 0.870571 iteration 55 Updating parameters of variational distributions... Calculating ELB.. ELB=-377.459 ELB improved by 1.07913 iteration 56 Updating parameters of variational distributions... Calculating ELB.. ELB=-376.14 ELB improved by 1.31912 iteration 57 Updating parameters of variational distributions... Calculating ELB.. ELB=-374.905 ELB improved by 1.2353 iteration 58 Updating parameters of variational distributions... Calculating ELB.. ELB=-374.011 ELB improved by 0.894389 iteration 59 Updating parameters of variational distributions... Calculating ELB.. ELB=-373.435 ELB improved by 0.575864 iteration 60 Updating parameters of variational distributions... Calculating ELB.. ELB=-373.095 ELB improved by 0.339501 iteration 61 Updating parameters of variational distributions... Calculating ELB.. ELB=-372.883 ELB improved by 0.212327 iteration 62 Updating parameters of variational distributions... Calculating ELB.. ELB=-372.736 ELB improved by 0.147326 iteration 63 Updating parameters of variational distributions... Calculating ELB.. ELB=-372.626 ELB improved by 0.109533 iteration 64 Updating parameters of variational distributions... Calculating ELB.. ELB=-372.541 ELB improved by 0.0849931 iteration 65 Updating parameters of variational distributions... Calculating ELB.. ELB=-372.473 ELB improved by 0.0680094 iteration 66 Updating parameters of variational distributions... Calculating ELB.. ELB=-372.417 ELB improved by 0.0557692 iteration 67 Updating parameters of variational distributions... Calculating ELB.. ELB=-372.371 ELB improved by 0.0466665 iteration 68 Updating parameters of variational distributions... Calculating ELB.. ELB=-372.331 ELB improved by 0.0397142 iteration 69 Updating parameters of variational distributions... Calculating ELB.. ELB=-372.297 ELB improved by 0.0342887 iteration 70 Updating parameters of variational distributions... Calculating ELB.. ELB=-372.267 ELB improved by 0.0299968 iteration 71 Updating parameters of variational distributions... Calculating ELB.. ELB=-372.24 ELB improved by 0.0265979 iteration 72 Updating parameters of variational distributions... Calculating ELB.. ELB=-372.216 ELB improved by 0.0239511 iteration 73 Updating parameters of variational distributions... Calculating ELB.. ELB=-372.194 ELB improved by 0.0219764 iteration 74 Updating parameters of variational distributions... Calculating ELB.. ELB=-372.173 ELB improved by 0.0206251 iteration 75 Updating parameters of variational distributions... Calculating ELB.. ELB=-372.154 ELB improved by 0.0198557 iteration 76 Updating parameters of variational distributions... Calculating ELB.. ELB=-372.134 ELB improved by 0.0196061 iteration 77 Updating parameters of variational distributions... Calculating ELB.. ELB=-372.114 ELB improved by 0.0197584 iteration 78 Updating parameters of variational distributions... Calculating ELB.. ELB=-372.094 ELB improved by 0.0200927 iteration 79 Updating parameters of variational distributions... Calculating ELB.. ELB=-372.074 ELB improved by 0.02026 iteration 80 Updating parameters of variational distributions... Calculating ELB.. ELB=-372.054 ELB improved by 0.0198336 iteration 81 Updating parameters of variational distributions... Calculating ELB.. ELB=-372.036 ELB improved by 0.0184866 iteration 82 Updating parameters of variational distributions... Calculating ELB.. ELB=-372.019 ELB improved by 0.0162182 iteration 83 Updating parameters of variational distributions... Calculating ELB.. ELB=-372.006 ELB improved by 0.0134164 iteration 84 Updating parameters of variational distributions... Calculating ELB.. ELB=-371.995 ELB improved by 0.0106427 iteration 85 Updating parameters of variational distributions... Calculating ELB.. ELB=-371.987 ELB improved by 0.00832378 ELB converged iteration 1 Updating parameters of variational distributions... Calculating ELB.. ELB=-855.837 ELB improved by inf iteration 2 Updating parameters of variational distributions... Calculating ELB.. ELB=-567.812 ELB improved by 288.025 iteration 3 Updating parameters of variational distributions... Calculating ELB.. ELB=-505.343 ELB improved by 62.4686 iteration 4 Updating parameters of variational distributions... Calculating ELB.. ELB=-464.144 ELB improved by 41.1993 iteration 5 Updating parameters of variational distributions... Calculating ELB.. ELB=-446.654 ELB improved by 17.4895 iteration 6 Updating parameters of variational distributions... Calculating ELB.. ELB=-439.238 ELB improved by 7.41632 iteration 7 Updating parameters of variational distributions... Calculating ELB.. ELB=-434.063 ELB improved by 5.17503 iteration 8 Updating parameters of variational distributions... Calculating ELB.. ELB=-429.143 ELB improved by 4.9202 iteration 9 Updating parameters of variational distributions... Calculating ELB.. ELB=-423.831 ELB improved by 5.31148 iteration 10 Updating parameters of variational distributions... Calculating ELB.. ELB=-417.99 ELB improved by 5.84138 iteration 11 Updating parameters of variational distributions... Calculating ELB.. ELB=-411.98 ELB improved by 6.00997 iteration 12 Updating parameters of variational distributions... Calculating ELB.. ELB=-406.63 ELB improved by 5.34947 iteration 13 Updating parameters of variational distributions... Calculating ELB.. ELB=-402.648 ELB improved by 3.98218 iteration 14 Updating parameters of variational distributions... Calculating ELB.. ELB=-400.037 ELB improved by 2.61143 iteration 15 Updating parameters of variational distributions... Calculating ELB.. ELB=-398.351 ELB improved by 1.68625 iteration 16 Updating parameters of variational distributions... Calculating ELB.. ELB=-397.21 ELB improved by 1.14041 iteration 17 Updating parameters of variational distributions... Calculating ELB.. ELB=-396.414 ELB improved by 0.796047 iteration 18 Updating parameters of variational distributions... Calculating ELB.. ELB=-395.833 ELB improved by 0.580774 iteration 19 Updating parameters of variational distributions... Calculating ELB.. ELB=-395.375 ELB improved by 0.458024 iteration 20 Updating parameters of variational distributions... Calculating ELB.. ELB=-394.985 ELB improved by 0.390284 iteration 21 Updating parameters of variational distributions... Calculating ELB.. ELB=-394.633 ELB improved by 0.352453 iteration 22 Updating parameters of variational distributions... Calculating ELB.. ELB=-394.301 ELB improved by 0.331379 iteration 23 Updating parameters of variational distributions... Calculating ELB.. ELB=-393.981 ELB improved by 0.320354 iteration 24 Updating parameters of variational distributions... Calculating ELB.. ELB=-393.665 ELB improved by 0.315759 iteration 25 Updating parameters of variational distributions... Calculating ELB.. ELB=-393.35 ELB improved by 0.315506 iteration 26 Updating parameters of variational distributions... Calculating ELB.. ELB=-393.031 ELB improved by 0.318336 iteration 27 Updating parameters of variational distributions... Calculating ELB.. ELB=-392.708 ELB improved by 0.323507 iteration 28 Updating parameters of variational distributions... Calculating ELB.. ELB=-392.377 ELB improved by 0.330653 iteration 29 Updating parameters of variational distributions... Calculating ELB.. ELB=-392.037 ELB improved by 0.339735 iteration 30 Updating parameters of variational distributions... Calculating ELB.. ELB=-391.686 ELB improved by 0.351062 iteration 31 Updating parameters of variational distributions... Calculating ELB.. ELB=-391.321 ELB improved by 0.365425 iteration 32 Updating parameters of variational distributions... Calculating ELB.. ELB=-390.936 ELB improved by 0.384471 iteration 33 Updating parameters of variational distributions... Calculating ELB.. ELB=-390.525 ELB improved by 0.411592 iteration 34 Updating parameters of variational distributions... Calculating ELB.. ELB=-390.071 ELB improved by 0.453894 iteration 35 Updating parameters of variational distributions... Calculating ELB.. ELB=-389.546 ELB improved by 0.525289 iteration 36 Updating parameters of variational distributions... Calculating ELB.. ELB=-388.903 ELB improved by 0.64296 iteration 37 Updating parameters of variational distributions... Calculating ELB.. ELB=-388.117 ELB improved by 0.786003 iteration 38 Updating parameters of variational distributions... Calculating ELB.. ELB=-387.256 ELB improved by 0.860733 iteration 39 Updating parameters of variational distributions... Calculating ELB.. ELB=-386.412 ELB improved by 0.844269 iteration 40 Updating parameters of variational distributions... Calculating ELB.. ELB=-385.619 ELB improved by 0.792934 iteration 41 Updating parameters of variational distributions... Calculating ELB.. ELB=-384.897 ELB improved by 0.721712 iteration 42 Updating parameters of variational distributions... Calculating ELB.. ELB=-384.266 ELB improved by 0.631339 iteration 43 Updating parameters of variational distributions... Calculating ELB.. ELB=-383.735 ELB improved by 0.530979 iteration 44 Updating parameters of variational distributions... Calculating ELB.. ELB=-383.3 ELB improved by 0.434365 iteration 45 Updating parameters of variational distributions... Calculating ELB.. ELB=-382.947 ELB improved by 0.353165 iteration 46 Updating parameters of variational distributions... Calculating ELB.. ELB=-382.653 ELB improved by 0.293977 iteration 47 Updating parameters of variational distributions... Calculating ELB.. ELB=-382.394 ELB improved by 0.259671 iteration 48 Updating parameters of variational distributions... Calculating ELB.. ELB=-382.14 ELB improved by 0.253469 iteration 49 Updating parameters of variational distributions... Calculating ELB.. ELB=-381.857 ELB improved by 0.283443 iteration 50 Updating parameters of variational distributions... Calculating ELB.. ELB=-381.499 ELB improved by 0.35771 iteration 51 Updating parameters of variational distributions... Calculating ELB.. ELB=-381.058 ELB improved by 0.440846 iteration 52 Updating parameters of variational distributions... Calculating ELB.. ELB=-380.62 ELB improved by 0.437988 iteration 53 Updating parameters of variational distributions... Calculating ELB.. ELB=-380.264 ELB improved by 0.355693 iteration 54 Updating parameters of variational distributions... Calculating ELB.. ELB=-379.992 ELB improved by 0.272061 iteration 55 Updating parameters of variational distributions... Calculating ELB.. ELB=-379.788 ELB improved by 0.204656 iteration 56 Updating parameters of variational distributions... Calculating ELB.. ELB=-379.638 ELB improved by 0.149579 iteration 57 Updating parameters of variational distributions... Calculating ELB.. ELB=-379.531 ELB improved by 0.10735 iteration 58 Updating parameters of variational distributions... Calculating ELB.. ELB=-379.453 ELB improved by 0.0775912 iteration 59 Updating parameters of variational distributions... Calculating ELB.. ELB=-379.396 ELB improved by 0.057444 iteration 60 Updating parameters of variational distributions... Calculating ELB.. ELB=-379.352 ELB improved by 0.0438826 iteration 61 Updating parameters of variational distributions... Calculating ELB.. ELB=-379.317 ELB improved by 0.0346943 iteration 62 Updating parameters of variational distributions... Calculating ELB.. ELB=-379.289 ELB improved by 0.0283902 iteration 63 Updating parameters of variational distributions... Calculating ELB.. ELB=-379.265 ELB improved by 0.0239788 iteration 64 Updating parameters of variational distributions... Calculating ELB.. ELB=-379.244 ELB improved by 0.0208062 iteration 65 Updating parameters of variational distributions... Calculating ELB.. ELB=-379.226 ELB improved by 0.0184474 iteration 66 Updating parameters of variational distributions... Calculating ELB.. ELB=-379.209 ELB improved by 0.0166291 iteration 67 Updating parameters of variational distributions... Calculating ELB.. ELB=-379.194 ELB improved by 0.0151749 iteration 68 Updating parameters of variational distributions... Calculating ELB.. ELB=-379.18 ELB improved by 0.0139683 iteration 69 Updating parameters of variational distributions... Calculating ELB.. ELB=-379.167 ELB improved by 0.0129301 iteration 70 Updating parameters of variational distributions... Calculating ELB.. ELB=-379.155 ELB improved by 0.0120044 iteration 71 Updating parameters of variational distributions... Calculating ELB.. ELB=-379.144 ELB improved by 0.0111516 iteration 72 Updating parameters of variational distributions... Calculating ELB.. ELB=-379.133 ELB improved by 0.0103451 iteration 73 Updating parameters of variational distributions... Calculating ELB.. ELB=-379.124 ELB improved by 0.00956937 ELB converged iteration 1 Updating parameters of variational distributions... Calculating ELB.. ELB=-867.169 ELB improved by inf iteration 2 Updating parameters of variational distributions... Calculating ELB.. ELB=-586.746 ELB improved by 280.423 iteration 3 Updating parameters of variational distributions... Calculating ELB.. ELB=-527.304 ELB improved by 59.4418 iteration 4 Updating parameters of variational distributions... Calculating ELB.. ELB=-481.656 ELB improved by 45.6488 iteration 5 Updating parameters of variational distributions... Calculating ELB.. ELB=-460.305 ELB improved by 21.351 iteration 6 Updating parameters of variational distributions... Calculating ELB.. ELB=-452.194 ELB improved by 8.11012 iteration 7 Updating parameters of variational distributions... Calculating ELB.. ELB=-447.834 ELB improved by 4.36068 iteration 8 Updating parameters of variational distributions... Calculating ELB.. ELB=-444.448 ELB improved by 3.38582 iteration 9 Updating parameters of variational distributions... Calculating ELB.. ELB=-441.394 ELB improved by 3.0537 iteration 10 Updating parameters of variational distributions... Calculating ELB.. ELB=-438.466 ELB improved by 2.92865 iteration 11 Updating parameters of variational distributions... Calculating ELB.. ELB=-435.572 ELB improved by 2.89374 iteration 12 Updating parameters of variational distributions... Calculating ELB.. ELB=-432.647 ELB improved by 2.92529 iteration 13 Updating parameters of variational distributions... Calculating ELB.. ELB=-429.609 ELB improved by 3.03749 iteration 14 Updating parameters of variational distributions... Calculating ELB.. ELB=-426.363 ELB improved by 3.2466 iteration 15 Updating parameters of variational distributions... Calculating ELB.. ELB=-422.858 ELB improved by 3.50429 iteration 16 Updating parameters of variational distributions... Calculating ELB.. ELB=-419.245 ELB improved by 3.61332 iteration 17 Updating parameters of variational distributions... Calculating ELB.. ELB=-415.909 ELB improved by 3.33624 iteration 18 Updating parameters of variational distributions... Calculating ELB.. ELB=-413.226 ELB improved by 2.68237 iteration 19 Updating parameters of variational distributions... Calculating ELB.. ELB=-411.292 ELB improved by 1.93421 iteration 20 Updating parameters of variational distributions... Calculating ELB.. ELB=-409.958 ELB improved by 1.33372 iteration 21 Updating parameters of variational distributions... Calculating ELB.. ELB=-409.062 ELB improved by 0.896033 iteration 22 Updating parameters of variational distributions... Calculating ELB.. ELB=-408.476 ELB improved by 0.586037 iteration 23 Updating parameters of variational distributions... Calculating ELB.. ELB=-408.079 ELB improved by 0.397177 iteration 24 Updating parameters of variational distributions... Calculating ELB.. ELB=-407.789 ELB improved by 0.290188 iteration 25 Updating parameters of variational distributions... Calculating ELB.. ELB=-407.563 ELB improved by 0.226086 iteration 26 Updating parameters of variational distributions... Calculating ELB.. ELB=-407.379 ELB improved by 0.184163 iteration 27 Updating parameters of variational distributions... Calculating ELB.. ELB=-407.224 ELB improved by 0.154553 iteration 28 Updating parameters of variational distributions... Calculating ELB.. ELB=-407.092 ELB improved by 0.132297 iteration 29 Updating parameters of variational distributions... Calculating ELB.. ELB=-406.977 ELB improved by 0.114727 iteration 30 Updating parameters of variational distributions... Calculating ELB.. ELB=-406.877 ELB improved by 0.100358 iteration 31 Updating parameters of variational distributions... Calculating ELB.. ELB=-406.788 ELB improved by 0.0883456 iteration 32 Updating parameters of variational distributions... Calculating ELB.. ELB=-406.71 ELB improved by 0.0782009 iteration 33 Updating parameters of variational distributions... Calculating ELB.. ELB=-406.641 ELB improved by 0.0696112 iteration 34 Updating parameters of variational distributions... Calculating ELB.. ELB=-406.578 ELB improved by 0.0623404 iteration 35 Updating parameters of variational distributions... Calculating ELB.. ELB=-406.522 ELB improved by 0.0561824 iteration 36 Updating parameters of variational distributions... Calculating ELB.. ELB=-406.471 ELB improved by 0.0509496 iteration 37 Updating parameters of variational distributions... Calculating ELB.. ELB=-406.425 ELB improved by 0.0464751 iteration 38 Updating parameters of variational distributions... Calculating ELB.. ELB=-406.382 ELB improved by 0.0426175 iteration 39 Updating parameters of variational distributions... Calculating ELB.. ELB=-406.343 ELB improved by 0.0392618 iteration 40 Updating parameters of variational distributions... Calculating ELB.. ELB=-406.306 ELB improved by 0.036317 iteration 41 Updating parameters of variational distributions... Calculating ELB.. ELB=-406.273 ELB improved by 0.0337124 iteration 42 Updating parameters of variational distributions... Calculating ELB.. ELB=-406.241 ELB improved by 0.0313929 iteration 43 Updating parameters of variational distributions... Calculating ELB.. ELB=-406.212 ELB improved by 0.029315 iteration 44 Updating parameters of variational distributions... Calculating ELB.. ELB=-406.185 ELB improved by 0.0274441 iteration 45 Updating parameters of variational distributions... Calculating ELB.. ELB=-406.159 ELB improved by 0.0257521 iteration 46 Updating parameters of variational distributions... Calculating ELB.. ELB=-406.135 ELB improved by 0.0242158 iteration 47 Updating parameters of variational distributions... Calculating ELB.. ELB=-406.112 ELB improved by 0.0228161 iteration 48 Updating parameters of variational distributions... Calculating ELB.. ELB=-406.09 ELB improved by 0.0215363 iteration 49 Updating parameters of variational distributions... Calculating ELB.. ELB=-406.07 ELB improved by 0.0203627 iteration 50 Updating parameters of variational distributions... Calculating ELB.. ELB=-406.051 ELB improved by 0.0192832 iteration 51 Updating parameters of variational distributions... Calculating ELB.. ELB=-406.032 ELB improved by 0.0182873 iteration 52 Updating parameters of variational distributions... Calculating ELB.. ELB=-406.015 ELB improved by 0.0173661 iteration 53 Updating parameters of variational distributions... Calculating ELB.. ELB=-405.998 ELB improved by 0.0165118 iteration 54 Updating parameters of variational distributions... Calculating ELB.. ELB=-405.983 ELB improved by 0.0157174 iteration 55 Updating parameters of variational distributions... Calculating ELB.. ELB=-405.968 ELB improved by 0.014977 iteration 56 Updating parameters of variational distributions... Calculating ELB.. ELB=-405.953 ELB improved by 0.0142851 iteration 57 Updating parameters of variational distributions... Calculating ELB.. ELB=-405.94 ELB improved by 0.0136374 iteration 58 Updating parameters of variational distributions... Calculating ELB.. ELB=-405.927 ELB improved by 0.0130295 iteration 59 Updating parameters of variational distributions... Calculating ELB.. ELB=-405.914 ELB improved by 0.012458 iteration 60 Updating parameters of variational distributions... Calculating ELB.. ELB=-405.902 ELB improved by 0.0119196 iteration 61 Updating parameters of variational distributions... Calculating ELB.. ELB=-405.891 ELB improved by 0.0114116 iteration 62 Updating parameters of variational distributions... Calculating ELB.. ELB=-405.88 ELB improved by 0.0109315 iteration 63 Updating parameters of variational distributions... Calculating ELB.. ELB=-405.87 ELB improved by 0.010477 iteration 64 Updating parameters of variational distributions... Calculating ELB.. ELB=-405.86 ELB improved by 0.0100462 iteration 65 Updating parameters of variational distributions... Calculating ELB.. ELB=-405.85 ELB improved by 0.0096374 ELB converged iteration 1 Updating parameters of variational distributions... Calculating ELB.. ELB=-845.961 ELB improved by inf iteration 2 Updating parameters of variational distributions... Calculating ELB.. ELB=-563.52 ELB improved by 282.441 iteration 3 Updating parameters of variational distributions... Calculating ELB.. ELB=-502.684 ELB improved by 60.8358 iteration 4 Updating parameters of variational distributions... Calculating ELB.. ELB=-466.949 ELB improved by 35.7351 iteration 5 Updating parameters of variational distributions... Calculating ELB.. ELB=-451.52 ELB improved by 15.4293 iteration 6 Updating parameters of variational distributions... Calculating ELB.. ELB=-443.657 ELB improved by 7.86244 iteration 7 Updating parameters of variational distributions... Calculating ELB.. ELB=-438.149 ELB improved by 5.50808 iteration 8 Updating parameters of variational distributions... Calculating ELB.. ELB=-433.009 ELB improved by 5.13973 iteration 9 Updating parameters of variational distributions... Calculating ELB.. ELB=-427.484 ELB improved by 5.52567 iteration 10 Updating parameters of variational distributions... Calculating ELB.. ELB=-421.375 ELB improved by 6.10819 iteration 11 Updating parameters of variational distributions... Calculating ELB.. ELB=-415.126 ELB improved by 6.24924 iteration 12 Updating parameters of variational distributions... Calculating ELB.. ELB=-409.696 ELB improved by 5.43013 iteration 13 Updating parameters of variational distributions... Calculating ELB.. ELB=-405.793 ELB improved by 3.90263 iteration 14 Updating parameters of variational distributions... Calculating ELB.. ELB=-403.354 ELB improved by 2.43947 iteration 15 Updating parameters of variational distributions... Calculating ELB.. ELB=-401.89 ELB improved by 1.46373 iteration 16 Updating parameters of variational distributions... Calculating ELB.. ELB=-400.973 ELB improved by 0.917112 iteration 17 Updating parameters of variational distributions... Calculating ELB.. ELB=-400.351 ELB improved by 0.622042 iteration 18 Updating parameters of variational distributions... Calculating ELB.. ELB=-399.894 ELB improved by 0.457276 iteration 19 Updating parameters of variational distributions... Calculating ELB.. ELB=-399.534 ELB improved by 0.359683 iteration 20 Updating parameters of variational distributions... Calculating ELB.. ELB=-399.236 ELB improved by 0.29807 iteration 21 Updating parameters of variational distributions... Calculating ELB.. ELB=-398.979 ELB improved by 0.256865 iteration 22 Updating parameters of variational distributions... Calculating ELB.. ELB=-398.751 ELB improved by 0.228066 iteration 23 Updating parameters of variational distributions... Calculating ELB.. ELB=-398.544 ELB improved by 0.207391 iteration 24 Updating parameters of variational distributions... Calculating ELB.. ELB=-398.351 ELB improved by 0.19242 iteration 25 Updating parameters of variational distributions... Calculating ELB.. ELB=-398.17 ELB improved by 0.181702 iteration 26 Updating parameters of variational distributions... Calculating ELB.. ELB=-397.995 ELB improved by 0.174325 iteration 27 Updating parameters of variational distributions... Calculating ELB.. ELB=-397.826 ELB improved by 0.169697 iteration 28 Updating parameters of variational distributions... Calculating ELB.. ELB=-397.658 ELB improved by 0.167435 iteration 29 Updating parameters of variational distributions... Calculating ELB.. ELB=-397.491 ELB improved by 0.167299 iteration 30 Updating parameters of variational distributions... Calculating ELB.. ELB=-397.322 ELB improved by 0.169164 iteration 31 Updating parameters of variational distributions... Calculating ELB.. ELB=-397.149 ELB improved by 0.172996 iteration 32 Updating parameters of variational distributions... Calculating ELB.. ELB=-396.97 ELB improved by 0.17884 iteration 33 Updating parameters of variational distributions... Calculating ELB.. ELB=-396.783 ELB improved by 0.186816 iteration 34 Updating parameters of variational distributions... Calculating ELB.. ELB=-396.586 ELB improved by 0.197107 iteration 35 Updating parameters of variational distributions... Calculating ELB.. ELB=-396.376 ELB improved by 0.20995 iteration 36 Updating parameters of variational distributions... Calculating ELB.. ELB=-396.15 ELB improved by 0.225619 iteration 37 Updating parameters of variational distributions... Calculating ELB.. ELB=-395.906 ELB improved by 0.244389 iteration 38 Updating parameters of variational distributions... Calculating ELB.. ELB=-395.64 ELB improved by 0.266492 iteration 39 Updating parameters of variational distributions... Calculating ELB.. ELB=-395.347 ELB improved by 0.292046 iteration 40 Updating parameters of variational distributions... Calculating ELB.. ELB=-395.027 ELB improved by 0.320962 iteration 41 Updating parameters of variational distributions... Calculating ELB.. ELB=-394.674 ELB improved by 0.352849 iteration 42 Updating parameters of variational distributions... Calculating ELB.. ELB=-394.287 ELB improved by 0.386929 iteration 43 Updating parameters of variational distributions... Calculating ELB.. ELB=-393.865 ELB improved by 0.422025 iteration 44 Updating parameters of variational distributions... Calculating ELB.. ELB=-393.408 ELB improved by 0.456682 iteration 45 Updating parameters of variational distributions... Calculating ELB.. ELB=-392.919 ELB improved by 0.489494 iteration 46 Updating parameters of variational distributions... Calculating ELB.. ELB=-392.399 ELB improved by 0.519617 iteration 47 Updating parameters of variational distributions... Calculating ELB.. ELB=-391.852 ELB improved by 0.54708 iteration 48 Updating parameters of variational distributions... Calculating ELB.. ELB=-391.28 ELB improved by 0.571612 iteration 49 Updating parameters of variational distributions... Calculating ELB.. ELB=-390.692 ELB improved by 0.587863 iteration 50 Updating parameters of variational distributions... Calculating ELB.. ELB=-390.113 ELB improved by 0.579609 iteration 51 Updating parameters of variational distributions... Calculating ELB.. ELB=-389.584 ELB improved by 0.528579 iteration 52 Updating parameters of variational distributions... Calculating ELB.. ELB=-389.145 ELB improved by 0.438693 iteration 53 Updating parameters of variational distributions... Calculating ELB.. ELB=-388.808 ELB improved by 0.33765 iteration 54 Updating parameters of variational distributions... Calculating ELB.. ELB=-388.557 ELB improved by 0.250991 iteration 55 Updating parameters of variational distributions... Calculating ELB.. ELB=-388.37 ELB improved by 0.186482 iteration 56 Updating parameters of variational distributions... Calculating ELB.. ELB=-388.23 ELB improved by 0.140492 iteration 57 Updating parameters of variational distributions... Calculating ELB.. ELB=-388.122 ELB improved by 0.10748 iteration 58 Updating parameters of variational distributions... Calculating ELB.. ELB=-388.039 ELB improved by 0.0833064 iteration 59 Updating parameters of variational distributions... Calculating ELB.. ELB=-387.974 ELB improved by 0.0652857 iteration 60 Updating parameters of variational distributions... Calculating ELB.. ELB=-387.922 ELB improved by 0.0516689 iteration 61 Updating parameters of variational distributions... Calculating ELB.. ELB=-387.881 ELB improved by 0.0412715 iteration 62 Updating parameters of variational distributions... Calculating ELB.. ELB=-387.848 ELB improved by 0.0332626 iteration 63 Updating parameters of variational distributions... Calculating ELB.. ELB=-387.821 ELB improved by 0.0270454 iteration 64 Updating parameters of variational distributions... Calculating ELB.. ELB=-387.798 ELB improved by 0.0221841 iteration 65 Updating parameters of variational distributions... Calculating ELB.. ELB=-387.78 ELB improved by 0.0183571 iteration 66 Updating parameters of variational distributions... Calculating ELB.. ELB=-387.765 ELB improved by 0.0153247 iteration 67 Updating parameters of variational distributions... Calculating ELB.. ELB=-387.752 ELB improved by 0.0129068 iteration 68 Updating parameters of variational distributions... Calculating ELB.. ELB=-387.741 ELB improved by 0.0109671 iteration 69 Updating parameters of variational distributions... Calculating ELB.. ELB=-387.731 ELB improved by 0.00940142 ELB converged [ FAIL 0 | WARN 0 | SKIP 0 | PASS 24 ] > > proc.time() user system elapsed 3.184 0.260 3.425
graper.Rcheck/graper-Ex.timings
name | user | system | elapsed | |
coef.graper | 0.072 | 0.025 | 0.098 | |
getPIPs | 0.064 | 0.021 | 0.085 | |
graper | 0.105 | 0.032 | 0.138 | |
makeExampleData | 0.018 | 0.002 | 0.020 | |
makeExampleDataWithUnequalGroups | 0.019 | 0.002 | 0.021 | |
plotELBO | 0.272 | 0.030 | 0.303 | |
plotGroupPenalties | 0.827 | 0.022 | 0.851 | |
plotPosterior | 0.903 | 0.049 | 0.953 | |
predict.graper | 2.344 | 0.097 | 2.479 | |
print.graper | 0.058 | 0.015 | 0.073 | |