Back to Multiple platform build/check report for BioC 3.12 |
|
This page was generated on 2021-05-06 12:27:52 -0400 (Thu, 06 May 2021).
To the developers/maintainers of the heatmaps package: Please make sure to use the following settings in order to reproduce any error or warning you see on this page. |
Package 821/1974 | Hostname | OS / Arch | INSTALL | BUILD | CHECK | BUILD BIN | ||||||||
heatmaps 1.14.0 (landing page) Malcolm Perry
| malbec1 | Linux (Ubuntu 18.04.5 LTS) / x86_64 | OK | OK | OK | |||||||||
tokay1 | Windows Server 2012 R2 Standard / x64 | OK | OK | OK | OK | |||||||||
merida1 | macOS 10.14.6 Mojave / x86_64 | OK | OK | OK | OK | |||||||||
Package: heatmaps |
Version: 1.14.0 |
Command: /home/biocbuild/bbs-3.12-bioc/R/bin/R CMD build --keep-empty-dirs --no-resave-data heatmaps |
StartedAt: 2021-05-05 19:34:26 -0400 (Wed, 05 May 2021) |
EndedAt: 2021-05-05 19:36:25 -0400 (Wed, 05 May 2021) |
EllapsedTime: 119.4 seconds |
RetCode: 0 |
Status: OK |
PackageFile: heatmaps_1.14.0.tar.gz |
PackageFileSize: 8.325 MiB |
############################################################################## ############################################################################## ### ### Running command: ### ### /home/biocbuild/bbs-3.12-bioc/R/bin/R CMD build --keep-empty-dirs --no-resave-data heatmaps ### ############################################################################## ############################################################################## * checking for file ‘heatmaps/DESCRIPTION’ ... OK * preparing ‘heatmaps’: * checking DESCRIPTION meta-information ... OK * installing the package to build vignettes * creating vignettes ... OK * checking for LF line-endings in source and make files and shell scripts * checking for empty or unneeded directories * looking to see if a ‘data/datalist’ file should be added * building ‘heatmaps_1.14.0.tar.gz’