Back to Multiple platform build/check report for BioC 3.12 |
|
This page was generated on 2021-05-06 12:35:21 -0400 (Thu, 06 May 2021).
To the developers/maintainers of the iGC package: Please make sure to use the following settings in order to reproduce any error or warning you see on this page. |
Package 876/1974 | Hostname | OS / Arch | INSTALL | BUILD | CHECK | BUILD BIN | ||||||||
iGC 1.20.0 (landing page) Liang-Bo Wang
| malbec1 | Linux (Ubuntu 18.04.5 LTS) / x86_64 | OK | OK | OK | ![]() | ||||||||
tokay1 | Windows Server 2012 R2 Standard / x64 | OK | OK | OK | OK | ![]() | ||||||||
merida1 | macOS 10.14.6 Mojave / x86_64 | OK | OK | OK | OK | ![]() | ||||||||
Package: iGC |
Version: 1.20.0 |
Command: rm -rf iGC.buildbin-libdir && mkdir iGC.buildbin-libdir && /Users/biocbuild/BBS/utils/build-universal.sh iGC_1.20.0.tar.gz /Library/Frameworks/R.framework/Versions/Current/Resources/bin/R iGC.buildbin-libdir |
StartedAt: 2021-05-06 08:57:03 -0400 (Thu, 06 May 2021) |
EndedAt: 2021-05-06 08:58:05 -0400 (Thu, 06 May 2021) |
EllapsedTime: 62.3 seconds |
RetCode: 0 |
Status: OK |
PackageFile: iGC_1.20.0.tgz |
PackageFileSize: 3.148 MiB |
############################################################################## ############################################################################## ### ### Running command: ### ### rm -rf iGC.buildbin-libdir && mkdir iGC.buildbin-libdir && /Users/biocbuild/BBS/utils/build-universal.sh iGC_1.20.0.tar.gz /Library/Frameworks/R.framework/Versions/Current/Resources/bin/R iGC.buildbin-libdir ### ############################################################################## ############################################################################## >>>>>>> >>>>>>> INSTALLATION WITH 'R CMD INSTALL --preclean --no-multiarch --library=iGC.buildbin-libdir iGC_1.20.0.tar.gz' >>>>>>> * installing *source* package ‘iGC’ ... ** using staged installation ** R ** data *** moving datasets to lazyload DB ** inst ** byte-compile and prepare package for lazy loading ** help *** installing help indices ** building package indices ** installing vignettes ** testing if installed package can be loaded from temporary location ** testing if installed package can be loaded from final location ** testing if installed package keeps a record of temporary installation path * DONE (iGC)