Back to Multiple platform build/check report for BioC 3.12 |
|
This page was generated on 2021-05-06 12:35:21 -0400 (Thu, 06 May 2021).
To the developers/maintainers of the idr2d package: Please make sure to use the following settings in order to reproduce any error or warning you see on this page. |
Package 875/1974 | Hostname | OS / Arch | INSTALL | BUILD | CHECK | BUILD BIN | ||||||||
idr2d 1.4.0 (landing page) Konstantin Krismer
| malbec1 | Linux (Ubuntu 18.04.5 LTS) / x86_64 | OK | OK | OK | ![]() | ||||||||
tokay1 | Windows Server 2012 R2 Standard / x64 | OK | OK | OK | OK | ![]() | ||||||||
merida1 | macOS 10.14.6 Mojave / x86_64 | OK | OK | OK | OK | ![]() | ||||||||
Package: idr2d |
Version: 1.4.0 |
Command: /Library/Frameworks/R.framework/Versions/Current/Resources/bin/R CMD check --install=check:idr2d.install-out.txt --library=/Library/Frameworks/R.framework/Versions/Current/Resources/library --no-vignettes --timings idr2d_1.4.0.tar.gz |
StartedAt: 2021-05-06 02:47:26 -0400 (Thu, 06 May 2021) |
EndedAt: 2021-05-06 02:51:19 -0400 (Thu, 06 May 2021) |
EllapsedTime: 233.5 seconds |
RetCode: 0 |
Status: OK |
CheckDir: idr2d.Rcheck |
Warnings: 0 |
############################################################################## ############################################################################## ### ### Running command: ### ### /Library/Frameworks/R.framework/Versions/Current/Resources/bin/R CMD check --install=check:idr2d.install-out.txt --library=/Library/Frameworks/R.framework/Versions/Current/Resources/library --no-vignettes --timings idr2d_1.4.0.tar.gz ### ############################################################################## ############################################################################## * using log directory ‘/Users/biocbuild/bbs-3.12-bioc/meat/idr2d.Rcheck’ * using R version 4.0.5 (2021-03-31) * using platform: x86_64-apple-darwin17.0 (64-bit) * using session charset: UTF-8 * using option ‘--no-vignettes’ * checking for file ‘idr2d/DESCRIPTION’ ... OK * this is package ‘idr2d’ version ‘1.4.0’ * package encoding: UTF-8 * checking package namespace information ... OK * checking package dependencies ... OK * checking if this is a source package ... OK * checking if there is a namespace ... OK * checking for hidden files and directories ... OK * checking for portable file names ... OK * checking for sufficient/correct file permissions ... OK * checking whether package ‘idr2d’ can be installed ... OK * checking installed package size ... OK * checking package directory ... OK * checking ‘build’ directory ... OK * checking DESCRIPTION meta-information ... OK * checking top-level files ... OK * checking for left-over files ... OK * checking index information ... OK * checking package subdirectories ... OK * checking R files for non-ASCII characters ... OK * checking R files for syntax errors ... OK * checking whether the package can be loaded ... OK * checking whether the package can be loaded with stated dependencies ... OK * checking whether the package can be unloaded cleanly ... OK * checking whether the namespace can be loaded with stated dependencies ... OK * checking whether the namespace can be unloaded cleanly ... OK * checking dependencies in R code ... OK * checking S3 generic/method consistency ... OK * checking replacement functions ... OK * checking foreign function calls ... OK * checking R code for possible problems ... OK * checking Rd files ... OK * checking Rd metadata ... OK * checking Rd cross-references ... OK * checking for missing documentation entries ... OK * checking for code/documentation mismatches ... OK * checking Rd \usage sections ... OK * checking Rd contents ... OK * checking for unstated dependencies in examples ... OK * checking contents of ‘data’ directory ... OK * checking data for non-ASCII characters ... OK * checking data for ASCII and uncompressed saves ... OK * checking files in ‘vignettes’ ... OK * checking examples ... OK Examples with CPU (user + system) or elapsed time > 5s user system elapsed estimate_idr 5.577 0.664 6.255 estimate_idr2d 5.575 0.566 6.149 * checking for unstated dependencies in ‘tests’ ... OK * checking tests ... Running ‘testthat.R’ OK * checking for unstated dependencies in vignettes ... OK * checking package vignettes in ‘inst/doc’ ... OK * checking running R code from vignettes ... SKIPPED * checking re-building of vignette outputs ... SKIPPED * checking PDF version of manual ... OK * DONE Status: OK
idr2d.Rcheck/00install.out
############################################################################## ############################################################################## ### ### Running command: ### ### /Library/Frameworks/R.framework/Versions/Current/Resources/bin/R CMD INSTALL idr2d ### ############################################################################## ############################################################################## * installing to library ‘/Library/Frameworks/R.framework/Versions/4.0/Resources/library’ * installing *source* package ‘idr2d’ ... ** using staged installation ** R ** data ** inst ** byte-compile and prepare package for lazy loading ** help *** installing help indices ** building package indices ** installing vignettes ** testing if installed package can be loaded from temporary location ** testing if installed package can be loaded from final location ** testing if installed package keeps a record of temporary installation path * DONE (idr2d)
idr2d.Rcheck/tests/testthat.Rout
R version 4.0.5 (2021-03-31) -- "Shake and Throw" Copyright (C) 2021 The R Foundation for Statistical Computing Platform: x86_64-apple-darwin17.0 (64-bit) R is free software and comes with ABSOLUTELY NO WARRANTY. You are welcome to redistribute it under certain conditions. Type 'license()' or 'licence()' for distribution details. R is a collaborative project with many contributors. Type 'contributors()' for more information and 'citation()' on how to cite R or R packages in publications. Type 'demo()' for some demos, 'help()' for on-line help, or 'help.start()' for an HTML browser interface to help. Type 'q()' to quit R. > library(testthat) > library(idr2d) > > test_check("idr2d") [ FAIL 0 | WARN 0 | SKIP 0 | PASS 132 ] > > proc.time() user system elapsed 54.261 4.922 59.230
idr2d.Rcheck/idr2d-Ex.timings
name | user | system | elapsed | |
calculate_midpoint_distance1d | 0.001 | 0.002 | 0.002 | |
calculate_midpoint_distance2d | 0.002 | 0.002 | 0.003 | |
calculate_relative_overlap1d | 0.001 | 0.001 | 0.002 | |
calculate_relative_overlap2d | 0.002 | 0.000 | 0.002 | |
determine_anchor_overlap | 0.278 | 0.007 | 0.287 | |
draw_hic_contact_map | 4.194 | 0.489 | 4.698 | |
draw_idr_distribution_histogram | 1.642 | 0.118 | 1.767 | |
draw_rank_idr_scatterplot | 1.448 | 0.101 | 1.555 | |
draw_value_idr_scatterplot | 1.498 | 0.094 | 1.595 | |
establish_bijection | 0.230 | 0.004 | 0.235 | |
establish_bijection1d | 0.210 | 0.006 | 0.216 | |
establish_bijection2d | 1.286 | 0.026 | 1.324 | |
establish_overlap1d | 0.164 | 0.002 | 0.167 | |
establish_overlap2d | 0.362 | 0.003 | 0.366 | |
estimate_idr | 5.577 | 0.664 | 6.255 | |
estimate_idr1d | 1.281 | 0.104 | 1.386 | |
estimate_idr2d | 5.575 | 0.566 | 6.149 | |
estimate_idr2d_hic | 3.444 | 0.328 | 3.791 | |
preprocess | 0.003 | 0.000 | 0.003 | |
remove_nonstandard_chromosomes1d | 0.231 | 0.021 | 0.253 | |
remove_nonstandard_chromosomes2d | 0.395 | 0.021 | 0.418 | |