Back to Multiple platform build/check report for BioC 3.12 |
|
This page was generated on 2021-05-06 12:35:35 -0400 (Thu, 06 May 2021).
To the developers/maintainers of the maskBAD package: Please make sure to use the following settings in order to reproduce any error or warning you see on this page. |
Package 1005/1974 | Hostname | OS / Arch | INSTALL | BUILD | CHECK | BUILD BIN | ||||||||
maskBAD 1.34.0 (landing page) Michael Dannemann
| malbec1 | Linux (Ubuntu 18.04.5 LTS) / x86_64 | OK | OK | OK | |||||||||
tokay1 | Windows Server 2012 R2 Standard / x64 | OK | OK | OK | OK | |||||||||
merida1 | macOS 10.14.6 Mojave / x86_64 | OK | OK | OK | OK | |||||||||
Package: maskBAD |
Version: 1.34.0 |
Command: rm -rf maskBAD.buildbin-libdir && mkdir maskBAD.buildbin-libdir && /Users/biocbuild/BBS/utils/build-universal.sh maskBAD_1.34.0.tar.gz /Library/Frameworks/R.framework/Versions/Current/Resources/bin/R maskBAD.buildbin-libdir |
StartedAt: 2021-05-06 09:07:49 -0400 (Thu, 06 May 2021) |
EndedAt: 2021-05-06 09:08:45 -0400 (Thu, 06 May 2021) |
EllapsedTime: 55.7 seconds |
RetCode: 0 |
Status: OK |
PackageFile: maskBAD_1.34.0.tgz |
PackageFileSize: 1.437 MiB |
############################################################################## ############################################################################## ### ### Running command: ### ### rm -rf maskBAD.buildbin-libdir && mkdir maskBAD.buildbin-libdir && /Users/biocbuild/BBS/utils/build-universal.sh maskBAD_1.34.0.tar.gz /Library/Frameworks/R.framework/Versions/Current/Resources/bin/R maskBAD.buildbin-libdir ### ############################################################################## ############################################################################## >>>>>>> >>>>>>> INSTALLATION WITH 'R CMD INSTALL --preclean --no-multiarch --library=maskBAD.buildbin-libdir maskBAD_1.34.0.tar.gz' >>>>>>> * installing *source* package ‘maskBAD’ ... ** using staged installation ** R ** data ** inst ** byte-compile and prepare package for lazy loading ** help *** installing help indices ** building package indices ** installing vignettes ** testing if installed package can be loaded from temporary location ** testing if installed package can be loaded from final location ** testing if installed package keeps a record of temporary installation path * DONE (maskBAD)