Back to Multiple platform build/check report for BioC 3.12 |
|
This page was generated on 2021-05-06 12:35:37 -0400 (Thu, 06 May 2021).
To the developers/maintainers of the mdqc package: Please make sure to use the following settings in order to reproduce any error or warning you see on this page. |
Package 1026/1974 | Hostname | OS / Arch | INSTALL | BUILD | CHECK | BUILD BIN | ||||||||
mdqc 1.52.0 (landing page) Gabriela Cohen-Freue
| malbec1 | Linux (Ubuntu 18.04.5 LTS) / x86_64 | OK | OK | OK | ![]() | ||||||||
tokay1 | Windows Server 2012 R2 Standard / x64 | OK | OK | OK | OK | ![]() | ||||||||
merida1 | macOS 10.14.6 Mojave / x86_64 | OK | OK | OK | OK | ![]() | ||||||||
Package: mdqc |
Version: 1.52.0 |
Command: rm -rf mdqc.buildbin-libdir && mkdir mdqc.buildbin-libdir && /Users/biocbuild/BBS/utils/build-universal.sh mdqc_1.52.0.tar.gz /Library/Frameworks/R.framework/Versions/Current/Resources/bin/R mdqc.buildbin-libdir |
StartedAt: 2021-05-06 09:09:29 -0400 (Thu, 06 May 2021) |
EndedAt: 2021-05-06 09:10:26 -0400 (Thu, 06 May 2021) |
EllapsedTime: 56.7 seconds |
RetCode: 0 |
Status: OK |
PackageFile: mdqc_1.52.0.tgz |
PackageFileSize: 228.3 KiB |
############################################################################## ############################################################################## ### ### Running command: ### ### rm -rf mdqc.buildbin-libdir && mkdir mdqc.buildbin-libdir && /Users/biocbuild/BBS/utils/build-universal.sh mdqc_1.52.0.tar.gz /Library/Frameworks/R.framework/Versions/Current/Resources/bin/R mdqc.buildbin-libdir ### ############################################################################## ############################################################################## >>>>>>> >>>>>>> INSTALLATION WITH 'R CMD INSTALL --preclean --no-multiarch --library=mdqc.buildbin-libdir mdqc_1.52.0.tar.gz' >>>>>>> * installing *source* package ‘mdqc’ ... ** using staged installation ** R ** data ** inst ** byte-compile and prepare package for lazy loading ** help *** installing help indices ** building package indices ** installing vignettes ** testing if installed package can be loaded from temporary location ** testing if installed package can be loaded from final location ** testing if installed package keeps a record of temporary installation path * DONE (mdqc)