Back to Multiple platform build/check report for BioC 3.12 |
|
This page was generated on 2021-05-06 12:35:39 -0400 (Thu, 06 May 2021).
To the developers/maintainers of the metabCombiner package: Please make sure to use the following settings in order to reproduce any error or warning you see on this page. |
Package 1045/1974 | Hostname | OS / Arch | INSTALL | BUILD | CHECK | BUILD BIN | ||||||||
metabCombiner 1.0.1 (landing page) Hani Habra
| malbec1 | Linux (Ubuntu 18.04.5 LTS) / x86_64 | OK | OK | WARNINGS | |||||||||
tokay1 | Windows Server 2012 R2 Standard / x64 | OK | OK | WARNINGS | OK | |||||||||
merida1 | macOS 10.14.6 Mojave / x86_64 | OK | OK | WARNINGS | OK | |||||||||
Package: metabCombiner |
Version: 1.0.1 |
Command: rm -rf metabCombiner.buildbin-libdir && mkdir metabCombiner.buildbin-libdir && /Users/biocbuild/BBS/utils/build-universal.sh metabCombiner_1.0.1.tar.gz /Library/Frameworks/R.framework/Versions/Current/Resources/bin/R metabCombiner.buildbin-libdir |
StartedAt: 2021-05-06 09:10:49 -0400 (Thu, 06 May 2021) |
EndedAt: 2021-05-06 09:11:42 -0400 (Thu, 06 May 2021) |
EllapsedTime: 53.1 seconds |
RetCode: 0 |
Status: OK |
PackageFile: metabCombiner_1.0.1.tgz |
PackageFileSize: 1.096 MiB |
############################################################################## ############################################################################## ### ### Running command: ### ### rm -rf metabCombiner.buildbin-libdir && mkdir metabCombiner.buildbin-libdir && /Users/biocbuild/BBS/utils/build-universal.sh metabCombiner_1.0.1.tar.gz /Library/Frameworks/R.framework/Versions/Current/Resources/bin/R metabCombiner.buildbin-libdir ### ############################################################################## ############################################################################## >>>>>>> >>>>>>> INSTALLATION WITH 'R CMD INSTALL --preclean --no-multiarch --library=metabCombiner.buildbin-libdir metabCombiner_1.0.1.tar.gz' >>>>>>> * installing *source* package ‘metabCombiner’ ... ** using staged installation ** libs clang -mmacosx-version-min=10.13 -I"/Library/Frameworks/R.framework/Resources/include" -DNDEBUG -I/usr/local/include -fPIC -Wall -g -O2 -c binByMZ.c -o binByMZ.o clang -mmacosx-version-min=10.13 -I"/Library/Frameworks/R.framework/Resources/include" -DNDEBUG -I/usr/local/include -fPIC -Wall -g -O2 -c findDuplicates.c -o findDuplicates.o clang -mmacosx-version-min=10.13 -I"/Library/Frameworks/R.framework/Resources/include" -DNDEBUG -I/usr/local/include -fPIC -Wall -g -O2 -c labelRows.c -o labelRows.o clang -mmacosx-version-min=10.13 -I"/Library/Frameworks/R.framework/Resources/include" -DNDEBUG -I/usr/local/include -fPIC -Wall -g -O2 -c metabCombiner_init.c -o metabCombiner_init.o clang -mmacosx-version-min=10.13 -I"/Library/Frameworks/R.framework/Resources/include" -DNDEBUG -I/usr/local/include -fPIC -Wall -g -O2 -c selectAnchors.c -o selectAnchors.o clang -mmacosx-version-min=10.13 -I"/Library/Frameworks/R.framework/Resources/include" -DNDEBUG -I/usr/local/include -fPIC -Wall -g -O2 -c write2file.c -o write2file.o clang -mmacosx-version-min=10.13 -dynamiclib -Wl,-headerpad_max_install_names -undefined dynamic_lookup -single_module -multiply_defined suppress -L/Library/Frameworks/R.framework/Resources/lib -L/usr/local/lib -o metabCombiner.so binByMZ.o findDuplicates.o labelRows.o metabCombiner_init.o selectAnchors.o write2file.o -F/Library/Frameworks/R.framework/.. -framework R -Wl,-framework -Wl,CoreFoundation installing to /Users/biocbuild/bbs-3.12-bioc/meat/metabCombiner.buildbin-libdir/00LOCK-metabCombiner/00new/metabCombiner/libs ** R ** data ** demo ** inst ** byte-compile and prepare package for lazy loading ** help *** installing help indices ** building package indices ** installing vignettes ** testing if installed package can be loaded from temporary location ** checking absolute paths in shared objects and dynamic libraries ** testing if installed package can be loaded from final location ** testing if installed package keeps a record of temporary installation path * DONE (metabCombiner) >>>>>>> >>>>>>> FIXING LINKS FOR metabCombiner.buildbin-libdir/metabCombiner/libs/metabCombiner.so >>>>>>> install_name_tool -change "/usr/local/lib/libgcc_s.1.dylib" "/Library/Frameworks/R.framework/Versions/4.0/Resources/lib/libgcc_s.1.dylib" "metabCombiner.buildbin-libdir/metabCombiner/libs/metabCombiner.so" install_name_tool -change "/usr/local/lib/libgfortran.5.dylib" "/Library/Frameworks/R.framework/Versions/4.0/Resources/lib/libgfortran.5.dylib" "metabCombiner.buildbin-libdir/metabCombiner/libs/metabCombiner.so" install_name_tool -change "/usr/local/lib/libquadmath.0.dylib" "/Library/Frameworks/R.framework/Versions/4.0/Resources/lib/libquadmath.0.dylib" "metabCombiner.buildbin-libdir/metabCombiner/libs/metabCombiner.so"