Back to Multiple platform build/check report for BioC 3.12 |
|
This page was generated on 2021-05-06 12:35:40 -0400 (Thu, 06 May 2021).
To the developers/maintainers of the metagenomeSeq package: Please make sure to use the following settings in order to reproduce any error or warning you see on this page. |
Package 1054/1974 | Hostname | OS / Arch | INSTALL | BUILD | CHECK | BUILD BIN | ||||||||
metagenomeSeq 1.32.0 (landing page) Joseph N. Paulson
| malbec1 | Linux (Ubuntu 18.04.5 LTS) / x86_64 | OK | OK | OK | ![]() | ||||||||
tokay1 | Windows Server 2012 R2 Standard / x64 | OK | OK | OK | OK | ![]() | ||||||||
merida1 | macOS 10.14.6 Mojave / x86_64 | OK | OK | OK | OK | ![]() | ||||||||
Package: metagenomeSeq |
Version: 1.32.0 |
Command: rm -rf metagenomeSeq.buildbin-libdir && mkdir metagenomeSeq.buildbin-libdir && /Users/biocbuild/BBS/utils/build-universal.sh metagenomeSeq_1.32.0.tar.gz /Library/Frameworks/R.framework/Versions/Current/Resources/bin/R metagenomeSeq.buildbin-libdir |
StartedAt: 2021-05-06 09:11:28 -0400 (Thu, 06 May 2021) |
EndedAt: 2021-05-06 09:12:15 -0400 (Thu, 06 May 2021) |
EllapsedTime: 47.2 seconds |
RetCode: 0 |
Status: OK |
PackageFile: metagenomeSeq_1.32.0.tgz |
PackageFileSize: 2.061 MiB |
############################################################################## ############################################################################## ### ### Running command: ### ### rm -rf metagenomeSeq.buildbin-libdir && mkdir metagenomeSeq.buildbin-libdir && /Users/biocbuild/BBS/utils/build-universal.sh metagenomeSeq_1.32.0.tar.gz /Library/Frameworks/R.framework/Versions/Current/Resources/bin/R metagenomeSeq.buildbin-libdir ### ############################################################################## ############################################################################## >>>>>>> >>>>>>> INSTALLATION WITH 'R CMD INSTALL --preclean --no-multiarch --library=metagenomeSeq.buildbin-libdir metagenomeSeq_1.32.0.tar.gz' >>>>>>> * installing *source* package ‘metagenomeSeq’ ... ** using staged installation ** R ** data ** inst ** byte-compile and prepare package for lazy loading in method for ‘MRihw’ with signature ‘"fitFeatureModelResults"’: no definition for class “fitFeatureModelResults” in method for ‘MRihw’ with signature ‘"fitZigResults"’: no definition for class “fitZigResults” ** help *** installing help indices ** building package indices ** installing vignettes ** testing if installed package can be loaded from temporary location ** testing if installed package can be loaded from final location ** testing if installed package keeps a record of temporary installation path * DONE (metagenomeSeq)