Back to Multiple platform build/check report for BioC 3.12 |
|
This page was generated on 2021-05-06 12:35:41 -0400 (Thu, 06 May 2021).
To the developers/maintainers of the methrix package: Please make sure to use the following settings in order to reproduce any error or warning you see on this page. |
Package 1069/1974 | Hostname | OS / Arch | INSTALL | BUILD | CHECK | BUILD BIN | ||||||||
methrix 1.4.07 (landing page) Anand Mayakonda
| malbec1 | Linux (Ubuntu 18.04.5 LTS) / x86_64 | OK | OK | OK | ![]() | ||||||||
tokay1 | Windows Server 2012 R2 Standard / x64 | OK | OK | OK | OK | ![]() | ||||||||
merida1 | macOS 10.14.6 Mojave / x86_64 | OK | OK | OK | OK | ![]() | ||||||||
Package: methrix |
Version: 1.4.07 |
Command: /Library/Frameworks/R.framework/Versions/Current/Resources/bin/R CMD check --install=check:methrix.install-out.txt --library=/Library/Frameworks/R.framework/Versions/Current/Resources/library --no-vignettes --timings methrix_1.4.07.tar.gz |
StartedAt: 2021-05-06 03:34:26 -0400 (Thu, 06 May 2021) |
EndedAt: 2021-05-06 03:40:29 -0400 (Thu, 06 May 2021) |
EllapsedTime: 363.1 seconds |
RetCode: 0 |
Status: OK |
CheckDir: methrix.Rcheck |
Warnings: 0 |
############################################################################## ############################################################################## ### ### Running command: ### ### /Library/Frameworks/R.framework/Versions/Current/Resources/bin/R CMD check --install=check:methrix.install-out.txt --library=/Library/Frameworks/R.framework/Versions/Current/Resources/library --no-vignettes --timings methrix_1.4.07.tar.gz ### ############################################################################## ############################################################################## * using log directory ‘/Users/biocbuild/bbs-3.12-bioc/meat/methrix.Rcheck’ * using R version 4.0.5 (2021-03-31) * using platform: x86_64-apple-darwin17.0 (64-bit) * using session charset: UTF-8 * using option ‘--no-vignettes’ * checking for file ‘methrix/DESCRIPTION’ ... OK * this is package ‘methrix’ version ‘1.4.07’ * package encoding: UTF-8 * checking package namespace information ... OK * checking package dependencies ... OK * checking if this is a source package ... OK * checking if there is a namespace ... OK * checking for hidden files and directories ... OK * checking for portable file names ... OK * checking for sufficient/correct file permissions ... OK * checking whether package ‘methrix’ can be installed ... OK * checking installed package size ... OK * checking package directory ... OK * checking ‘build’ directory ... OK * checking DESCRIPTION meta-information ... OK * checking top-level files ... OK * checking for left-over files ... OK * checking index information ... OK * checking package subdirectories ... OK * checking R files for non-ASCII characters ... OK * checking R files for syntax errors ... OK * checking whether the package can be loaded ... OK * checking whether the package can be loaded with stated dependencies ... OK * checking whether the package can be unloaded cleanly ... OK * checking whether the namespace can be loaded with stated dependencies ... OK * checking whether the namespace can be unloaded cleanly ... OK * checking dependencies in R code ... OK * checking S3 generic/method consistency ... OK * checking replacement functions ... OK * checking foreign function calls ... OK * checking R code for possible problems ... NOTE extract_CPGs: no visible global function definition for ‘standardChromosomes’ get_region_summary: no visible binding for global variable ‘..keep’ methrix_pca: no visible global function definition for ‘barplot’ methrix_pca: no visible global function definition for ‘points’ remove_snps: no visible global function definition for ‘seqlevelsStyle<-’ write_bigwigs: no visible global function definition for ‘seqlengths<-’ write_bigwigs: no visible global function definition for ‘seqlengths’ Undefined global functions or variables: ..keep barplot points seqlengths seqlengths<- seqlevelsStyle<- standardChromosomes Consider adding importFrom("graphics", "barplot", "points") to your NAMESPACE file. * checking Rd files ... OK * checking Rd metadata ... OK * checking Rd cross-references ... OK * checking for missing documentation entries ... OK * checking for code/documentation mismatches ... OK * checking Rd \usage sections ... OK * checking Rd contents ... OK * checking for unstated dependencies in examples ... OK * checking contents of ‘data’ directory ... OK * checking data for non-ASCII characters ... OK * checking data for ASCII and uncompressed saves ... OK * checking files in ‘vignettes’ ... OK * checking examples ... OK Examples with CPU (user + system) or elapsed time > 5s user system elapsed remove_snps 6.215 0.229 7.281 * checking for unstated dependencies in ‘tests’ ... OK * checking tests ... Running ‘testthat.R’ OK * checking for unstated dependencies in vignettes ... OK * checking package vignettes in ‘inst/doc’ ... OK * checking running R code from vignettes ... SKIPPED * checking re-building of vignette outputs ... SKIPPED * checking PDF version of manual ... OK * DONE Status: 1 NOTE See ‘/Users/biocbuild/bbs-3.12-bioc/meat/methrix.Rcheck/00check.log’ for details.
methrix.Rcheck/00install.out
############################################################################## ############################################################################## ### ### Running command: ### ### /Library/Frameworks/R.framework/Versions/Current/Resources/bin/R CMD INSTALL methrix ### ############################################################################## ############################################################################## * installing to library ‘/Library/Frameworks/R.framework/Versions/4.0/Resources/library’ * installing *source* package ‘methrix’ ... ** using staged installation ** R ** data ** inst ** byte-compile and prepare package for lazy loading ** help *** installing help indices ** building package indices ** installing vignettes ** testing if installed package can be loaded from temporary location ** testing if installed package can be loaded from final location ** testing if installed package keeps a record of temporary installation path * DONE (methrix)
methrix.Rcheck/tests/testthat.Rout
R version 4.0.5 (2021-03-31) -- "Shake and Throw" Copyright (C) 2021 The R Foundation for Statistical Computing Platform: x86_64-apple-darwin17.0 (64-bit) R is free software and comes with ABSOLUTELY NO WARRANTY. You are welcome to redistribute it under certain conditions. Type 'license()' or 'licence()' for distribution details. R is a collaborative project with many contributors. Type 'contributors()' for more information and 'citation()' on how to cite R or R packages in publications. Type 'demo()' for some demos, 'help()' for on-line help, or 'help.start()' for an HTML browser interface to help. Type 'q()' to quit R. > library(testthat) > library(methrix) Loading required package: data.table Loading required package: SummarizedExperiment Loading required package: MatrixGenerics Loading required package: matrixStats Attaching package: 'MatrixGenerics' The following objects are masked from 'package:matrixStats': colAlls, colAnyNAs, colAnys, colAvgsPerRowSet, colCollapse, colCounts, colCummaxs, colCummins, colCumprods, colCumsums, colDiffs, colIQRDiffs, colIQRs, colLogSumExps, colMadDiffs, colMads, colMaxs, colMeans2, colMedians, colMins, colOrderStats, colProds, colQuantiles, colRanges, colRanks, colSdDiffs, colSds, colSums2, colTabulates, colVarDiffs, colVars, colWeightedMads, colWeightedMeans, colWeightedMedians, colWeightedSds, colWeightedVars, rowAlls, rowAnyNAs, rowAnys, rowAvgsPerColSet, rowCollapse, rowCounts, rowCummaxs, rowCummins, rowCumprods, rowCumsums, rowDiffs, rowIQRDiffs, rowIQRs, rowLogSumExps, rowMadDiffs, rowMads, rowMaxs, rowMeans2, rowMedians, rowMins, rowOrderStats, rowProds, rowQuantiles, rowRanges, rowRanks, rowSdDiffs, rowSds, rowSums2, rowTabulates, rowVarDiffs, rowVars, rowWeightedMads, rowWeightedMeans, rowWeightedMedians, rowWeightedSds, rowWeightedVars Loading required package: GenomicRanges Loading required package: stats4 Loading required package: BiocGenerics Loading required package: parallel Attaching package: 'BiocGenerics' The following objects are masked from 'package:parallel': clusterApply, clusterApplyLB, clusterCall, clusterEvalQ, clusterExport, clusterMap, parApply, parCapply, parLapply, parLapplyLB, parRapply, parSapply, parSapplyLB The following objects are masked from 'package:stats': IQR, mad, sd, var, xtabs The following objects are masked from 'package:base': Filter, Find, Map, Position, Reduce, anyDuplicated, append, as.data.frame, basename, cbind, colnames, dirname, do.call, duplicated, eval, evalq, get, grep, grepl, intersect, is.unsorted, lapply, mapply, match, mget, order, paste, pmax, pmax.int, pmin, pmin.int, rank, rbind, rownames, sapply, setdiff, sort, table, tapply, union, unique, unsplit, which.max, which.min Loading required package: S4Vectors Attaching package: 'S4Vectors' The following objects are masked from 'package:data.table': first, second The following object is masked from 'package:base': expand.grid Loading required package: IRanges Attaching package: 'IRanges' The following object is masked from 'package:data.table': shift Loading required package: GenomeInfoDb Loading required package: Biobase Welcome to Bioconductor Vignettes contain introductory material; view with 'browseVignettes()'. To cite Bioconductor, see 'citation("Biobase")', and for packages 'citation("pkgname")'. Attaching package: 'Biobase' The following object is masked from 'package:MatrixGenerics': rowMedians The following objects are masked from 'package:matrixStats': anyMissing, rowMedians > > test_check("methrix") [ FAIL 0 | WARN 0 | SKIP 0 | PASS 86 ] > > proc.time() user system elapsed 31.435 1.027 32.486
methrix.Rcheck/methrix-Ex.timings
name | user | system | elapsed | |
convert_HDF5_methrix | 0.504 | 0.068 | 0.573 | |
convert_methrix | 0.252 | 0.045 | 0.369 | |
coverage_filter | 0.737 | 0.008 | 0.746 | |
extract_CPGs | 0 | 0 | 0 | |
get_matrix | 0.200 | 0.025 | 0.225 | |
get_region_summary | 0.196 | 0.006 | 0.202 | |
get_stats | 0.850 | 0.007 | 0.859 | |
load_HDF5_methrix | 0.416 | 0.030 | 0.446 | |
mask_methrix | 0.127 | 0.003 | 0.130 | |
methrix2bsseq | 0.000 | 0.000 | 0.001 | |
methrix_data | 0.026 | 0.003 | 0.029 | |
methrix_pca | 0.732 | 0.004 | 0.737 | |
methrix_report | 0.000 | 0.001 | 0.000 | |
order_by_sd | 0.034 | 0.002 | 0.037 | |
plot_coverage | 1.085 | 0.011 | 1.097 | |
plot_density | 1.719 | 0.008 | 1.731 | |
plot_pca | 0.903 | 0.007 | 0.911 | |
plot_stats | 1.339 | 0.007 | 1.347 | |
plot_violin | 1.138 | 0.011 | 1.150 | |
read_bedgraphs | 0.000 | 0.001 | 0.000 | |
region_filter | 0.056 | 0.003 | 0.060 | |
remove_snps | 6.215 | 0.229 | 7.281 | |
remove_uncovered | 0.864 | 0.004 | 0.870 | |
save_HDF5_methrix | 0.413 | 0.031 | 0.446 | |
subset_methrix | 0.032 | 0.002 | 0.035 | |
write_bedgraphs | 0.246 | 0.014 | 0.261 | |
write_bigwigs | 0.446 | 0.016 | 0.463 | |