Back to Multiple platform build/check report for BioC 3.12 |
|
This page was generated on 2021-05-06 12:35:42 -0400 (Thu, 06 May 2021).
To the developers/maintainers of the methylKit package: Please make sure to use the following settings in order to reproduce any error or warning you see on this page. |
Package 1077/1974 | Hostname | OS / Arch | INSTALL | BUILD | CHECK | BUILD BIN | ||||||||
methylKit 1.16.1 (landing page) Altuna Akalin
| malbec1 | Linux (Ubuntu 18.04.5 LTS) / x86_64 | OK | OK | OK | |||||||||
tokay1 | Windows Server 2012 R2 Standard / x64 | OK | OK | OK | OK | |||||||||
merida1 | macOS 10.14.6 Mojave / x86_64 | OK | OK | OK | OK | |||||||||
Package: methylKit |
Version: 1.16.1 |
Command: rm -rf methylKit.buildbin-libdir && mkdir methylKit.buildbin-libdir && /Users/biocbuild/BBS/utils/build-universal.sh methylKit_1.16.1.tar.gz /Library/Frameworks/R.framework/Versions/Current/Resources/bin/R methylKit.buildbin-libdir |
StartedAt: 2021-05-06 09:13:20 -0400 (Thu, 06 May 2021) |
EndedAt: 2021-05-06 09:14:54 -0400 (Thu, 06 May 2021) |
EllapsedTime: 94.0 seconds |
RetCode: 0 |
Status: OK |
PackageFile: methylKit_1.16.1.tgz |
PackageFileSize: 2.6 MiB |
############################################################################## ############################################################################## ### ### Running command: ### ### rm -rf methylKit.buildbin-libdir && mkdir methylKit.buildbin-libdir && /Users/biocbuild/BBS/utils/build-universal.sh methylKit_1.16.1.tar.gz /Library/Frameworks/R.framework/Versions/Current/Resources/bin/R methylKit.buildbin-libdir ### ############################################################################## ############################################################################## >>>>>>> >>>>>>> INSTALLATION WITH 'R CMD INSTALL --preclean --no-multiarch --library=methylKit.buildbin-libdir methylKit_1.16.1.tar.gz' >>>>>>> * installing *source* package ‘methylKit’ ... ** using staged installation ** libs clang++ -mmacosx-version-min=10.13 -std=gnu++11 -I"/Library/Frameworks/R.framework/Resources/include" -DNDEBUG -D_FILE_OFFSET_BITS=64 -I'/Library/Frameworks/R.framework/Versions/4.0/Resources/library/Rcpp/include' -I'/Library/Frameworks/R.framework/Versions/4.0/Resources/library/Rhtslib/include' -I'/Library/Frameworks/R.framework/Versions/4.0/Resources/library/zlibbioc/include' -I/usr/local/include -fPIC -Wall -g -O2 -c RcppExports.cpp -o RcppExports.o In file included from RcppExports.cpp:4: In file included from /Library/Frameworks/R.framework/Versions/4.0/Resources/library/Rcpp/include/Rcpp.h:57: /Library/Frameworks/R.framework/Versions/4.0/Resources/library/Rcpp/include/Rcpp/DataFrame.h:136:18: warning: unused variable 'data' [-Wunused-variable] SEXP data = Parent::get__(); ^ 1 warning generated. clang++ -mmacosx-version-min=10.13 -std=gnu++11 -I"/Library/Frameworks/R.framework/Resources/include" -DNDEBUG -D_FILE_OFFSET_BITS=64 -I'/Library/Frameworks/R.framework/Versions/4.0/Resources/library/Rcpp/include' -I'/Library/Frameworks/R.framework/Versions/4.0/Resources/library/Rhtslib/include' -I'/Library/Frameworks/R.framework/Versions/4.0/Resources/library/zlibbioc/include' -I/usr/local/include -fPIC -Wall -g -O2 -c methCall.cpp -o methCall.o In file included from methCall.cpp:18: In file included from /Library/Frameworks/R.framework/Versions/4.0/Resources/library/Rcpp/include/Rcpp.h:57: /Library/Frameworks/R.framework/Versions/4.0/Resources/library/Rcpp/include/Rcpp/DataFrame.h:136:18: warning: unused variable 'data' [-Wunused-variable] SEXP data = Parent::get__(); ^ 1 warning generated. clang++ -mmacosx-version-min=10.13 -std=gnu++11 -dynamiclib -Wl,-headerpad_max_install_names -undefined dynamic_lookup -single_module -multiply_defined suppress -L/Library/Frameworks/R.framework/Resources/lib -L/usr/local/lib -o methylKit.so RcppExports.o methCall.o /Library/Frameworks/R.framework/Versions/4.0/Resources/library/Rhtslib/usrlib/libhts.a -lcurl -F/Library/Frameworks/R.framework/.. -framework R -Wl,-framework -Wl,CoreFoundation installing to /Users/biocbuild/bbs-3.12-bioc/meat/methylKit.buildbin-libdir/00LOCK-methylKit/00new/methylKit/libs ** R ** data ** inst ** byte-compile and prepare package for lazy loading ** help *** installing help indices ** building package indices ** installing vignettes ** testing if installed package can be loaded from temporary location ** checking absolute paths in shared objects and dynamic libraries ** testing if installed package can be loaded from final location ** testing if installed package keeps a record of temporary installation path * DONE (methylKit) >>>>>>> >>>>>>> FIXING LINKS FOR methylKit.buildbin-libdir/methylKit/libs/methylKit.so >>>>>>> install_name_tool -change "/usr/local/lib/libgcc_s.1.dylib" "/Library/Frameworks/R.framework/Versions/4.0/Resources/lib/libgcc_s.1.dylib" "methylKit.buildbin-libdir/methylKit/libs/methylKit.so" install_name_tool -change "/usr/local/lib/libgfortran.5.dylib" "/Library/Frameworks/R.framework/Versions/4.0/Resources/lib/libgfortran.5.dylib" "methylKit.buildbin-libdir/methylKit/libs/methylKit.so" install_name_tool -change "/usr/local/lib/libquadmath.0.dylib" "/Library/Frameworks/R.framework/Versions/4.0/Resources/lib/libquadmath.0.dylib" "methylKit.buildbin-libdir/methylKit/libs/methylKit.so"