Back to Multiple platform build/check report for BioC 3.12 |
|
This page was generated on 2021-05-06 12:28:16 -0400 (Thu, 06 May 2021).
To the developers/maintainers of the mixOmics package: Please make sure to use the following settings in order to reproduce any error or warning you see on this page. |
Package 1122/1974 | Hostname | OS / Arch | INSTALL | BUILD | CHECK | BUILD BIN | ||||||||
mixOmics 6.14.1 (landing page) Kim-Anh Le Cao
| malbec1 | Linux (Ubuntu 18.04.5 LTS) / x86_64 | OK | OK | OK | |||||||||
tokay1 | Windows Server 2012 R2 Standard / x64 | OK | OK | OK | OK | |||||||||
merida1 | macOS 10.14.6 Mojave / x86_64 | OK | OK | OK | OK | |||||||||
Package: mixOmics |
Version: 6.14.1 |
Command: /home/biocbuild/bbs-3.12-bioc/R/bin/R CMD check --install=check:mixOmics.install-out.txt --library=/home/biocbuild/bbs-3.12-bioc/R/library --no-vignettes --timings mixOmics_6.14.1.tar.gz |
StartedAt: 2021-05-06 03:35:54 -0400 (Thu, 06 May 2021) |
EndedAt: 2021-05-06 03:40:56 -0400 (Thu, 06 May 2021) |
EllapsedTime: 301.7 seconds |
RetCode: 0 |
Status: OK |
CheckDir: mixOmics.Rcheck |
Warnings: 0 |
############################################################################## ############################################################################## ### ### Running command: ### ### /home/biocbuild/bbs-3.12-bioc/R/bin/R CMD check --install=check:mixOmics.install-out.txt --library=/home/biocbuild/bbs-3.12-bioc/R/library --no-vignettes --timings mixOmics_6.14.1.tar.gz ### ############################################################################## ############################################################################## * using log directory ‘/home/biocbuild/bbs-3.12-bioc/meat/mixOmics.Rcheck’ * using R version 4.0.5 (2021-03-31) * using platform: x86_64-pc-linux-gnu (64-bit) * using session charset: UTF-8 * using option ‘--no-vignettes’ * checking for file ‘mixOmics/DESCRIPTION’ ... OK * checking extension type ... Package * this is package ‘mixOmics’ version ‘6.14.1’ * package encoding: UTF-8 * checking package namespace information ... OK * checking package dependencies ... OK * checking if this is a source package ... OK * checking if there is a namespace ... OK * checking for hidden files and directories ... OK * checking for portable file names ... OK * checking for sufficient/correct file permissions ... OK * checking whether package ‘mixOmics’ can be installed ... OK * checking installed package size ... NOTE installed size is 5.3Mb sub-directories of 1Mb or more: R 1.3Mb data 3.3Mb * checking package directory ... OK * checking ‘build’ directory ... OK * checking DESCRIPTION meta-information ... OK * checking top-level files ... OK * checking for left-over files ... OK * checking index information ... OK * checking package subdirectories ... OK * checking R files for non-ASCII characters ... OK * checking R files for syntax errors ... OK * checking whether the package can be loaded ... OK * checking whether the package can be loaded with stated dependencies ... OK * checking whether the package can be unloaded cleanly ... OK * checking whether the namespace can be loaded with stated dependencies ... OK * checking whether the namespace can be unloaded cleanly ... OK * checking dependencies in R code ... OK * checking S3 generic/method consistency ... OK * checking replacement functions ... OK * checking foreign function calls ... OK * checking R code for possible problems ... OK * checking Rd files ... OK * checking Rd metadata ... OK * checking Rd cross-references ... OK * checking for missing documentation entries ... OK * checking for code/documentation mismatches ... OK * checking Rd \usage sections ... OK * checking Rd contents ... OK * checking for unstated dependencies in examples ... OK * checking contents of ‘data’ directory ... OK * checking data for non-ASCII characters ... OK * checking data for ASCII and uncompressed saves ... OK * checking files in ‘vignettes’ ... OK * checking examples ... OK Examples with CPU (user + system) or elapsed time > 5s user system elapsed biplot 17.244 0.020 17.285 background.predict 8.912 0.036 8.957 tune 5.856 0.124 5.995 tune.splsda 5.336 0.096 5.453 pca 5.084 0.028 5.120 * checking for unstated dependencies in ‘tests’ ... OK * checking tests ... Running ‘testthat.R’ OK * checking for unstated dependencies in vignettes ... OK * checking package vignettes in ‘inst/doc’ ... OK * checking running R code from vignettes ... SKIPPED * checking re-building of vignette outputs ... SKIPPED * checking PDF version of manual ... OK * DONE Status: 1 NOTE See ‘/home/biocbuild/bbs-3.12-bioc/meat/mixOmics.Rcheck/00check.log’ for details.
mixOmics.Rcheck/00install.out
############################################################################## ############################################################################## ### ### Running command: ### ### /home/biocbuild/bbs-3.12-bioc/R/bin/R CMD INSTALL mixOmics ### ############################################################################## ############################################################################## * installing to library ‘/home/biocbuild/bbs-3.12-bioc/R/library’ * installing *source* package ‘mixOmics’ ... ** using staged installation ** R ** data ** inst ** byte-compile and prepare package for lazy loading ** help *** installing help indices ** building package indices ** installing vignettes ** testing if installed package can be loaded from temporary location ** testing if installed package can be loaded from final location ** testing if installed package keeps a record of temporary installation path * DONE (mixOmics)
mixOmics.Rcheck/tests/testthat.Rout
R version 4.0.5 (2021-03-31) -- "Shake and Throw" Copyright (C) 2021 The R Foundation for Statistical Computing Platform: x86_64-pc-linux-gnu (64-bit) R is free software and comes with ABSOLUTELY NO WARRANTY. You are welcome to redistribute it under certain conditions. Type 'license()' or 'licence()' for distribution details. R is a collaborative project with many contributors. Type 'contributors()' for more information and 'citation()' on how to cite R or R packages in publications. Type 'demo()' for some demos, 'help()' for on-line help, or 'help.start()' for an HTML browser interface to help. Type 'q()' to quit R. > library(testthat) > library(mixOmics) Loading required package: MASS Loading required package: lattice Loading required package: ggplot2 Loaded mixOmics 6.14.1 Thank you for using mixOmics! Tutorials: http://mixomics.org Bookdown vignette: https://mixomicsteam.github.io/Bookdown Questions, issues: Follow the prompts at http://mixomics.org/contact-us Cite us: citation('mixOmics') > > test_check("mixOmics") $Comp1 AUC p-value AF vs BE 0.863 2.473e-05 $Comp2 AUC p-value AF vs BE 0.9981 7.124e-09 Performing repeated cross-validation... | | | 0% | |======================= | 33% | |=============================================== | 67% | |======================================================================| 100% Performing repeated cross-validation... | | | 0%[ FAIL 0 | WARN 0 | SKIP 0 | PASS 136 ] > > proc.time() user system elapsed 67.220 2.500 66.076
mixOmics.Rcheck/mixOmics-Ex.timings
name | user | system | elapsed | |
S3methods-print | 0.024 | 0.000 | 0.027 | |
auroc | 0.652 | 0.000 | 0.654 | |
background.predict | 8.912 | 0.036 | 8.957 | |
biplot | 17.244 | 0.020 | 17.285 | |
block.pls | 0.476 | 0.004 | 0.482 | |
block.plsda | 0.788 | 0.004 | 0.794 | |
block.spls | 0.668 | 0.004 | 0.673 | |
block.splsda | 0.852 | 0.004 | 0.861 | |
cim | 0.036 | 0.004 | 0.042 | |
cimDiablo | 0.220 | 0.000 | 0.221 | |
circosPlot | 1.344 | 0.004 | 1.350 | |
colors | 0.024 | 0.000 | 0.023 | |
explained_variance | 0.176 | 0.004 | 0.181 | |
get.confusion_matrix | 0.156 | 0.000 | 0.159 | |
image.tune.rcc | 2.120 | 0.004 | 2.127 | |
imgCor | 0.072 | 0.004 | 0.075 | |
impute.nipals | 0.012 | 0.004 | 0.015 | |
ipca | 0.724 | 0.004 | 0.731 | |
logratio-transformations | 0.064 | 0.008 | 0.072 | |
map | 0.004 | 0.000 | 0.005 | |
mat.rank | 0.004 | 0.000 | 0.002 | |
mint.block.pls | 0.124 | 0.000 | 0.126 | |
mint.block.plsda | 0.108 | 0.004 | 0.112 | |
mint.block.spls | 0.148 | 0.000 | 0.148 | |
mint.block.splsda | 0.116 | 0.000 | 0.117 | |
mint.pca | 0.356 | 0.000 | 0.356 | |
mint.pls | 0.692 | 0.000 | 0.694 | |
mint.plsda | 0.852 | 0.000 | 0.853 | |
mint.spls | 0.8 | 0.0 | 0.8 | |
mint.splsda | 0.96 | 0.00 | 0.96 | |
mixOmics | 0.716 | 0.004 | 0.722 | |
nearZeroVar | 1.136 | 0.008 | 1.145 | |
network | 0.020 | 0.000 | 0.019 | |
pca | 5.084 | 0.028 | 5.120 | |
perf | 2.904 | 0.012 | 2.917 | |
plot.rcc | 0.012 | 0.000 | 0.014 | |
plot.tune | 0 | 0 | 0 | |
plotArrow | 3.420 | 0.004 | 3.429 | |
plotDiablo | 0.240 | 0.004 | 0.246 | |
plotIndiv | 0.448 | 0.000 | 0.449 | |
plotLoadings | 0.192 | 0.000 | 0.194 | |
plotVar | 0.836 | 0.000 | 0.844 | |
pls | 0.012 | 0.000 | 0.010 | |
plsda | 0.512 | 0.000 | 0.511 | |
predict | 0.292 | 0.004 | 0.295 | |
rcc | 0.004 | 0.000 | 0.004 | |
selectVar | 0.364 | 0.000 | 0.363 | |
sipca | 0.612 | 0.000 | 0.614 | |
spca | 3.552 | 0.000 | 3.557 | |
spls | 0.572 | 0.000 | 0.578 | |
splsda | 0.528 | 0.000 | 0.525 | |
study_split | 0.008 | 0.000 | 0.007 | |
summary | 0.016 | 0.008 | 0.024 | |
tune | 5.856 | 0.124 | 5.995 | |
tune.block.splsda | 0.004 | 0.000 | 0.001 | |
tune.mint.splsda | 3.440 | 0.004 | 3.448 | |
tune.pca | 0.280 | 0.004 | 0.287 | |
tune.rcc | 2.676 | 0.004 | 2.685 | |
tune.spca | 0.640 | 0.008 | 0.651 | |
tune.spls | 0.004 | 0.000 | 0.000 | |
tune.splsda | 5.336 | 0.096 | 5.453 | |
tune.splslevel | 1.360 | 0.008 | 1.370 | |
unmap | 0.008 | 0.000 | 0.007 | |
vip | 0.016 | 0.000 | 0.015 | |
withinVariation | 0.984 | 0.004 | 0.991 | |
wrapper.rgcca | 0.068 | 0.004 | 0.070 | |
wrapper.sgcca | 0.14 | 0.00 | 0.14 | |