Back to Multiple platform build/check report for BioC 3.12 |
|
This page was generated on 2021-05-06 12:36:03 -0400 (Thu, 06 May 2021).
To the developers/maintainers of the pageRank package: Please make sure to use the following settings in order to reproduce any error or warning you see on this page. |
Package 1291/1974 | Hostname | OS / Arch | INSTALL | BUILD | CHECK | BUILD BIN | ||||||||
pageRank 1.0.0 (landing page) Hongxu Ding
| malbec1 | Linux (Ubuntu 18.04.5 LTS) / x86_64 | OK | OK | OK | |||||||||
tokay1 | Windows Server 2012 R2 Standard / x64 | OK | OK | OK | OK | |||||||||
merida1 | macOS 10.14.6 Mojave / x86_64 | OK | OK | OK | OK | |||||||||
Package: pageRank |
Version: 1.0.0 |
Command: /Library/Frameworks/R.framework/Versions/Current/Resources/bin/R CMD check --install=check:pageRank.install-out.txt --library=/Library/Frameworks/R.framework/Versions/Current/Resources/library --no-vignettes --timings pageRank_1.0.0.tar.gz |
StartedAt: 2021-05-06 04:28:32 -0400 (Thu, 06 May 2021) |
EndedAt: 2021-05-06 04:34:44 -0400 (Thu, 06 May 2021) |
EllapsedTime: 372.6 seconds |
RetCode: 0 |
Status: OK |
CheckDir: pageRank.Rcheck |
Warnings: 0 |
############################################################################## ############################################################################## ### ### Running command: ### ### /Library/Frameworks/R.framework/Versions/Current/Resources/bin/R CMD check --install=check:pageRank.install-out.txt --library=/Library/Frameworks/R.framework/Versions/Current/Resources/library --no-vignettes --timings pageRank_1.0.0.tar.gz ### ############################################################################## ############################################################################## * using log directory ‘/Users/biocbuild/bbs-3.12-bioc/meat/pageRank.Rcheck’ * using R version 4.0.5 (2021-03-31) * using platform: x86_64-apple-darwin17.0 (64-bit) * using session charset: UTF-8 * using option ‘--no-vignettes’ * checking for file ‘pageRank/DESCRIPTION’ ... OK * this is package ‘pageRank’ version ‘1.0.0’ * package encoding: UTF-8 * checking package namespace information ... OK * checking package dependencies ... OK * checking if this is a source package ... OK * checking if there is a namespace ... OK * checking for hidden files and directories ... OK * checking for portable file names ... OK * checking for sufficient/correct file permissions ... OK * checking whether package ‘pageRank’ can be installed ... OK * checking installed package size ... OK * checking package directory ... OK * checking ‘build’ directory ... OK * checking DESCRIPTION meta-information ... OK * checking top-level files ... OK * checking for left-over files ... OK * checking index information ... OK * checking package subdirectories ... OK * checking R files for non-ASCII characters ... OK * checking R files for syntax errors ... OK * checking whether the package can be loaded ... OK * checking whether the package can be loaded with stated dependencies ... OK * checking whether the package can be unloaded cleanly ... OK * checking whether the namespace can be loaded with stated dependencies ... OK * checking whether the namespace can be unloaded cleanly ... OK * checking dependencies in R code ... OK * checking S3 generic/method consistency ... OK * checking replacement functions ... OK * checking foreign function calls ... OK * checking R code for possible problems ... NOTE accessibility_network : <anonymous>: no visible global function definition for ‘name’ Undefined global functions or variables: name * checking Rd files ... OK * checking Rd metadata ... OK * checking Rd cross-references ... OK * checking for missing documentation entries ... OK * checking for code/documentation mismatches ... OK * checking Rd \usage sections ... OK * checking Rd contents ... OK * checking for unstated dependencies in examples ... OK * checking sizes of PDF files under ‘inst/doc’ ... OK * checking files in ‘vignettes’ ... OK * checking examples ... OK Examples with CPU (user + system) or elapsed time > 5s user system elapsed accessibility_network 15.426 0.701 17.760 conformation_network 12.245 0.206 12.473 * checking for unstated dependencies in vignettes ... OK * checking package vignettes in ‘inst/doc’ ... OK * checking running R code from vignettes ... SKIPPED * checking re-building of vignette outputs ... SKIPPED * checking PDF version of manual ... OK * DONE Status: 1 NOTE See ‘/Users/biocbuild/bbs-3.12-bioc/meat/pageRank.Rcheck/00check.log’ for details.
pageRank.Rcheck/00install.out
############################################################################## ############################################################################## ### ### Running command: ### ### /Library/Frameworks/R.framework/Versions/Current/Resources/bin/R CMD INSTALL pageRank ### ############################################################################## ############################################################################## * installing to library ‘/Library/Frameworks/R.framework/Versions/4.0/Resources/library’ * installing *source* package ‘pageRank’ ... ** using staged installation ** R ** byte-compile and prepare package for lazy loading ** help *** installing help indices ** building package indices ** installing vignettes ** testing if installed package can be loaded from temporary location ** testing if installed package can be loaded from final location ** testing if installed package keeps a record of temporary installation path * DONE (pageRank)
pageRank.Rcheck/pageRank-Ex.timings
name | user | system | elapsed | |
P_graph | 2.375 | 0.064 | 2.442 | |
P_null | 1.611 | 0.050 | 1.664 | |
accessibility_network | 15.426 | 0.701 | 17.760 | |
adjust_graph | 0.036 | 0.002 | 0.038 | |
aracne_network | 1.542 | 0.094 | 1.639 | |
bubble_plot | 0.005 | 0.000 | 0.006 | |
clean_graph | 0.032 | 0.002 | 0.034 | |
conformation_network | 12.245 | 0.206 | 12.473 | |
diff_graph | 0.110 | 0.003 | 0.113 | |
get_color_gradient | 0.000 | 0.000 | 0.001 | |
multiplex_page_rank | 0.026 | 0.002 | 0.028 | |
time_expmat | 0.000 | 0.001 | 0.001 | |