Back to Multiple platform build/check report for BioC 3.12 |
|
This page was generated on 2021-05-06 12:36:13 -0400 (Thu, 06 May 2021).
To the developers/maintainers of the pulsedSilac package: Please make sure to use the following settings in order to reproduce any error or warning you see on this page. |
Package 1412/1974 | Hostname | OS / Arch | INSTALL | BUILD | CHECK | BUILD BIN | ||||||||
pulsedSilac 1.4.0 (landing page) Marc Pagès-Gallego
| malbec1 | Linux (Ubuntu 18.04.5 LTS) / x86_64 | OK | OK | OK | |||||||||
tokay1 | Windows Server 2012 R2 Standard / x64 | OK | OK | OK | OK | |||||||||
merida1 | macOS 10.14.6 Mojave / x86_64 | OK | OK | OK | OK | |||||||||
Package: pulsedSilac |
Version: 1.4.0 |
Command: rm -rf pulsedSilac.buildbin-libdir && mkdir pulsedSilac.buildbin-libdir && /Users/biocbuild/BBS/utils/build-universal.sh pulsedSilac_1.4.0.tar.gz /Library/Frameworks/R.framework/Versions/Current/Resources/bin/R pulsedSilac.buildbin-libdir |
StartedAt: 2021-05-06 09:38:52 -0400 (Thu, 06 May 2021) |
EndedAt: 2021-05-06 09:39:50 -0400 (Thu, 06 May 2021) |
EllapsedTime: 57.4 seconds |
RetCode: 0 |
Status: OK |
PackageFile: pulsedSilac_1.4.0.tgz |
PackageFileSize: 3.44 MiB |
############################################################################## ############################################################################## ### ### Running command: ### ### rm -rf pulsedSilac.buildbin-libdir && mkdir pulsedSilac.buildbin-libdir && /Users/biocbuild/BBS/utils/build-universal.sh pulsedSilac_1.4.0.tar.gz /Library/Frameworks/R.framework/Versions/Current/Resources/bin/R pulsedSilac.buildbin-libdir ### ############################################################################## ############################################################################## >>>>>>> >>>>>>> INSTALLATION WITH 'R CMD INSTALL --preclean --no-multiarch --library=pulsedSilac.buildbin-libdir pulsedSilac_1.4.0.tar.gz' >>>>>>> * installing *source* package ‘pulsedSilac’ ... ** using staged installation ** R ** data ** inst ** byte-compile and prepare package for lazy loading in method for ‘addMisscleavedPeptides’ with signature ‘"SilacProteinExperiment"’: no definition for class “SilacProteinExperiment” in method for ‘addMisscleavedPeptides’ with signature ‘"SilacPeptideExperiment"’: no definition for class “SilacPeptideExperiment” in method for ‘addMisscleavedPeptides’ with signature ‘"SilacProteomicsExperiment"’: no definition for class “SilacProteomicsExperiment” ** help *** installing help indices ** building package indices ** installing vignettes ** testing if installed package can be loaded from temporary location ** testing if installed package can be loaded from final location ** testing if installed package keeps a record of temporary installation path * DONE (pulsedSilac)