Back to Multiple platform build/check report for BioC 3.12 |
|
This page was generated on 2021-05-06 12:36:40 -0400 (Thu, 06 May 2021).
To the developers/maintainers of the scCB2 package: Please make sure to use the following settings in order to reproduce any error or warning you see on this page. |
Package 1632/1974 | Hostname | OS / Arch | INSTALL | BUILD | CHECK | BUILD BIN | ||||||||
scCB2 1.0.0 (landing page) Zijian Ni
| malbec1 | Linux (Ubuntu 18.04.5 LTS) / x86_64 | OK | OK | OK | |||||||||
tokay1 | Windows Server 2012 R2 Standard / x64 | OK | OK | OK | OK | |||||||||
merida1 | macOS 10.14.6 Mojave / x86_64 | OK | OK | OK | OK | |||||||||
Package: scCB2 |
Version: 1.0.0 |
Command: rm -rf scCB2.buildbin-libdir && mkdir scCB2.buildbin-libdir && /Users/biocbuild/BBS/utils/build-universal.sh scCB2_1.0.0.tar.gz /Library/Frameworks/R.framework/Versions/Current/Resources/bin/R scCB2.buildbin-libdir |
StartedAt: 2021-05-06 09:55:35 -0400 (Thu, 06 May 2021) |
EndedAt: 2021-05-06 09:56:33 -0400 (Thu, 06 May 2021) |
EllapsedTime: 58.8 seconds |
RetCode: 0 |
Status: OK |
PackageFile: scCB2_1.0.0.tgz |
PackageFileSize: 883.8 KiB |
############################################################################## ############################################################################## ### ### Running command: ### ### rm -rf scCB2.buildbin-libdir && mkdir scCB2.buildbin-libdir && /Users/biocbuild/BBS/utils/build-universal.sh scCB2_1.0.0.tar.gz /Library/Frameworks/R.framework/Versions/Current/Resources/bin/R scCB2.buildbin-libdir ### ############################################################################## ############################################################################## >>>>>>> >>>>>>> INSTALLATION WITH 'R CMD INSTALL --preclean --no-multiarch --library=scCB2.buildbin-libdir scCB2_1.0.0.tar.gz' >>>>>>> * installing *source* package ‘scCB2’ ... ** using staged installation ** R ** data ** inst ** byte-compile and prepare package for lazy loading ** help *** installing help indices ** building package indices ** installing vignettes ** testing if installed package can be loaded from temporary location ** testing if installed package can be loaded from final location ** testing if installed package keeps a record of temporary installation path * DONE (scCB2)