Back to Multiple platform build/check report for BioC 3.12 |
|
This page was generated on 2021-05-06 12:36:47 -0400 (Thu, 06 May 2021).
To the developers/maintainers of the sevenbridges package: Please make sure to use the following settings in order to reproduce any error or warning you see on this page. |
Package 1691/1974 | Hostname | OS / Arch | INSTALL | BUILD | CHECK | BUILD BIN | ||||||||
sevenbridges 1.20.1 (landing page) Soner Koc
| malbec1 | Linux (Ubuntu 18.04.5 LTS) / x86_64 | OK | OK | OK | ![]() | ||||||||
tokay1 | Windows Server 2012 R2 Standard / x64 | OK | OK | OK | OK | ![]() | ||||||||
merida1 | macOS 10.14.6 Mojave / x86_64 | OK | OK | OK | OK | ![]() | ||||||||
Package: sevenbridges |
Version: 1.20.1 |
Command: /Library/Frameworks/R.framework/Versions/Current/Resources/bin/R CMD check --install=check:sevenbridges.install-out.txt --library=/Library/Frameworks/R.framework/Versions/Current/Resources/library --no-vignettes --timings sevenbridges_1.20.1.tar.gz |
StartedAt: 2021-05-06 06:10:47 -0400 (Thu, 06 May 2021) |
EndedAt: 2021-05-06 06:14:21 -0400 (Thu, 06 May 2021) |
EllapsedTime: 213.3 seconds |
RetCode: 0 |
Status: OK |
CheckDir: sevenbridges.Rcheck |
Warnings: 0 |
############################################################################## ############################################################################## ### ### Running command: ### ### /Library/Frameworks/R.framework/Versions/Current/Resources/bin/R CMD check --install=check:sevenbridges.install-out.txt --library=/Library/Frameworks/R.framework/Versions/Current/Resources/library --no-vignettes --timings sevenbridges_1.20.1.tar.gz ### ############################################################################## ############################################################################## * using log directory ‘/Users/biocbuild/bbs-3.12-bioc/meat/sevenbridges.Rcheck’ * using R version 4.0.5 (2021-03-31) * using platform: x86_64-apple-darwin17.0 (64-bit) * using session charset: UTF-8 * using option ‘--no-vignettes’ * checking for file ‘sevenbridges/DESCRIPTION’ ... OK * checking extension type ... Package * this is package ‘sevenbridges’ version ‘1.20.1’ * package encoding: UTF-8 * checking package namespace information ... OK * checking package dependencies ... OK * checking if this is a source package ... OK * checking if there is a namespace ... OK * checking for hidden files and directories ... OK * checking for portable file names ... OK * checking for sufficient/correct file permissions ... OK * checking whether package ‘sevenbridges’ can be installed ... OK * checking installed package size ... OK * checking package directory ... OK * checking ‘build’ directory ... OK * checking DESCRIPTION meta-information ... OK * checking top-level files ... OK * checking for left-over files ... OK * checking index information ... OK * checking package subdirectories ... OK * checking R files for non-ASCII characters ... OK * checking R files for syntax errors ... OK * checking whether the package can be loaded ... OK * checking whether the package can be loaded with stated dependencies ... OK * checking whether the package can be unloaded cleanly ... OK * checking whether the namespace can be loaded with stated dependencies ... OK * checking whether the namespace can be unloaded cleanly ... OK * checking dependencies in R code ... OK * checking S3 generic/method consistency ... OK * checking replacement functions ... OK * checking foreign function calls ... OK * checking R code for possible problems ... OK * checking Rd files ... OK * checking Rd metadata ... OK * checking Rd cross-references ... OK * checking for missing documentation entries ... OK * checking for code/documentation mismatches ... OK * checking Rd \usage sections ... OK * checking Rd contents ... OK * checking for unstated dependencies in examples ... OK * checking files in ‘vignettes’ ... OK * checking examples ... OK Examples with CPU (user + system) or elapsed time > 5s user system elapsed Flow 66.777 0.167 67.012 Tool-class 18.918 0.097 19.052 link_what 11.232 0.057 11.307 link 8.936 0.018 8.961 convert_app 7.146 0.020 7.175 * checking for unstated dependencies in ‘tests’ ... OK * checking tests ... Running ‘testthat.R’ OK * checking for unstated dependencies in vignettes ... OK * checking package vignettes in ‘inst/doc’ ... OK * checking running R code from vignettes ... SKIPPED * checking re-building of vignette outputs ... SKIPPED * checking PDF version of manual ... OK * DONE Status: OK
sevenbridges.Rcheck/00install.out
############################################################################## ############################################################################## ### ### Running command: ### ### /Library/Frameworks/R.framework/Versions/Current/Resources/bin/R CMD INSTALL sevenbridges ### ############################################################################## ############################################################################## * installing to library ‘/Library/Frameworks/R.framework/Versions/4.0/Resources/library’ * installing *source* package ‘sevenbridges’ ... ** using staged installation ** R ** inst ** byte-compile and prepare package for lazy loading ** help *** installing help indices ** building package indices ** installing vignettes ** testing if installed package can be loaded from temporary location ** testing if installed package can be loaded from final location ** testing if installed package keeps a record of temporary installation path * DONE (sevenbridges)
sevenbridges.Rcheck/tests/testthat.Rout
R version 4.0.5 (2021-03-31) -- "Shake and Throw" Copyright (C) 2021 The R Foundation for Statistical Computing Platform: x86_64-apple-darwin17.0 (64-bit) R is free software and comes with ABSOLUTELY NO WARRANTY. You are welcome to redistribute it under certain conditions. Type 'license()' or 'licence()' for distribution details. R is a collaborative project with many contributors. Type 'contributors()' for more information and 'citation()' on how to cite R or R packages in publications. Type 'demo()' for some demos, 'help()' for on-line help, or 'help.start()' for an HTML browser interface to help. Type 'q()' to quit R. > library("testthat") > library("sevenbridges") > test_check("sevenbridges") [ FAIL 0 | WARN 0 | SKIP 0 | PASS 0 ] > > proc.time() user system elapsed 2.975 0.197 3.159
sevenbridges.Rcheck/sevenbridges-Ex.timings
name | user | system | elapsed | |
App-class | 0.000 | 0.000 | 0.001 | |
Auth-class | 0.008 | 0.001 | 0.010 | |
Binding | 0.061 | 0.007 | 0.068 | |
CCBList | 0.019 | 0.002 | 0.020 | |
CWL | 0.001 | 0.000 | 0.001 | |
CommandInputParameter-class | 0.053 | 0.002 | 0.056 | |
CommandInputSchema-class | 0.027 | 0.000 | 0.028 | |
CommandLineBinding-class | 0.012 | 0.000 | 0.011 | |
CommandLineTool | 0.018 | 0.001 | 0.019 | |
CommandOutputBinding-class | 0.008 | 0.001 | 0.007 | |
CommandOutputParameter-class | 0.018 | 0.000 | 0.018 | |
CommandOutputSchema-class | 0.020 | 0.001 | 0.019 | |
DSCList | 0.021 | 0.001 | 0.022 | |
Enum | 0.028 | 0.001 | 0.029 | |
Expression-class | 0.008 | 0.000 | 0.009 | |
ExpressionTool-class | 0.026 | 0.001 | 0.026 | |
File-class | 0.078 | 0.002 | 0.080 | |
Files-class | 0.011 | 0.000 | 0.011 | |
Flow | 66.777 | 0.167 | 67.012 | |
Metadata | 0.120 | 0.002 | 0.123 | |
Parameter | 0.042 | 0.000 | 0.043 | |
Process | 0.060 | 0.001 | 0.061 | |
ProcessRequirement | 0.080 | 0.001 | 0.081 | |
Schema | 0.024 | 0.000 | 0.024 | |
TaskHook | 0.003 | 0.001 | 0.003 | |
Tool-class | 18.918 | 0.097 | 19.052 | |
Workflow | 0.040 | 0.001 | 0.040 | |
WorkflowStep | 0.009 | 0.001 | 0.010 | |
addIdNum | 0.001 | 0.000 | 0.001 | |
api | 0 | 0 | 0 | |
as-methods | 0.100 | 0.002 | 0.102 | |
batch | 0.001 | 0.001 | 0.002 | |
cli_list_projects | 0.001 | 0.001 | 0.001 | |
cli_list_tags | 0.000 | 0.001 | 0.001 | |
cli_upload | 0 | 0 | 0 | |
convert_app | 7.146 | 0.020 | 7.175 | |
cwl-utils | 0.137 | 0.003 | 0.140 | |
delete-methods | 0 | 0 | 0 | |
download-methods | 0 | 0 | 0 | |
get_token | 0 | 0 | 0 | |
get_uploader | 0 | 0 | 0 | |
input_output_matrix | 0.103 | 0.003 | 0.106 | |
link | 8.936 | 0.018 | 8.961 | |
link_what | 11.232 | 0.057 | 11.307 | |
project_details | 0 | 0 | 0 | |
project_members | 0.001 | 0.000 | 0.001 | |
requirements | 0.067 | 0.001 | 0.067 | |
response-methods | 0.000 | 0.000 | 0.001 | |
sbg_get_env | 0.000 | 0.000 | 0.001 | |
sbg_set_env | 0.000 | 0.001 | 0.000 | |
set_test_env | 0 | 0 | 0 | |
shorthand-cwl | 0.036 | 0.000 | 0.038 | |
tag-methods | 0 | 0 | 0 | |
test_tool_bunny | 0.000 | 0.001 | 0.001 | |
test_tool_cwlrun | 0.001 | 0.000 | 0.001 | |
test_tool_rabix | 0 | 0 | 0 | |
upload_complete_all | 0.000 | 0.000 | 0.001 | |
upload_complete_part | 0 | 0 | 0 | |
upload_delete | 0 | 0 | 0 | |
upload_info | 0.000 | 0.001 | 0.000 | |
upload_info_part | 0 | 0 | 0 | |
upload_init | 0.001 | 0.000 | 0.001 | |