Back to Multiple platform build/check report for BioC 3.12 |
|
This page was generated on 2021-05-06 12:36:57 -0400 (Thu, 06 May 2021).
To the developers/maintainers of the ssPATHS package: Please make sure to use the following settings in order to reproduce any error or warning you see on this page. |
Package 1792/1974 | Hostname | OS / Arch | INSTALL | BUILD | CHECK | BUILD BIN | ||||||||
ssPATHS 1.4.0 (landing page) Natalie R. Davidson
| malbec1 | Linux (Ubuntu 18.04.5 LTS) / x86_64 | OK | OK | OK | |||||||||
tokay1 | Windows Server 2012 R2 Standard / x64 | OK | OK | OK | OK | |||||||||
merida1 | macOS 10.14.6 Mojave / x86_64 | OK | OK | OK | OK | |||||||||
Package: ssPATHS |
Version: 1.4.0 |
Command: /Library/Frameworks/R.framework/Versions/Current/Resources/bin/R CMD build --keep-empty-dirs --no-resave-data ssPATHS |
StartedAt: 2021-05-05 22:26:49 -0400 (Wed, 05 May 2021) |
EndedAt: 2021-05-05 22:27:30 -0400 (Wed, 05 May 2021) |
EllapsedTime: 41.1 seconds |
RetCode: 0 |
Status: OK |
PackageFile: ssPATHS_1.4.0.tar.gz |
PackageFileSize: 3.62 MiB |
############################################################################## ############################################################################## ### ### Running command: ### ### /Library/Frameworks/R.framework/Versions/Current/Resources/bin/R CMD build --keep-empty-dirs --no-resave-data ssPATHS ### ############################################################################## ############################################################################## * checking for file ‘ssPATHS/DESCRIPTION’ ... OK * preparing ‘ssPATHS’: * checking DESCRIPTION meta-information ... OK * installing the package to build vignettes * creating vignettes ... OK * checking for LF line-endings in source and make files and shell scripts * checking for empty or unneeded directories NB: this package now depends on R (>= 3.5.0) WARNING: Added dependency on R >= 3.5.0 because serialized objects in serialize/load version 3 cannot be read in older versions of R. File(s) containing such objects: ‘ssPATHS/data/expected_score_output.RData’ WARNING: Added dependency on R >= 3.5.0 because serialized objects in serialize/load version 3 cannot be read in older versions of R. File(s) containing such objects: ‘ssPATHS/data/gene_weights_reference.RData’ * building ‘ssPATHS_1.4.0.tar.gz’