Back to Multiple platform build/check report for BioC 3.12 |
|
This page was generated on 2021-05-06 12:37:21 -0400 (Thu, 06 May 2021).
To the developers/maintainers of the wpm package: Please make sure to use the following settings in order to reproduce any error or warning you see on this page. |
Package 1956/1974 | Hostname | OS / Arch | INSTALL | BUILD | CHECK | BUILD BIN | ||||||||
wpm 1.0.0 (landing page) Helene Borges
| malbec1 | Linux (Ubuntu 18.04.5 LTS) / x86_64 | OK | OK | OK | ![]() | ||||||||
tokay1 | Windows Server 2012 R2 Standard / x64 | OK | OK | OK | OK | ![]() | ||||||||
merida1 | macOS 10.14.6 Mojave / x86_64 | OK | OK | OK | OK | ![]() | ||||||||
Package: wpm |
Version: 1.0.0 |
Command: rm -rf wpm.buildbin-libdir && mkdir wpm.buildbin-libdir && /Users/biocbuild/BBS/utils/build-universal.sh wpm_1.0.0.tar.gz /Library/Frameworks/R.framework/Versions/Current/Resources/bin/R wpm.buildbin-libdir |
StartedAt: 2021-05-06 10:21:05 -0400 (Thu, 06 May 2021) |
EndedAt: 2021-05-06 10:22:02 -0400 (Thu, 06 May 2021) |
EllapsedTime: 57.4 seconds |
RetCode: 0 |
Status: OK |
PackageFile: wpm_1.0.0.tgz |
PackageFileSize: 1.827 MiB |
############################################################################## ############################################################################## ### ### Running command: ### ### rm -rf wpm.buildbin-libdir && mkdir wpm.buildbin-libdir && /Users/biocbuild/BBS/utils/build-universal.sh wpm_1.0.0.tar.gz /Library/Frameworks/R.framework/Versions/Current/Resources/bin/R wpm.buildbin-libdir ### ############################################################################## ############################################################################## >>>>>>> >>>>>>> INSTALLATION WITH 'R CMD INSTALL --preclean --no-multiarch --library=wpm.buildbin-libdir wpm_1.0.0.tar.gz' >>>>>>> * installing *source* package ‘wpm’ ... ** using staged installation ** R ** inst ** byte-compile and prepare package for lazy loading ** help *** installing help indices ** building package indices ** installing vignettes ** testing if installed package can be loaded from temporary location ── This is the Well-Plate Maker package. ─────────────────────────────────────── If you want to use the shiny application, then simply run: `wpm()`.If you want to see the Tutorial vignette and use WPM in command line, run: `browseVignettes('wpm')`. ** testing if installed package can be loaded from final location ── This is the Well-Plate Maker package. ─────────────────────────────────────── If you want to use the shiny application, then simply run: `wpm()`.If you want to see the Tutorial vignette and use WPM in command line, run: `browseVignettes('wpm')`. ** testing if installed package keeps a record of temporary installation path * DONE (wpm)