Back to Long Tests report for BioC 3.12 |
This page was generated on 2021-05-08 14:20:33 -0400 (Sat, 08 May 2021).
To the developers/maintainers of the DropletUtils package: Please make sure to use the following settings in order to reproduce any error or warning you see on this page. |
Package 6/10 | Hostname | OS / Arch | CHECK | |||||||
DropletUtils 1.10.3 (landing page) Aaron Lun
| malbec1 | Linux (Ubuntu 18.04.5 LTS) / x86_64 | OK | |||||||
tokay1 | Windows Server 2012 R2 Standard / x64 | ERROR | ||||||||
merida1 | macOS 10.14.6 Mojave / x86_64 | OK | ||||||||
Package: DropletUtils |
Version: 1.10.3 |
Command: /Library/Frameworks/R.framework/Versions/Current/Resources/bin/R CMD build --keep-empty-dirs --no-resave-data --no-build-vignettes --no-manual DropletUtils |
StartedAt: 2021-05-08 09:30:44 -0400 (Sat, 08 May 2021) |
EndedAt: 2021-05-08 09:30:58 -0400 (Sat, 08 May 2021) |
EllapsedTime: 14.0 seconds |
RetCode: 0 |
Status: OK |
PackageFile: DropletUtils_1.10.3.tar.gz |
PackageFileSize: 101.9 KiB |
############################################################################## ############################################################################## ### ### Running command: ### ### /Library/Frameworks/R.framework/Versions/Current/Resources/bin/R CMD build --keep-empty-dirs --no-resave-data --no-build-vignettes --no-manual DropletUtils ### ############################################################################## ############################################################################## * checking for file ‘DropletUtils/DESCRIPTION’ ... OK * preparing ‘DropletUtils’: * checking DESCRIPTION meta-information ... OK * cleaning src * checking for LF line-endings in source and make files and shell scripts * checking for empty or unneeded directories * building ‘DropletUtils_1.10.3.tar.gz’