Back to Long Tests report for BioC 3.12 |
This page was generated on 2021-05-08 14:20:33 -0400 (Sat, 08 May 2021).
To the developers/maintainers of the beachmat package: Please make sure to use the following settings in order to reproduce any error or warning you see on this page. |
Package 2/10 | Hostname | OS / Arch | CHECK | |||||||
beachmat 2.6.4 (landing page) Aaron Lun
| malbec1 | Linux (Ubuntu 18.04.5 LTS) / x86_64 | ERROR | |||||||
tokay1 | Windows Server 2012 R2 Standard / x64 | ERROR | ||||||||
merida1 | macOS 10.14.6 Mojave / x86_64 | ERROR | ||||||||
Package: beachmat |
Version: 2.6.4 |
Command: chmod a+r beachmat -R && C:\Users\biocbuild\bbs-3.12-bioc\R\bin\R.exe CMD build --keep-empty-dirs --no-resave-data --no-build-vignettes --no-manual beachmat |
StartedAt: 2021-05-08 09:32:47 -0400 (Sat, 08 May 2021) |
EndedAt: 2021-05-08 09:32:59 -0400 (Sat, 08 May 2021) |
EllapsedTime: 12.0 seconds |
RetCode: 0 |
Status: OK |
PackageFile: beachmat_2.6.4.tar.gz |
PackageFileSize: 88.68 KiB |
############################################################################## ############################################################################## ### ### Running command: ### ### chmod a+r beachmat -R && C:\Users\biocbuild\bbs-3.12-bioc\R\bin\R.exe CMD build --keep-empty-dirs --no-resave-data --no-build-vignettes --no-manual beachmat ### ############################################################################## ############################################################################## * checking for file 'beachmat/DESCRIPTION' ... OK * preparing 'beachmat': * checking DESCRIPTION meta-information ... OK * checking for LF line-endings in source and make files and shell scripts * checking for empty or unneeded directories * building 'beachmat_2.6.4.tar.gz'