Back to Build/check report for BioC 3.12 experimental data |
|
This page was generated on 2021-05-06 14:10:14 -0400 (Thu, 06 May 2021).
To the developers/maintainers of the scTHI.data package: Please make sure to use the following settings in order to reproduce any error or warning you see on this page. |
Package 335/398 | Hostname | OS / Arch | INSTALL | BUILD | CHECK | ||||||||
scTHI.data 1.2.0 (landing page) Michele Ceccarelli
| malbec1 | Linux (Ubuntu 18.04.5 LTS) / x86_64 | OK | OK | OK | ![]() | |||||||
Package: scTHI.data |
Version: 1.2.0 |
Command: /home/biocbuild/bbs-3.12-bioc/R/bin/R CMD build --keep-empty-dirs --no-resave-data scTHI.data |
StartedAt: 2021-05-06 11:23:12 -0400 (Thu, 06 May 2021) |
EndedAt: 2021-05-06 11:23:20 -0400 (Thu, 06 May 2021) |
EllapsedTime: 7.9 seconds |
RetCode: 0 |
Status: OK |
PackageFile: scTHI.data_1.2.0.tar.gz |
PackageFileSize: 24.17 MiB |
############################################################################## ############################################################################## ### ### Running command: ### ### /home/biocbuild/bbs-3.12-bioc/R/bin/R CMD build --keep-empty-dirs --no-resave-data scTHI.data ### ############################################################################## ############################################################################## * checking for file ‘scTHI.data/DESCRIPTION’ ... OK * preparing ‘scTHI.data’: * checking DESCRIPTION meta-information ... OK * checking for LF line-endings in source and make files and shell scripts * checking for empty or unneeded directories * looking to see if a ‘data/datalist’ file should be added * building ‘scTHI.data_1.2.0.tar.gz’