Back to Workflows build report for BioC 3.12 |
This page was generated on 2021-05-07 15:45:15 -0400 (Fri, 07 May 2021).
To the developers/maintainers of the arrays package: Please make sure to use the following settings in order to reproduce any error or warning you see on this page. |
Package 2/28 | Hostname | OS / Arch | INSTALL | BUILD | ||||||||
arrays 1.16.0 (landing page) Bioconductor Package Maintainer
| malbec1 | Linux (Ubuntu 18.04.5 LTS) / x86_64 | OK | OK | ![]() | |||||||
Package: arrays |
Version: 1.16.0 |
Command: /home/biocbuild/bbs-3.12-bioc/R/bin/R CMD build --keep-empty-dirs --no-resave-data arrays |
StartedAt: 2021-05-07 09:10:06 -0400 (Fri, 07 May 2021) |
EndedAt: 2021-05-07 09:10:31 -0400 (Fri, 07 May 2021) |
EllapsedTime: 25.0 seconds |
RetCode: 0 |
Status: OK |
PackageFile: arrays_1.16.0.tar.gz |
PackageFileSize: 9.642 MiB |
############################################################################## ############################################################################## ### ### Running command: ### ### /home/biocbuild/bbs-3.12-bioc/R/bin/R CMD build --keep-empty-dirs --no-resave-data arrays ### ############################################################################## ############################################################################## * checking for file ‘arrays/DESCRIPTION’ ... OK * preparing ‘arrays’: * checking DESCRIPTION meta-information ... OK * installing the package to build vignettes * creating vignettes ... OK * checking for LF line-endings in source and make files and shell scripts * checking for empty or unneeded directories * building ‘arrays_1.16.0.tar.gz’