Back to Multiple platform build/check report for BioC 3.13 |
|
This page was generated on 2021-10-15 15:05:36 -0400 (Fri, 15 Oct 2021).
To the developers/maintainers of the BiGGR package: - Please allow up to 24 hours (and sometimes 48 hours) for your latest push to git@git.bioconductor.org:packages/BiGGR.git to reflect on this report. See How and When does the builder pull? When will my changes propagate? here for more information. - Make sure to use the following settings in order to reproduce any error or warning you see on this page. |
Package 149/2041 | Hostname | OS / Arch | INSTALL | BUILD | CHECK | BUILD BIN | ||||||||
BiGGR 1.28.0 (landing page) Anand K. Gavai
| nebbiolo1 | Linux (Ubuntu 20.04.2 LTS) / x86_64 | OK | OK | OK | |||||||||
tokay2 | Windows Server 2012 R2 Standard / x64 | OK | OK | OK | OK | |||||||||
machv2 | macOS 10.14.6 Mojave / x86_64 | ... NOT SUPPORTED ... | ||||||||||||
Package: BiGGR |
Version: 1.28.0 |
Command: /home/biocbuild/bbs-3.13-bioc/R/bin/R CMD check --install=check:BiGGR.install-out.txt --library=/home/biocbuild/bbs-3.13-bioc/R/library --no-vignettes --timings BiGGR_1.28.0.tar.gz |
StartedAt: 2021-10-14 08:59:40 -0400 (Thu, 14 Oct 2021) |
EndedAt: 2021-10-14 09:03:21 -0400 (Thu, 14 Oct 2021) |
EllapsedTime: 220.2 seconds |
RetCode: 0 |
Status: OK |
CheckDir: BiGGR.Rcheck |
Warnings: 0 |
############################################################################## ############################################################################## ### ### Running command: ### ### /home/biocbuild/bbs-3.13-bioc/R/bin/R CMD check --install=check:BiGGR.install-out.txt --library=/home/biocbuild/bbs-3.13-bioc/R/library --no-vignettes --timings BiGGR_1.28.0.tar.gz ### ############################################################################## ############################################################################## * using log directory ‘/home/biocbuild/bbs-3.13-bioc/meat/BiGGR.Rcheck’ * using R version 4.1.1 (2021-08-10) * using platform: x86_64-pc-linux-gnu (64-bit) * using session charset: UTF-8 * using option ‘--no-vignettes’ * checking for file ‘BiGGR/DESCRIPTION’ ... OK * checking extension type ... Package * this is package ‘BiGGR’ version ‘1.28.0’ * checking package namespace information ... OK * checking package dependencies ... OK * checking if this is a source package ... OK * checking if there is a namespace ... OK * checking for hidden files and directories ... NOTE Found the following hidden files and directories: .BBSoptions These were most likely included in error. See section ‘Package structure’ in the ‘Writing R Extensions’ manual. * checking for portable file names ... OK * checking for sufficient/correct file permissions ... OK * checking whether package ‘BiGGR’ can be installed ... OK * checking installed package size ... OK * checking package directory ... OK * checking ‘build’ directory ... OK * checking DESCRIPTION meta-information ... OK * checking top-level files ... OK * checking for left-over files ... OK * checking index information ... OK * checking package subdirectories ... OK * checking R files for non-ASCII characters ... OK * checking R files for syntax errors ... OK * checking whether the package can be loaded ... OK * checking whether the package can be loaded with stated dependencies ... OK * checking whether the package can be unloaded cleanly ... OK * checking whether the namespace can be loaded with stated dependencies ... OK * checking whether the namespace can be unloaded cleanly ... OK * checking dependencies in R code ... NOTE Package in Depends field not imported from: ‘stringr’ These packages need to be imported from (in the NAMESPACE file) for when this namespace is loaded but not attached. * checking S3 generic/method consistency ... OK * checking replacement functions ... OK * checking foreign function calls ... OK * checking R code for possible problems ... NOTE .buildSubModel: no visible global function definition for ‘new’ buildSBMLFromBiGG: no visible global function definition for ‘read.delim’ buildSBMLFromBiGG : <anonymous>: no visible global function definition for ‘new’ buildSBMLFromBiGG: no visible global function definition for ‘new’ createLIMFromSBML: no visible global function definition for ‘hasArg’ gprMapping: no visible global function definition for ‘str_detect’ gprMapping: no visible global function definition for ‘na.omit’ gprMappingAvg: no visible global function definition for ‘na.omit’ sampleFluxEnsemble: no visible global function definition for ‘Xsample’ sbml2hyperdraw : <anonymous>: no visible binding for global variable ‘species’ sbml2hyperdraw: no visible global function definition for ‘hasArg’ sbml2hyperdraw: no visible global function definition for ‘graphLayout’ sbml2hyperdraw: no visible global function definition for ‘nodeDataDefaults<-’ sbml2hyperdraw: no visible global function definition for ‘edgeDataDefaults<-’ sbml2hyperdraw: no visible global function definition for ‘graphDataDefaults<-’ sbml2hyperdraw : <anonymous>: no visible global function definition for ‘edgeData<-’ Undefined global functions or variables: Xsample edgeData<- edgeDataDefaults<- graphDataDefaults<- graphLayout hasArg na.omit new nodeDataDefaults<- read.delim species str_detect Consider adding importFrom("methods", "hasArg", "new") importFrom("stats", "na.omit") importFrom("utils", "read.delim") to your NAMESPACE file (and ensure that your DESCRIPTION Imports field contains 'methods'). * checking Rd files ... OK * checking Rd metadata ... OK * checking Rd cross-references ... OK * checking for missing documentation entries ... OK * checking for code/documentation mismatches ... OK * checking Rd \usage sections ... OK * checking Rd contents ... OK * checking for unstated dependencies in examples ... OK * checking contents of ‘data’ directory ... OK * checking data for non-ASCII characters ... OK * checking data for ASCII and uncompressed saves ... OK * checking installed files from ‘inst/doc’ ... OK * checking files in ‘vignettes’ ... OK * checking examples ... OK Examples with CPU (user + system) or elapsed time > 5s user system elapsed gprMapping 105.117 0.078 105.264 gprMappingAvg 13.358 0.040 13.400 * checking for unstated dependencies in vignettes ... OK * checking package vignettes in ‘inst/doc’ ... OK * checking running R code from vignettes ... SKIPPED * checking re-building of vignette outputs ... SKIPPED * checking PDF version of manual ... OK * DONE Status: 3 NOTEs See ‘/home/biocbuild/bbs-3.13-bioc/meat/BiGGR.Rcheck/00check.log’ for details.
BiGGR.Rcheck/00install.out
############################################################################## ############################################################################## ### ### Running command: ### ### /home/biocbuild/bbs-3.13-bioc/R/bin/R CMD INSTALL BiGGR ### ############################################################################## ############################################################################## * installing to library ‘/home/biocbuild/bbs-3.13-bioc/R/library’ * installing *source* package ‘BiGGR’ ... ** using staged installation ** R ** data ** inst ** byte-compile and prepare package for lazy loading ** help *** installing help indices ** building package indices ** installing vignettes ** testing if installed package can be loaded from temporary location ** testing if installed package can be loaded from final location ** testing if installed package keeps a record of temporary installation path * DONE (BiGGR)
BiGGR.Rcheck/BiGGR-Ex.timings
name | user | system | elapsed | |
BiGGR-package | 2.146 | 0.063 | 2.211 | |
E.coli_iAF1260 | 0.855 | 0.055 | 0.911 | |
E.coli_iJR904 | 0.373 | 0.028 | 0.401 | |
E.coli_textbook | 0.020 | 0.003 | 0.024 | |
H.pylori_ilT341 | 0.197 | 0.012 | 0.210 | |
H.sapiens_Recon1 | 1.465 | 0.100 | 1.565 | |
M.barkeri_iAF692 | 0.200 | 0.016 | 0.216 | |
M.tuberculosis_iNJ661 | 0.284 | 0.020 | 0.304 | |
P.putida_iJN746 | 0.283 | 0.024 | 0.306 | |
Recon2 | 2.129 | 0.204 | 2.333 | |
S.aureus_iSB619 | 0.245 | 0.016 | 0.261 | |
S.cerevisiae_iND750 | 0.299 | 0.072 | 0.371 | |
buildSBMLFromBiGG | 0.075 | 0.025 | 0.101 | |
buildSBMLFromGenes | 4.417 | 0.392 | 4.809 | |
buildSBMLFromPathways | 3.759 | 0.019 | 3.782 | |
buildSBMLFromReactionIDs | 1.874 | 0.012 | 1.887 | |
createLIMFromBiGG | 0.076 | 0.000 | 0.077 | |
createLIMFromSBML | 0.871 | 0.000 | 0.871 | |
extractGeneAssociations | 2.062 | 0.004 | 2.065 | |
extractPathways | 2.192 | 0.000 | 2.193 | |
getPathwaysForSBML | 2.389 | 0.008 | 2.397 | |
getRates | 0.003 | 0.001 | 0.004 | |
gprMapping | 105.117 | 0.078 | 105.264 | |
gprMappingAvg | 13.358 | 0.040 | 13.400 | |
lying.tunell.data | 0.002 | 0.000 | 0.002 | |
rmvSpliceVariant | 2.150 | 0.007 | 2.157 | |
sampleFluxEnsemble | 1.871 | 0.020 | 1.892 | |
sbml2hyperdraw | 1.749 | 0.012 | 1.762 | |