Back to Multiple platform build/check report for BioC 3.13 |
|
This page was generated on 2021-10-15 15:05:36 -0400 (Fri, 15 Oct 2021).
To the developers/maintainers of the BiocSingular package: - Please allow up to 24 hours (and sometimes 48 hours) for your latest push to git@git.bioconductor.org:packages/BiocSingular.git to reflect on this report. See How and When does the builder pull? When will my changes propagate? here for more information. - Make sure to use the following settings in order to reproduce any error or warning you see on this page. |
Package 171/2041 | Hostname | OS / Arch | INSTALL | BUILD | CHECK | BUILD BIN | ||||||||
BiocSingular 1.8.1 (landing page) Aaron Lun
| nebbiolo1 | Linux (Ubuntu 20.04.2 LTS) / x86_64 | OK | OK | OK | ![]() | ||||||||
tokay2 | Windows Server 2012 R2 Standard / x64 | OK | OK | OK | OK | ![]() | ||||||||
machv2 | macOS 10.14.6 Mojave / x86_64 | OK | OK | OK | OK | ![]() | ||||||||
Package: BiocSingular |
Version: 1.8.1 |
Command: /home/biocbuild/bbs-3.13-bioc/R/bin/R CMD INSTALL BiocSingular |
StartedAt: 2021-10-14 06:11:58 -0400 (Thu, 14 Oct 2021) |
EndedAt: 2021-10-14 06:12:24 -0400 (Thu, 14 Oct 2021) |
EllapsedTime: 26.2 seconds |
RetCode: 0 |
Status: OK |
############################################################################## ############################################################################## ### ### Running command: ### ### /home/biocbuild/bbs-3.13-bioc/R/bin/R CMD INSTALL BiocSingular ### ############################################################################## ############################################################################## * installing to library ‘/home/biocbuild/bbs-3.13-bioc/R/library’ * installing *source* package ‘BiocSingular’ ... ** using staged installation ** libs g++ -std=gnu++11 -I"/home/biocbuild/bbs-3.13-bioc/R/include" -DNDEBUG -I'/home/biocbuild/bbs-3.13-bioc/R/library/Rcpp/include' -I'/home/biocbuild/bbs-3.13-bioc/R/library/beachmat/include' -I/usr/local/include -fpic -g -O2 -Wall -c RcppExports.cpp -o RcppExports.o g++ -std=gnu++11 -I"/home/biocbuild/bbs-3.13-bioc/R/include" -DNDEBUG -I'/home/biocbuild/bbs-3.13-bioc/R/library/Rcpp/include' -I'/home/biocbuild/bbs-3.13-bioc/R/library/beachmat/include' -I/usr/local/include -fpic -g -O2 -Wall -c compute_scale.cpp -o compute_scale.o compute_scale.cpp: In function ‘Rcpp::NumericVector compute_scale(Rcpp::RObject, Rcpp::RObject)’: compute_scale.cpp:21:35: warning: comparison of integer expressions of different signedness: ‘R_xlen_t’ {aka ‘long int’} and ‘size_t’ {aka ‘long unsigned int’} [-Wsign-compare] 21 | if (numeric_centers.size()!=ncols) { | ~~~~~~~~~~~~~~~~~~~~~~^~~~~~~ In file included from /home/biocbuild/bbs-3.13-bioc/R/library/beachmat/include/beachmat3/lin_matrix.h:12, from /home/biocbuild/bbs-3.13-bioc/R/library/beachmat/include/beachmat3/read_lin_block.h:11, from /home/biocbuild/bbs-3.13-bioc/R/library/beachmat/include/beachmat3/beachmat.h:24, from compute_scale.cpp:2: /home/biocbuild/bbs-3.13-bioc/R/library/beachmat/include/beachmat3/Csparse_reader.h: In instantiation of ‘beachmat::SparseArraySeed_reader<V, TIT>::SparseArraySeed_reader(Rcpp::RObject) [with V = Rcpp::Vector<13>; TIT = const int*; Rcpp::RObject = Rcpp::RObject_Impl<Rcpp::PreserveStorage>]’: /home/biocbuild/bbs-3.13-bioc/R/library/beachmat/include/beachmat3/lin_matrix.h:561:56: required from ‘beachmat::lin_SparseArraySeed<V, TIT>::lin_SparseArraySeed(Rcpp::RObject) [with V = Rcpp::Vector<13>; TIT = const int*; Rcpp::RObject = Rcpp::RObject_Impl<Rcpp::PreserveStorage>]’ /home/biocbuild/bbs-3.13-bioc/R/library/beachmat/include/beachmat3/read_lin_block.h:36:39: required from ‘std::unique_ptr<_Codecvt> beachmat::read_lin_sparse_block_raw(Rcpp::RObject) [with M = beachmat::lin_matrix; Rcpp::RObject = Rcpp::RObject_Impl<Rcpp::PreserveStorage>]’ /home/biocbuild/bbs-3.13-bioc/R/library/beachmat/include/beachmat3/read_lin_block.h:65:63: required from here /home/biocbuild/bbs-3.13-bioc/R/library/beachmat/include/beachmat3/Csparse_reader.h:535:17: warning: comparison of integer expressions of different signedness: ‘const size_t’ {aka ‘const long unsigned int’} and ‘R_xlen_t’ {aka ‘long int’} [-Wsign-compare] 535 | if (nnz != x.size()) { /home/biocbuild/bbs-3.13-bioc/R/library/beachmat/include/beachmat3/Csparse_reader.h:551:45: warning: comparison of integer expressions of different signedness: ‘int’ and ‘const size_t’ {aka ‘const long unsigned int’} [-Wsign-compare] 551 | if (lastR <= 0 || lastR > NR || lastC <= 0 || lastC > NC) { | ~~~~~~^~~~ /home/biocbuild/bbs-3.13-bioc/R/library/beachmat/include/beachmat3/Csparse_reader.h:551:73: warning: comparison of integer expressions of different signedness: ‘int’ and ‘const size_t’ {aka ‘const long unsigned int’} [-Wsign-compare] 551 | if (lastR <= 0 || lastR > NR || lastC <= 0 || lastC > NC) { | ~~~~~~^~~~ /home/biocbuild/bbs-3.13-bioc/R/library/beachmat/include/beachmat3/Csparse_reader.h:593:35: warning: comparison of integer expressions of different signedness: ‘int’ and ‘const size_t’ {aka ‘const long unsigned int’} [-Wsign-compare] 593 | for (int v = 0; v < nnz; ++v, ++rowIt, ++colIt, ++xIt) { | ~~^~~~~ /home/biocbuild/bbs-3.13-bioc/R/library/beachmat/include/beachmat3/Csparse_reader.h: In instantiation of ‘beachmat::SparseArraySeed_reader<V, TIT>::SparseArraySeed_reader(Rcpp::RObject) [with V = Rcpp::Vector<14, Rcpp::PreserveStorage>; TIT = const double*; Rcpp::RObject = Rcpp::RObject_Impl<Rcpp::PreserveStorage>]’: /home/biocbuild/bbs-3.13-bioc/R/library/beachmat/include/beachmat3/lin_matrix.h:561:56: required from ‘beachmat::lin_SparseArraySeed<V, TIT>::lin_SparseArraySeed(Rcpp::RObject) [with V = Rcpp::Vector<14, Rcpp::PreserveStorage>; TIT = const double*; Rcpp::RObject = Rcpp::RObject_Impl<Rcpp::PreserveStorage>]’ /home/biocbuild/bbs-3.13-bioc/R/library/beachmat/include/beachmat3/read_lin_block.h:38:39: required from ‘std::unique_ptr<_Codecvt> beachmat::read_lin_sparse_block_raw(Rcpp::RObject) [with M = beachmat::lin_matrix; Rcpp::RObject = Rcpp::RObject_Impl<Rcpp::PreserveStorage>]’ /home/biocbuild/bbs-3.13-bioc/R/library/beachmat/include/beachmat3/read_lin_block.h:65:63: required from here /home/biocbuild/bbs-3.13-bioc/R/library/beachmat/include/beachmat3/Csparse_reader.h:535:17: warning: comparison of integer expressions of different signedness: ‘const size_t’ {aka ‘const long unsigned int’} and ‘R_xlen_t’ {aka ‘long int’} [-Wsign-compare] 535 | if (nnz != x.size()) { /home/biocbuild/bbs-3.13-bioc/R/library/beachmat/include/beachmat3/Csparse_reader.h:551:45: warning: comparison of integer expressions of different signedness: ‘int’ and ‘const size_t’ {aka ‘const long unsigned int’} [-Wsign-compare] 551 | if (lastR <= 0 || lastR > NR || lastC <= 0 || lastC > NC) { | ~~~~~~^~~~ /home/biocbuild/bbs-3.13-bioc/R/library/beachmat/include/beachmat3/Csparse_reader.h:551:73: warning: comparison of integer expressions of different signedness: ‘int’ and ‘const size_t’ {aka ‘const long unsigned int’} [-Wsign-compare] 551 | if (lastR <= 0 || lastR > NR || lastC <= 0 || lastC > NC) { | ~~~~~~^~~~ /home/biocbuild/bbs-3.13-bioc/R/library/beachmat/include/beachmat3/Csparse_reader.h:593:35: warning: comparison of integer expressions of different signedness: ‘int’ and ‘const size_t’ {aka ‘const long unsigned int’} [-Wsign-compare] 593 | for (int v = 0; v < nnz; ++v, ++rowIt, ++colIt, ++xIt) { | ~~^~~~~ /home/biocbuild/bbs-3.13-bioc/R/library/beachmat/include/beachmat3/Csparse_reader.h: In instantiation of ‘beachmat::SparseArraySeed_reader<V, TIT>::SparseArraySeed_reader(Rcpp::RObject) [with V = Rcpp::Vector<10, Rcpp::PreserveStorage>; TIT = const int*; Rcpp::RObject = Rcpp::RObject_Impl<Rcpp::PreserveStorage>]’: /home/biocbuild/bbs-3.13-bioc/R/library/beachmat/include/beachmat3/lin_matrix.h:561:56: required from ‘beachmat::lin_SparseArraySeed<V, TIT>::lin_SparseArraySeed(Rcpp::RObject) [with V = Rcpp::Vector<10, Rcpp::PreserveStorage>; TIT = const int*; Rcpp::RObject = Rcpp::RObject_Impl<Rcpp::PreserveStorage>]’ /home/biocbuild/bbs-3.13-bioc/R/library/beachmat/include/beachmat3/read_lin_block.h:40:39: required from ‘std::unique_ptr<_Codecvt> beachmat::read_lin_sparse_block_raw(Rcpp::RObject) [with M = beachmat::lin_matrix; Rcpp::RObject = Rcpp::RObject_Impl<Rcpp::PreserveStorage>]’ /home/biocbuild/bbs-3.13-bioc/R/library/beachmat/include/beachmat3/read_lin_block.h:65:63: required from here /home/biocbuild/bbs-3.13-bioc/R/library/beachmat/include/beachmat3/Csparse_reader.h:535:17: warning: comparison of integer expressions of different signedness: ‘const size_t’ {aka ‘const long unsigned int’} and ‘R_xlen_t’ {aka ‘long int’} [-Wsign-compare] 535 | if (nnz != x.size()) { /home/biocbuild/bbs-3.13-bioc/R/library/beachmat/include/beachmat3/Csparse_reader.h:551:45: warning: comparison of integer expressions of different signedness: ‘int’ and ‘const size_t’ {aka ‘const long unsigned int’} [-Wsign-compare] 551 | if (lastR <= 0 || lastR > NR || lastC <= 0 || lastC > NC) { | ~~~~~~^~~~ /home/biocbuild/bbs-3.13-bioc/R/library/beachmat/include/beachmat3/Csparse_reader.h:551:73: warning: comparison of integer expressions of different signedness: ‘int’ and ‘const size_t’ {aka ‘const long unsigned int’} [-Wsign-compare] 551 | if (lastR <= 0 || lastR > NR || lastC <= 0 || lastC > NC) { | ~~~~~~^~~~ /home/biocbuild/bbs-3.13-bioc/R/library/beachmat/include/beachmat3/Csparse_reader.h:593:35: warning: comparison of integer expressions of different signedness: ‘int’ and ‘const size_t’ {aka ‘const long unsigned int’} [-Wsign-compare] 593 | for (int v = 0; v < nnz; ++v, ++rowIt, ++colIt, ++xIt) { | ~~^~~~~ /home/biocbuild/bbs-3.13-bioc/R/library/beachmat/include/beachmat3/Csparse_reader.h: In instantiation of ‘beachmat::sparse_index<OUT, I> beachmat::Csparse_core<TIT, I, P>::get_row(size_t, ALT, I*, size_t, size_t) [with OUT = const int*; ALT = int*; TIT = const double*; I = int; P = long unsigned int; size_t = long unsigned int]’: /home/biocbuild/bbs-3.13-bioc/R/library/beachmat/include/beachmat3/Csparse_reader.h:650:73: required from ‘beachmat::sparse_index<OUT, int> beachmat::SparseArraySeed_reader<V, TIT>::get_row(size_t, ALT, int*, size_t, size_t) [with OUT = const int*; ALT = int*; V = Rcpp::Vector<14, Rcpp::PreserveStorage>; TIT = const double*; size_t = long unsigned int]’ /home/biocbuild/bbs-3.13-bioc/R/library/beachmat/include/beachmat3/lin_matrix.h:596:82: required from ‘beachmat::sparse_index<const int*, int> beachmat::lin_SparseArraySeed<V, TIT>::get_row(size_t, int*, int*, size_t, size_t) [with V = Rcpp::Vector<14, Rcpp::PreserveStorage>; TIT = const double*; size_t = long unsigned int]’ /home/biocbuild/bbs-3.13-bioc/R/library/beachmat/include/beachmat3/lin_matrix.h:595:35: required from here /home/biocbuild/bbs-3.13-bioc/R/library/beachmat/include/beachmat3/Csparse_reader.h:250:22: warning: comparison of integer expressions of different signedness: ‘const int’ and ‘const long unsigned int’ [-Wsign-compare] 250 | if (idex != *pIt && static_cast<size_t>(i[idex]) == r) { | ~~~~~^~~~~~~ /home/biocbuild/bbs-3.13-bioc/R/library/beachmat/include/beachmat3/Csparse_reader.h: In instantiation of ‘beachmat::sparse_index<OUT, I> beachmat::Csparse_core<TIT, I, P>::get_row(size_t, ALT, I*, size_t, size_t) [with OUT = const double*; ALT = double*; TIT = const double*; I = int; P = long unsigned int; size_t = long unsigned int]’: /home/biocbuild/bbs-3.13-bioc/R/library/beachmat/include/beachmat3/Csparse_reader.h:650:73: required from ‘beachmat::sparse_index<OUT, int> beachmat::SparseArraySeed_reader<V, TIT>::get_row(size_t, ALT, int*, size_t, size_t) [with OUT = const double*; ALT = double*; V = Rcpp::Vector<14, Rcpp::PreserveStorage>; TIT = const double*; size_t = long unsigned int]’ /home/biocbuild/bbs-3.13-bioc/R/library/beachmat/include/beachmat3/lin_matrix.h:602:85: required from ‘beachmat::sparse_index<const double*, int> beachmat::lin_SparseArraySeed<V, TIT>::get_row(size_t, double*, int*, size_t, size_t) [with V = Rcpp::Vector<14, Rcpp::PreserveStorage>; TIT = const double*; size_t = long unsigned int]’ /home/biocbuild/bbs-3.13-bioc/R/library/beachmat/include/beachmat3/lin_matrix.h:601:38: required from here /home/biocbuild/bbs-3.13-bioc/R/library/beachmat/include/beachmat3/Csparse_reader.h:250:22: warning: comparison of integer expressions of different signedness: ‘const int’ and ‘const long unsigned int’ [-Wsign-compare] /home/biocbuild/bbs-3.13-bioc/R/library/beachmat/include/beachmat3/Csparse_reader.h: In instantiation of ‘beachmat::sparse_index<OUT, I> beachmat::Csparse_core<TIT, I, P>::get_row(size_t, ALT, I*, size_t, size_t) [with OUT = const int*; ALT = int*; TIT = const int*; I = int; P = long unsigned int; size_t = long unsigned int]’: /home/biocbuild/bbs-3.13-bioc/R/library/beachmat/include/beachmat3/Csparse_reader.h:650:73: required from ‘beachmat::sparse_index<OUT, int> beachmat::SparseArraySeed_reader<V, TIT>::get_row(size_t, ALT, int*, size_t, size_t) [with OUT = const int*; ALT = int*; V = Rcpp::Vector<10, Rcpp::PreserveStorage>; TIT = const int*; size_t = long unsigned int]’ /home/biocbuild/bbs-3.13-bioc/R/library/beachmat/include/beachmat3/lin_matrix.h:596:82: required from ‘beachmat::sparse_index<const int*, int> beachmat::lin_SparseArraySeed<V, TIT>::get_row(size_t, int*, int*, size_t, size_t) [with V = Rcpp::Vector<10, Rcpp::PreserveStorage>; TIT = const int*; size_t = long unsigned int]’ /home/biocbuild/bbs-3.13-bioc/R/library/beachmat/include/beachmat3/lin_matrix.h:595:35: required from here /home/biocbuild/bbs-3.13-bioc/R/library/beachmat/include/beachmat3/Csparse_reader.h:250:22: warning: comparison of integer expressions of different signedness: ‘const int’ and ‘const long unsigned int’ [-Wsign-compare] /home/biocbuild/bbs-3.13-bioc/R/library/beachmat/include/beachmat3/Csparse_reader.h: In instantiation of ‘beachmat::sparse_index<OUT, I> beachmat::Csparse_core<TIT, I, P>::get_row(size_t, ALT, I*, size_t, size_t) [with OUT = const double*; ALT = double*; TIT = const int*; I = int; P = long unsigned int; size_t = long unsigned int]’: /home/biocbuild/bbs-3.13-bioc/R/library/beachmat/include/beachmat3/Csparse_reader.h:650:73: required from ‘beachmat::sparse_index<OUT, int> beachmat::SparseArraySeed_reader<V, TIT>::get_row(size_t, ALT, int*, size_t, size_t) [with OUT = const double*; ALT = double*; V = Rcpp::Vector<10, Rcpp::PreserveStorage>; TIT = const int*; size_t = long unsigned int]’ /home/biocbuild/bbs-3.13-bioc/R/library/beachmat/include/beachmat3/lin_matrix.h:602:85: required from ‘beachmat::sparse_index<const double*, int> beachmat::lin_SparseArraySeed<V, TIT>::get_row(size_t, double*, int*, size_t, size_t) [with V = Rcpp::Vector<10, Rcpp::PreserveStorage>; TIT = const int*; size_t = long unsigned int]’ /home/biocbuild/bbs-3.13-bioc/R/library/beachmat/include/beachmat3/lin_matrix.h:601:38: required from here /home/biocbuild/bbs-3.13-bioc/R/library/beachmat/include/beachmat3/Csparse_reader.h:250:22: warning: comparison of integer expressions of different signedness: ‘const int’ and ‘const long unsigned int’ [-Wsign-compare] g++ -std=gnu++11 -shared -L/home/biocbuild/bbs-3.13-bioc/R/lib -L/usr/local/lib -o BiocSingular.so RcppExports.o compute_scale.o -L/home/biocbuild/bbs-3.13-bioc/R/lib -lR installing to /home/biocbuild/bbs-3.13-bioc/R/library/00LOCK-BiocSingular/00new/BiocSingular/libs ** R ** inst ** byte-compile and prepare package for lazy loading ** help *** installing help indices ** building package indices ** installing vignettes ** testing if installed package can be loaded from temporary location ** checking absolute paths in shared objects and dynamic libraries ** testing if installed package can be loaded from final location ** testing if installed package keeps a record of temporary installation path * DONE (BiocSingular)