Back to Multiple platform build/check report for BioC 3.13 |
|
This page was generated on 2021-10-15 15:05:39 -0400 (Fri, 15 Oct 2021).
To the developers/maintainers of the DiffBind package: - Please allow up to 24 hours (and sometimes 48 hours) for your latest push to git@git.bioconductor.org:packages/DiffBind.git to reflect on this report. See How and When does the builder pull? When will my changes propagate? here for more information. - Make sure to use the following settings in order to reproduce any error or warning you see on this page. |
Package 495/2041 | Hostname | OS / Arch | INSTALL | BUILD | CHECK | BUILD BIN | ||||||||
DiffBind 3.2.7 (landing page) Rory Stark
| nebbiolo1 | Linux (Ubuntu 20.04.2 LTS) / x86_64 | OK | OK | OK | |||||||||
tokay2 | Windows Server 2012 R2 Standard / x64 | OK | OK | OK | OK | |||||||||
machv2 | macOS 10.14.6 Mojave / x86_64 | OK | OK | OK | OK | |||||||||
Package: DiffBind |
Version: 3.2.7 |
Command: /home/biocbuild/bbs-3.13-bioc/R/bin/R CMD build --keep-empty-dirs --no-resave-data DiffBind |
StartedAt: 2021-10-14 07:07:42 -0400 (Thu, 14 Oct 2021) |
EndedAt: 2021-10-14 07:12:35 -0400 (Thu, 14 Oct 2021) |
EllapsedTime: 292.2 seconds |
RetCode: 0 |
Status: OK |
PackageFile: DiffBind_3.2.7.tar.gz |
PackageFileSize: 6.44 MiB |
############################################################################## ############################################################################## ### ### Running command: ### ### /home/biocbuild/bbs-3.13-bioc/R/bin/R CMD build --keep-empty-dirs --no-resave-data DiffBind ### ############################################################################## ############################################################################## * checking for file ‘DiffBind/DESCRIPTION’ ... OK * preparing ‘DiffBind’: * checking DESCRIPTION meta-information ... OK * cleaning src * installing the package to build vignettes * creating vignettes ... OK * cleaning src * checking for LF line-endings in source and make files and shell scripts * checking for empty or unneeded directories * looking to see if a ‘data/datalist’ file should be added * building ‘DiffBind_3.2.7.tar.gz’