Back to Multiple platform build/check report for BioC 3.13 |
|
This page was generated on 2021-10-15 15:05:39 -0400 (Fri, 15 Oct 2021).
To the developers/maintainers of the EBSeqHMM package: - Please allow up to 24 hours (and sometimes 48 hours) for your latest push to git@git.bioconductor.org:packages/EBSeqHMM.git to reflect on this report. See How and When does the builder pull? When will my changes propagate? here for more information. - Make sure to use the following settings in order to reproduce any error or warning you see on this page. |
Package 552/2041 | Hostname | OS / Arch | INSTALL | BUILD | CHECK | BUILD BIN | ||||||||
EBSeqHMM 1.26.0 (landing page) Ning Leng
| nebbiolo1 | Linux (Ubuntu 20.04.2 LTS) / x86_64 | OK | OK | OK | ![]() | ||||||||
tokay2 | Windows Server 2012 R2 Standard / x64 | OK | OK | OK | OK | ![]() | ||||||||
machv2 | macOS 10.14.6 Mojave / x86_64 | OK | OK | OK | OK | ![]() | ||||||||
Package: EBSeqHMM |
Version: 1.26.0 |
Command: /home/biocbuild/bbs-3.13-bioc/R/bin/R CMD check --install=check:EBSeqHMM.install-out.txt --library=/home/biocbuild/bbs-3.13-bioc/R/library --no-vignettes --timings EBSeqHMM_1.26.0.tar.gz |
StartedAt: 2021-10-14 09:41:42 -0400 (Thu, 14 Oct 2021) |
EndedAt: 2021-10-14 09:42:24 -0400 (Thu, 14 Oct 2021) |
EllapsedTime: 42.0 seconds |
RetCode: 0 |
Status: OK |
CheckDir: EBSeqHMM.Rcheck |
Warnings: 0 |
############################################################################## ############################################################################## ### ### Running command: ### ### /home/biocbuild/bbs-3.13-bioc/R/bin/R CMD check --install=check:EBSeqHMM.install-out.txt --library=/home/biocbuild/bbs-3.13-bioc/R/library --no-vignettes --timings EBSeqHMM_1.26.0.tar.gz ### ############################################################################## ############################################################################## * using log directory ‘/home/biocbuild/bbs-3.13-bioc/meat/EBSeqHMM.Rcheck’ * using R version 4.1.1 (2021-08-10) * using platform: x86_64-pc-linux-gnu (64-bit) * using session charset: UTF-8 * using option ‘--no-vignettes’ * checking for file ‘EBSeqHMM/DESCRIPTION’ ... OK * checking extension type ... Package * this is package ‘EBSeqHMM’ version ‘1.26.0’ * checking package namespace information ... OK * checking package dependencies ... OK * checking if this is a source package ... OK * checking if there is a namespace ... OK * checking for hidden files and directories ... OK * checking for portable file names ... OK * checking for sufficient/correct file permissions ... OK * checking whether package ‘EBSeqHMM’ can be installed ... OK * checking installed package size ... OK * checking package directory ... OK * checking ‘build’ directory ... OK * checking DESCRIPTION meta-information ... OK * checking top-level files ... OK * checking for left-over files ... OK * checking index information ... OK * checking package subdirectories ... OK * checking R files for non-ASCII characters ... OK * checking R files for syntax errors ... OK * checking whether the package can be loaded ... OK * checking whether the package can be loaded with stated dependencies ... OK * checking whether the package can be unloaded cleanly ... OK * checking whether the namespace can be loaded with stated dependencies ... OK * checking whether the namespace can be unloaded cleanly ... OK * checking dependencies in R code ... OK * checking S3 generic/method consistency ... OK * checking replacement functions ... OK * checking foreign function calls ... OK * checking R code for possible problems ... NOTE EBHMMNBfun: no visible binding for global variable ‘median’ EBHMMNBfun : <anonymous>: no visible global function definition for ‘quantile’ EBHMMNBfun: no visible global function definition for ‘optim’ EBHMMNBfunForMulti: no visible binding for global variable ‘median’ EBHMMNBfunForMulti : <anonymous>: no visible global function definition for ‘quantile’ EBHMMNBfunForMulti: no visible global function definition for ‘optim’ EBSeqHMMTest : <anonymous>: no visible global function definition for ‘quantile’ EBTest_ext: no visible global function definition for ‘quantile’ EBTest_ext: no visible binding for global variable ‘var’ PlotExp: no visible global function definition for ‘axis’ PlotExp : <anonymous>: no visible global function definition for ‘median’ PlotExp: no visible global function definition for ‘lines’ beta.mom: no visible global function definition for ‘var’ Undefined global functions or variables: axis lines median optim quantile var Consider adding importFrom("graphics", "axis", "lines") importFrom("stats", "median", "optim", "quantile", "var") to your NAMESPACE file. * checking Rd files ... OK * checking Rd metadata ... OK * checking Rd cross-references ... OK * checking for missing documentation entries ... OK * checking for code/documentation mismatches ... OK * checking Rd \usage sections ... OK * checking Rd contents ... OK * checking for unstated dependencies in examples ... OK * checking contents of ‘data’ directory ... OK * checking data for non-ASCII characters ... OK * checking data for ASCII and uncompressed saves ... OK * checking files in ‘vignettes’ ... OK * checking examples ... OK * checking for unstated dependencies in vignettes ... OK * checking package vignettes in ‘inst/doc’ ... OK * checking running R code from vignettes ... SKIPPED * checking re-building of vignette outputs ... SKIPPED * checking PDF version of manual ... OK * DONE Status: 1 NOTE See ‘/home/biocbuild/bbs-3.13-bioc/meat/EBSeqHMM.Rcheck/00check.log’ for details.
EBSeqHMM.Rcheck/00install.out
############################################################################## ############################################################################## ### ### Running command: ### ### /home/biocbuild/bbs-3.13-bioc/R/bin/R CMD INSTALL EBSeqHMM ### ############################################################################## ############################################################################## * installing to library ‘/home/biocbuild/bbs-3.13-bioc/R/library’ * installing *source* package ‘EBSeqHMM’ ... ** using staged installation ** R ** data ** demo ** byte-compile and prepare package for lazy loading ** help *** installing help indices ** building package indices ** installing vignettes ** testing if installed package can be loaded from temporary location ** testing if installed package can be loaded from final location ** testing if installed package keeps a record of temporary installation path * DONE (EBSeqHMM)
EBSeqHMM.Rcheck/EBSeqHMM-Ex.timings
name | user | system | elapsed | |
EBHMMNBMultiEM_2chain | 0.445 | 0.025 | 0.469 | |
EBHMMNBfun | 0.040 | 0.000 | 0.039 | |
EBHMMNBfunForMulti | 0.177 | 0.007 | 0.184 | |
EBSeqHMM-package | 0.438 | 0.009 | 0.446 | |
EBSeqHMMTest | 0.408 | 0.003 | 0.411 | |
EBTest_ext | 0.071 | 0.001 | 0.071 | |
GeneExampleData | 0.003 | 0.003 | 0.006 | |
GetAllPaths | 0.414 | 0.000 | 0.414 | |
GetConfidentCalls | 0.430 | 0.001 | 0.430 | |
GetDECalls | 0.428 | 0.004 | 0.432 | |
IsoExampleList | 0.003 | 0.003 | 0.006 | |
LikefunNBHMM | 0.005 | 0.001 | 0.005 | |
PlotExp | 0.005 | 0.000 | 0.005 | |
beta.mom | 0 | 0 | 0 | |
f0 | 0.000 | 0.001 | 0.001 | |