Back to Multiple platform build/check report for BioC 3.13 |
|
This page was generated on 2021-10-15 15:05:45 -0400 (Fri, 15 Oct 2021).
To the developers/maintainers of the MMDiff2 package: - Please allow up to 24 hours (and sometimes 48 hours) for your latest push to git@git.bioconductor.org:packages/MMDiff2.git to reflect on this report. See How and When does the builder pull? When will my changes propagate? here for more information. - Make sure to use the following settings in order to reproduce any error or warning you see on this page. |
Package 1166/2041 | Hostname | OS / Arch | INSTALL | BUILD | CHECK | BUILD BIN | ||||||||
MMDiff2 1.20.0 (landing page) Gabriele Schweikert
| nebbiolo1 | Linux (Ubuntu 20.04.2 LTS) / x86_64 | OK | OK | OK | ![]() | ||||||||
tokay2 | Windows Server 2012 R2 Standard / x64 | OK | OK | WARNINGS | OK | ![]() | ||||||||
machv2 | macOS 10.14.6 Mojave / x86_64 | OK | OK | OK | OK | ![]() | ||||||||
Package: MMDiff2 |
Version: 1.20.0 |
Command: /home/biocbuild/bbs-3.13-bioc/R/bin/R CMD check --install=check:MMDiff2.install-out.txt --library=/home/biocbuild/bbs-3.13-bioc/R/library --no-vignettes --timings MMDiff2_1.20.0.tar.gz |
StartedAt: 2021-10-14 10:39:26 -0400 (Thu, 14 Oct 2021) |
EndedAt: 2021-10-14 10:43:39 -0400 (Thu, 14 Oct 2021) |
EllapsedTime: 253.7 seconds |
RetCode: 0 |
Status: OK |
CheckDir: MMDiff2.Rcheck |
Warnings: 0 |
############################################################################## ############################################################################## ### ### Running command: ### ### /home/biocbuild/bbs-3.13-bioc/R/bin/R CMD check --install=check:MMDiff2.install-out.txt --library=/home/biocbuild/bbs-3.13-bioc/R/library --no-vignettes --timings MMDiff2_1.20.0.tar.gz ### ############################################################################## ############################################################################## * using log directory ‘/home/biocbuild/bbs-3.13-bioc/meat/MMDiff2.Rcheck’ * using R version 4.1.1 (2021-08-10) * using platform: x86_64-pc-linux-gnu (64-bit) * using session charset: UTF-8 * using option ‘--no-vignettes’ * checking for file ‘MMDiff2/DESCRIPTION’ ... OK * checking extension type ... Package * this is package ‘MMDiff2’ version ‘1.20.0’ * checking package namespace information ... OK * checking package dependencies ... OK * checking if this is a source package ... OK * checking if there is a namespace ... OK * checking for hidden files and directories ... NOTE Found the following hidden files and directories: .BBSoptions These were most likely included in error. See section ‘Package structure’ in the ‘Writing R Extensions’ manual. * checking for portable file names ... OK * checking for sufficient/correct file permissions ... OK * checking whether package ‘MMDiff2’ can be installed ... OK * checking installed package size ... OK * checking package directory ... OK * checking ‘build’ directory ... OK * checking DESCRIPTION meta-information ... OK * checking top-level files ... OK * checking for left-over files ... OK * checking index information ... OK * checking package subdirectories ... OK * checking R files for non-ASCII characters ... OK * checking R files for syntax errors ... OK * checking whether the package can be loaded ... OK * checking whether the package can be loaded with stated dependencies ... OK * checking whether the package can be unloaded cleanly ... OK * checking whether the namespace can be loaded with stated dependencies ... OK * checking whether the namespace can be unloaded cleanly ... OK * checking dependencies in R code ... NOTE Namespace in Imports field not imported from: ‘methods’ All declared Imports should be used. * checking S3 generic/method consistency ... OK * checking replacement functions ... OK * checking foreign function calls ... OK * checking R code for possible problems ... NOTE DBAmmd: no visible global function definition for ‘new’ getReads: no visible global function definition for ‘IRangesList’ Undefined global functions or variables: IRangesList new Consider adding importFrom("methods", "new") to your NAMESPACE file (and ensure that your DESCRIPTION Imports field contains 'methods'). * checking Rd files ... OK * checking Rd metadata ... OK * checking Rd cross-references ... OK * checking for missing documentation entries ... OK * checking for code/documentation mismatches ... OK * checking Rd \usage sections ... OK * checking Rd contents ... OK * checking for unstated dependencies in examples ... OK * checking contents of ‘data’ directory ... OK * checking data for non-ASCII characters ... OK * checking data for ASCII and uncompressed saves ... OK * checking files in ‘vignettes’ ... OK * checking examples ... OK Examples with CPU (user + system) or elapsed time > 5s user system elapsed compDists 21.974 1.600 23.577 DBAmmd-Accessors 7.170 0.948 8.118 plotPeak 5.841 0.464 6.306 * checking for unstated dependencies in vignettes ... OK * checking package vignettes in ‘inst/doc’ ... OK * checking running R code from vignettes ... SKIPPED * checking re-building of vignette outputs ... SKIPPED * checking PDF version of manual ... OK * DONE Status: 3 NOTEs See ‘/home/biocbuild/bbs-3.13-bioc/meat/MMDiff2.Rcheck/00check.log’ for details.
MMDiff2.Rcheck/00install.out
############################################################################## ############################################################################## ### ### Running command: ### ### /home/biocbuild/bbs-3.13-bioc/R/bin/R CMD INSTALL MMDiff2 ### ############################################################################## ############################################################################## * installing to library ‘/home/biocbuild/bbs-3.13-bioc/R/library’ * installing *source* package ‘MMDiff2’ ... ** using staged installation ** R ** data ** byte-compile and prepare package for lazy loading ** help *** installing help indices ** building package indices ** installing vignettes ** testing if installed package can be loaded from temporary location ** testing if installed package can be loaded from final location ** testing if installed package keeps a record of temporary installation path * DONE (MMDiff2)
MMDiff2.Rcheck/MMDiff2-Ex.timings
name | user | system | elapsed | |
Cfp1-Peaks | 0.001 | 0.000 | 0.001 | |
DBAmmd-Accessors | 7.170 | 0.948 | 8.118 | |
DBAmmd-class | 0.036 | 0.000 | 0.037 | |
MMD | 0.001 | 0.000 | 0.001 | |
compDists | 21.974 | 1.600 | 23.577 | |
compHists | 2.664 | 0.164 | 2.829 | |
compPvals | 2.049 | 0.191 | 2.242 | |
estimateFragmentCenters | 1.383 | 0.156 | 1.540 | |
getPeakReads | 0.288 | 0.005 | 0.314 | |
mm9-Genes | 0 | 0 | 0 | |
plotDISTS4Peak | 1.115 | 0.202 | 1.317 | |
plotDists | 1.081 | 0.180 | 1.262 | |
plotPeak | 5.841 | 0.464 | 6.306 | |
reportResults | 1.091 | 0.152 | 1.243 | |
runShinyMMDiff2 | 0 | 0 | 0 | |
server.MMDiff2 | 0 | 0 | 0 | |
ui.MMDiff2 | 0 | 0 | 0 | |